BEGIN:VCALENDAR
VERSION:2.0
PRODID:spatie/icalendar-generator
NAME:Sanierung Friedhof Schwerzenbach
X-WR-CALNAME:Sanierung Friedhof Schwerzenbach
BEGIN:VTIMEZONE
TZID:Europe/Zurich
BEGIN:STANDARD
DTSTART:20241027T030000
TZOFFSETFROM:+0200
TZOFFSETTO:+0100
END:STANDARD
BEGIN:DAYLIGHT
DTSTART:20250330T010000
TZOFFSETFROM:+0100
TZOFFSETTO:+0200
END:DAYLIGHT
BEGIN:STANDARD
DTSTART:20251026T030000
TZOFFSETFROM:+0200
TZOFFSETTO:+0100
END:STANDARD
END:VTIMEZONE
BEGIN:VTIMEZONE
TZID:UTC
BEGIN:STANDARD
DTSTART:20250727T115415
TZOFFSETFROM:+0000
TZOFFSETTO:+0000
END:STANDARD
END:VTIMEZONE
BEGIN:VEVENT
UID:69ea08678f1f9
DTSTAMP:20260423T115415Z
SUMMARY:KONKURADO: Sanierung Friedhof Schwerzenbach\, Einreichung der Teiln
 ahmeanträge / Bewerbungen 07.01.2025 - 07.02.2025
DESCRIPTION:Link zum Verfahren: https://konkurado.ch/en/sanierung-friedhof-
 schwerzenbach
X-MICROSOFT-CDO-ALLDAYEVENT:TRUE
DTSTART;TZID=Europe/Zurich;VALUE=DATE:20250107
END:VEVENT
BEGIN:VEVENT
UID:69ea08678f291
DTSTAMP:20260423T115415Z
SUMMARY:KONKURADO: Sanierung Friedhof Schwerzenbach\, Einreichung der Teiln
 ahmeanträge / Bewerbungen 07.01.2025 - 07.02.2025
DESCRIPTION:Link zum Verfahren: https://konkurado.ch/en/sanierung-friedhof-
 schwerzenbach
X-MICROSOFT-CDO-ALLDAYEVENT:TRUE
DTSTART;TZID=Europe/Zurich;VALUE=DATE:20250207
END:VEVENT
BEGIN:VEVENT
UID:69ea08678f3e1
DTSTAMP:20260423T115415Z
SUMMARY:KONKURADO: Sanierung Friedhof Schwerzenbach\, Begehung 25.03.2025 -
  25.03.2025
DESCRIPTION:Link zum Verfahren: https://konkurado.ch/en/sanierung-friedhof-
 schwerzenbach
X-MICROSOFT-CDO-ALLDAYEVENT:TRUE
DTSTART;TZID=Europe/Zurich;VALUE=DATE:20250325
END:VEVENT
BEGIN:VEVENT
UID:69ea08678f40d
DTSTAMP:20260423T115415Z
SUMMARY:KONKURADO: Sanierung Friedhof Schwerzenbach\, Begehung 25.03.2025 -
  25.03.2025
DESCRIPTION:Link zum Verfahren: https://konkurado.ch/en/sanierung-friedhof-
 schwerzenbach
X-MICROSOFT-CDO-ALLDAYEVENT:TRUE
DTSTART;TZID=Europe/Zurich;VALUE=DATE:20250325
END:VEVENT
BEGIN:VEVENT
UID:69ea08678f446
DTSTAMP:20260423T115415Z
SUMMARY:KONKURADO: Sanierung Friedhof Schwerzenbach\, Frist für Eingang sc
 hriftlicher Fragen 21.03.2025 - 28.03.2025
DESCRIPTION:Link zum Verfahren: https://konkurado.ch/en/sanierung-friedhof-
 schwerzenbach
X-MICROSOFT-CDO-ALLDAYEVENT:TRUE
DTSTART;TZID=Europe/Zurich;VALUE=DATE:20250321
END:VEVENT
BEGIN:VEVENT
UID:69ea08678f46b
DTSTAMP:20260423T115415Z
SUMMARY:KONKURADO: Sanierung Friedhof Schwerzenbach\, Frist für Eingang sc
 hriftlicher Fragen 21.03.2025 - 28.03.2025
DESCRIPTION:Link zum Verfahren: https://konkurado.ch/en/sanierung-friedhof-
 schwerzenbach
X-MICROSOFT-CDO-ALLDAYEVENT:TRUE
DTSTART;TZID=Europe/Zurich;VALUE=DATE:20250328
END:VEVENT
BEGIN:VEVENT
UID:69ea08678f49e
DTSTAMP:20260423T115415Z
SUMMARY:KONKURADO: Sanierung Friedhof Schwerzenbach\, Frist für Eingang An
 gebot 21.03.2025 - 30.05.2025
DESCRIPTION:Link zum Verfahren: https://konkurado.ch/en/sanierung-friedhof-
 schwerzenbach
X-MICROSOFT-CDO-ALLDAYEVENT:TRUE
DTSTART;TZID=Europe/Zurich;VALUE=DATE:20250321
END:VEVENT
BEGIN:VEVENT
UID:69ea08678f4c2
DTSTAMP:20260423T115415Z
SUMMARY:KONKURADO: Sanierung Friedhof Schwerzenbach\, Frist für Eingang An
 gebot 21.03.2025 - 30.05.2025
DESCRIPTION:Link zum Verfahren: https://konkurado.ch/en/sanierung-friedhof-
 schwerzenbach
X-MICROSOFT-CDO-ALLDAYEVENT:TRUE
DTSTART;TZID=Europe/Zurich;VALUE=DATE:20250530
END:VEVENT
BEGIN:VEVENT
UID:69ea08678f500
DTSTAMP:20260423T115415Z
SUMMARY:KONKURADO: Sanierung Friedhof Schwerzenbach\, Präsentation (Planer
 teams) / Beurteilung Angebot 19.06.2025 - 19.06.2025
DESCRIPTION:Link zum Verfahren: https://konkurado.ch/en/sanierung-friedhof-
 schwerzenbach
X-MICROSOFT-CDO-ALLDAYEVENT:TRUE
DTSTART;TZID=Europe/Zurich;VALUE=DATE:20250619
END:VEVENT
BEGIN:VEVENT
UID:69ea08678f524
DTSTAMP:20260423T115415Z
SUMMARY:KONKURADO: Sanierung Friedhof Schwerzenbach\, Präsentation (Planer
 teams) / Beurteilung Angebot 19.06.2025 - 19.06.2025
DESCRIPTION:Link zum Verfahren: https://konkurado.ch/en/sanierung-friedhof-
 schwerzenbach
X-MICROSOFT-CDO-ALLDAYEVENT:TRUE
DTSTART;TZID=Europe/Zurich;VALUE=DATE:20250619
END:VEVENT
BEGIN:VEVENT
UID:69ea08678f585
DTSTAMP:20260423T115415Z
SUMMARY:KONKURADO: Sanierung Friedhof Schwerzenbach\, Selektion 08.02.2025 
 - 05.03.2025
DESCRIPTION:Link zum Verfahren: https://konkurado.ch/en/sanierung-friedhof-
 schwerzenbach
X-MICROSOFT-CDO-ALLDAYEVENT:TRUE
DTSTART;TZID=Europe/Zurich;VALUE=DATE:20250208
END:VEVENT
BEGIN:VEVENT
UID:69ea08678f5ac
DTSTAMP:20260423T115415Z
SUMMARY:KONKURADO: Sanierung Friedhof Schwerzenbach\, Selektion 08.02.2025 
 - 05.03.2025
DESCRIPTION:Link zum Verfahren: https://konkurado.ch/en/sanierung-friedhof-
 schwerzenbach
X-MICROSOFT-CDO-ALLDAYEVENT:TRUE
DTSTART;TZID=Europe/Zurich;VALUE=DATE:20250305
END:VEVENT
BEGIN:VEVENT
UID:69ea08678f601
DTSTAMP:20260423T115415Z
SUMMARY:KONKURADO: Sanierung Friedhof Schwerzenbach\, Benachrichtigung Bewe
 rber durch Verfügung 14.03.2025 - 14.03.2025
DESCRIPTION:Link zum Verfahren: https://konkurado.ch/en/sanierung-friedhof-
 schwerzenbach
X-MICROSOFT-CDO-ALLDAYEVENT:TRUE
DTSTART;TZID=Europe/Zurich;VALUE=DATE:20250314
END:VEVENT
BEGIN:VEVENT
UID:69ea08678f627
DTSTAMP:20260423T115415Z
SUMMARY:KONKURADO: Sanierung Friedhof Schwerzenbach\, Benachrichtigung Bewe
 rber durch Verfügung 14.03.2025 - 14.03.2025
DESCRIPTION:Link zum Verfahren: https://konkurado.ch/en/sanierung-friedhof-
 schwerzenbach
X-MICROSOFT-CDO-ALLDAYEVENT:TRUE
DTSTART;TZID=Europe/Zurich;VALUE=DATE:20250314
END:VEVENT
BEGIN:VEVENT
UID:69ea08678f680
DTSTAMP:20260423T115415Z
SUMMARY:KONKURADO: Sanierung Friedhof Schwerzenbach\, Einreichung Teilnahme
 bestätigung 20.03.2025 - 20.03.2025
DESCRIPTION:Link zum Verfahren: https://konkurado.ch/en/sanierung-friedhof-
 schwerzenbach
X-MICROSOFT-CDO-ALLDAYEVENT:TRUE
DTSTART;TZID=Europe/Zurich;VALUE=DATE:20250320
END:VEVENT
BEGIN:VEVENT
UID:69ea08678f6a6
DTSTAMP:20260423T115415Z
SUMMARY:KONKURADO: Sanierung Friedhof Schwerzenbach\, Einreichung Teilnahme
 bestätigung 20.03.2025 - 20.03.2025
DESCRIPTION:Link zum Verfahren: https://konkurado.ch/en/sanierung-friedhof-
 schwerzenbach
X-MICROSOFT-CDO-ALLDAYEVENT:TRUE
DTSTART;TZID=Europe/Zurich;VALUE=DATE:20250320
END:VEVENT
BEGIN:VEVENT
UID:69ea08678f6fb
DTSTAMP:20260423T115415Z
SUMMARY:KONKURADO: Sanierung Friedhof Schwerzenbach\, Ausgabe Planungsgrund
 lagen 21.03.2025 - 21.03.2025
DESCRIPTION:Link zum Verfahren: https://konkurado.ch/en/sanierung-friedhof-
 schwerzenbach
X-MICROSOFT-CDO-ALLDAYEVENT:TRUE
DTSTART;TZID=Europe/Zurich;VALUE=DATE:20250321
END:VEVENT
BEGIN:VEVENT
UID:69ea08678f726
DTSTAMP:20260423T115415Z
SUMMARY:KONKURADO: Sanierung Friedhof Schwerzenbach\, Ausgabe Planungsgrund
 lagen 21.03.2025 - 21.03.2025
DESCRIPTION:Link zum Verfahren: https://konkurado.ch/en/sanierung-friedhof-
 schwerzenbach
X-MICROSOFT-CDO-ALLDAYEVENT:TRUE
DTSTART;TZID=Europe/Zurich;VALUE=DATE:20250321
END:VEVENT
BEGIN:VEVENT
UID:69ea08678f796
DTSTAMP:20260423T115415Z
SUMMARY:KONKURADO: Sanierung Friedhof Schwerzenbach\, Versand der Beantwort
 ung aller gesammelten Fragen 29.03.2025 - 11.04.2025
DESCRIPTION:Link zum Verfahren: https://konkurado.ch/en/sanierung-friedhof-
 schwerzenbach
X-MICROSOFT-CDO-ALLDAYEVENT:TRUE
DTSTART;TZID=Europe/Zurich;VALUE=DATE:20250329
END:VEVENT
BEGIN:VEVENT
UID:69ea08678f7bd
DTSTAMP:20260423T115415Z
SUMMARY:KONKURADO: Sanierung Friedhof Schwerzenbach\, Versand der Beantwort
 ung aller gesammelten Fragen 29.03.2025 - 11.04.2025
DESCRIPTION:Link zum Verfahren: https://konkurado.ch/en/sanierung-friedhof-
 schwerzenbach
X-MICROSOFT-CDO-ALLDAYEVENT:TRUE
DTSTART;TZID=Europe/Zurich;VALUE=DATE:20250411
END:VEVENT
END:VCALENDAR