BEGIN:VCALENDAR
VERSION:2.0
PRODID:spatie/icalendar-generator
NAME:Sanierung Feuerwehrmagazin Schwarzenburg
X-WR-CALNAME:Sanierung Feuerwehrmagazin Schwarzenburg
BEGIN:VTIMEZONE
TZID:Europe/Zurich
BEGIN:STANDARD
DTSTART:20251026T030000
TZOFFSETFROM:+0200
TZOFFSETTO:+0100
END:STANDARD
BEGIN:DAYLIGHT
DTSTART:20260329T010000
TZOFFSETFROM:+0100
TZOFFSETTO:+0200
END:DAYLIGHT
BEGIN:STANDARD
DTSTART:20261025T030000
TZOFFSETFROM:+0200
TZOFFSETTO:+0100
END:STANDARD
END:VTIMEZONE
BEGIN:VTIMEZONE
TZID:UTC
BEGIN:STANDARD
DTSTART:20250727T101711
TZOFFSETFROM:+0000
TZOFFSETTO:+0000
END:STANDARD
END:VTIMEZONE
BEGIN:VEVENT
UID:69e9f1a78090a
DTSTAMP:20260423T101711Z
SUMMARY:KONKURADO: Sanierung Feuerwehrmagazin Schwarzenburg\, Fragerunde\, 
 einreichen bis 06.05.2026 - 06.05.2026
DESCRIPTION:Link zum Verfahren: https://konkurado.ch/en/sanierung-feuerwehr
 magazin-schwarzenburg
X-MICROSOFT-CDO-ALLDAYEVENT:TRUE
DTSTART;TZID=Europe/Zurich;VALUE=DATE:20260506
END:VEVENT
BEGIN:VEVENT
UID:69e9f1a780978
DTSTAMP:20260423T101711Z
SUMMARY:KONKURADO: Sanierung Feuerwehrmagazin Schwarzenburg\, Fragerunde\, 
 einreichen bis 06.05.2026 - 06.05.2026
DESCRIPTION:Link zum Verfahren: https://konkurado.ch/en/sanierung-feuerwehr
 magazin-schwarzenburg
X-MICROSOFT-CDO-ALLDAYEVENT:TRUE
DTSTART;TZID=Europe/Zurich;VALUE=DATE:20260506
END:VEVENT
BEGIN:VEVENT
UID:69e9f1a7809ec
DTSTAMP:20260423T101711Z
SUMMARY:KONKURADO: Sanierung Feuerwehrmagazin Schwarzenburg\, Einreichen de
 s Teilnahmeantrags 12.06.2026 - 12.06.2026
DESCRIPTION:Link zum Verfahren: https://konkurado.ch/en/sanierung-feuerwehr
 magazin-schwarzenburg
X-MICROSOFT-CDO-ALLDAYEVENT:TRUE
DTSTART;TZID=Europe/Zurich;VALUE=DATE:20260612
END:VEVENT
BEGIN:VEVENT
UID:69e9f1a780a17
DTSTAMP:20260423T101711Z
SUMMARY:KONKURADO: Sanierung Feuerwehrmagazin Schwarzenburg\, Einreichen de
 s Teilnahmeantrags 12.06.2026 - 12.06.2026
DESCRIPTION:Link zum Verfahren: https://konkurado.ch/en/sanierung-feuerwehr
 magazin-schwarzenburg
X-MICROSOFT-CDO-ALLDAYEVENT:TRUE
DTSTART;TZID=Europe/Zurich;VALUE=DATE:20260612
END:VEVENT
BEGIN:VEVENT
UID:69e9f1a780a6f
DTSTAMP:20260423T101711Z
SUMMARY:KONKURADO: Sanierung Feuerwehrmagazin Schwarzenburg\, Offertöffnun
 g 15.06.2026 - 15.06.2026
DESCRIPTION:Link zum Verfahren: https://konkurado.ch/en/sanierung-feuerwehr
 magazin-schwarzenburg
X-MICROSOFT-CDO-ALLDAYEVENT:TRUE
DTSTART;TZID=Europe/Zurich;VALUE=DATE:20260615
END:VEVENT
BEGIN:VEVENT
UID:69e9f1a780a95
DTSTAMP:20260423T101711Z
SUMMARY:KONKURADO: Sanierung Feuerwehrmagazin Schwarzenburg\, Offertöffnun
 g 15.06.2026 - 15.06.2026
DESCRIPTION:Link zum Verfahren: https://konkurado.ch/en/sanierung-feuerwehr
 magazin-schwarzenburg
X-MICROSOFT-CDO-ALLDAYEVENT:TRUE
DTSTART;TZID=Europe/Zurich;VALUE=DATE:20260615
END:VEVENT
BEGIN:VEVENT
UID:69e9f1a780aca
DTSTAMP:20260423T101711Z
SUMMARY:KONKURADO: Sanierung Feuerwehrmagazin Schwarzenburg\, Beantwortung 
 der Fragen bis 15.05.2026 - 15.05.2026
DESCRIPTION:Link zum Verfahren: https://konkurado.ch/en/sanierung-feuerwehr
 magazin-schwarzenburg
X-MICROSOFT-CDO-ALLDAYEVENT:TRUE
DTSTART;TZID=Europe/Zurich;VALUE=DATE:20260515
END:VEVENT
BEGIN:VEVENT
UID:69e9f1a780aef
DTSTAMP:20260423T101711Z
SUMMARY:KONKURADO: Sanierung Feuerwehrmagazin Schwarzenburg\, Beantwortung 
 der Fragen bis 15.05.2026 - 15.05.2026
DESCRIPTION:Link zum Verfahren: https://konkurado.ch/en/sanierung-feuerwehr
 magazin-schwarzenburg
X-MICROSOFT-CDO-ALLDAYEVENT:TRUE
DTSTART;TZID=Europe/Zurich;VALUE=DATE:20260515
END:VEVENT
END:VCALENDAR