BEGIN:VCALENDAR
VERSION:2.0
PRODID:spatie/icalendar-generator
NAME:Studienauftrag Sporthallen Sonnenhof
X-WR-CALNAME:Studienauftrag Sporthallen Sonnenhof
BEGIN:VTIMEZONE
TZID:Europe/Zurich
BEGIN:STANDARD
DTSTART:20241027T030000
TZOFFSETFROM:+0200
TZOFFSETTO:+0100
END:STANDARD
BEGIN:DAYLIGHT
DTSTART:20250330T010000
TZOFFSETFROM:+0100
TZOFFSETTO:+0200
END:DAYLIGHT
BEGIN:STANDARD
DTSTART:20251026T030000
TZOFFSETFROM:+0200
TZOFFSETTO:+0100
END:STANDARD
BEGIN:DAYLIGHT
DTSTART:20260329T010000
TZOFFSETFROM:+0100
TZOFFSETTO:+0200
END:DAYLIGHT
END:VTIMEZONE
BEGIN:VTIMEZONE
TZID:UTC
BEGIN:STANDARD
DTSTART:20250727T115313
TZOFFSETFROM:+0000
TZOFFSETTO:+0000
END:STANDARD
END:VTIMEZONE
BEGIN:VEVENT
UID:69ea082909876
DTSTAMP:20260423T115313Z
SUMMARY:KONKURADO: Studienauftrag Sporthallen Sonnenhof\, Abgabefrist Bewer
 bungsunterlagen 17.03.2025 - 23.04.2025
DESCRIPTION:Link zum Verfahren: https://konkurado.ch/en/sa_sonnenhof_oberuz
 wil
X-MICROSOFT-CDO-ALLDAYEVENT:TRUE
DTSTART;TZID=Europe/Zurich;VALUE=DATE:20250317
END:VEVENT
BEGIN:VEVENT
UID:69ea0829098ff
DTSTAMP:20260423T115313Z
SUMMARY:KONKURADO: Studienauftrag Sporthallen Sonnenhof\, Abgabefrist Bewer
 bungsunterlagen 17.03.2025 - 23.04.2025
DESCRIPTION:Link zum Verfahren: https://konkurado.ch/en/sa_sonnenhof_oberuz
 wil
X-MICROSOFT-CDO-ALLDAYEVENT:TRUE
DTSTART;TZID=Europe/Zurich;VALUE=DATE:20250423
END:VEVENT
BEGIN:VEVENT
UID:69ea082909a8f
DTSTAMP:20260423T115313Z
SUMMARY:KONKURADO: Studienauftrag Sporthallen Sonnenhof\, Veröffentlichung
  Programm (Präqualifikation) 17.03.2025 - 17.03.2025
DESCRIPTION:Link zum Verfahren: https://konkurado.ch/en/sa_sonnenhof_oberuz
 wil
X-MICROSOFT-CDO-ALLDAYEVENT:TRUE
DTSTART;TZID=Europe/Zurich;VALUE=DATE:20250317
END:VEVENT
BEGIN:VEVENT
UID:69ea082909ab8
DTSTAMP:20260423T115313Z
SUMMARY:KONKURADO: Studienauftrag Sporthallen Sonnenhof\, Veröffentlichung
  Programm (Präqualifikation) 17.03.2025 - 17.03.2025
DESCRIPTION:Link zum Verfahren: https://konkurado.ch/en/sa_sonnenhof_oberuz
 wil
X-MICROSOFT-CDO-ALLDAYEVENT:TRUE
DTSTART;TZID=Europe/Zurich;VALUE=DATE:20250317
END:VEVENT
BEGIN:VEVENT
UID:69ea082909af2
DTSTAMP:20260423T115313Z
SUMMARY:KONKURADO: Studienauftrag Sporthallen Sonnenhof\, Abgabe Fragen 02.
 06.2025 - 19.06.2025
DESCRIPTION:Link zum Verfahren: https://konkurado.ch/en/sa_sonnenhof_oberuz
 wil
X-MICROSOFT-CDO-ALLDAYEVENT:TRUE
DTSTART;TZID=Europe/Zurich;VALUE=DATE:20250602
END:VEVENT
BEGIN:VEVENT
UID:69ea082909b17
DTSTAMP:20260423T115313Z
SUMMARY:KONKURADO: Studienauftrag Sporthallen Sonnenhof\, Abgabe Fragen 02.
 06.2025 - 19.06.2025
DESCRIPTION:Link zum Verfahren: https://konkurado.ch/en/sa_sonnenhof_oberuz
 wil
X-MICROSOFT-CDO-ALLDAYEVENT:TRUE
DTSTART;TZID=Europe/Zurich;VALUE=DATE:20250619
END:VEVENT
BEGIN:VEVENT
UID:69ea082909b49
DTSTAMP:20260423T115313Z
SUMMARY:KONKURADO: Studienauftrag Sporthallen Sonnenhof\, Abgabe der Projek
 tstudien 02.06.2025 - 16.10.2025
DESCRIPTION:Link zum Verfahren: https://konkurado.ch/en/sa_sonnenhof_oberuz
 wil
X-MICROSOFT-CDO-ALLDAYEVENT:TRUE
DTSTART;TZID=Europe/Zurich;VALUE=DATE:20250602
END:VEVENT
BEGIN:VEVENT
UID:69ea082909b6e
DTSTAMP:20260423T115313Z
SUMMARY:KONKURADO: Studienauftrag Sporthallen Sonnenhof\, Abgabe der Projek
 tstudien 02.06.2025 - 16.10.2025
DESCRIPTION:Link zum Verfahren: https://konkurado.ch/en/sa_sonnenhof_oberuz
 wil
X-MICROSOFT-CDO-ALLDAYEVENT:TRUE
DTSTART;TZID=Europe/Zurich;VALUE=DATE:20251016
END:VEVENT
BEGIN:VEVENT
UID:69ea082909ba9
DTSTAMP:20260423T115313Z
SUMMARY:KONKURADO: Studienauftrag Sporthallen Sonnenhof\, Beurteilung Proje
 ktstudien 04.11.2025 - 04.11.2025
DESCRIPTION:Link zum Verfahren: https://konkurado.ch/en/sa_sonnenhof_oberuz
 wil
X-MICROSOFT-CDO-ALLDAYEVENT:TRUE
DTSTART;TZID=Europe/Zurich;VALUE=DATE:20251104
END:VEVENT
BEGIN:VEVENT
UID:69ea082909bce
DTSTAMP:20260423T115313Z
SUMMARY:KONKURADO: Studienauftrag Sporthallen Sonnenhof\, Beurteilung Proje
 ktstudien 04.11.2025 - 04.11.2025
DESCRIPTION:Link zum Verfahren: https://konkurado.ch/en/sa_sonnenhof_oberuz
 wil
X-MICROSOFT-CDO-ALLDAYEVENT:TRUE
DTSTART;TZID=Europe/Zurich;VALUE=DATE:20251104
END:VEVENT
BEGIN:VEVENT
UID:69ea082909c2e
DTSTAMP:20260423T115313Z
SUMMARY:KONKURADO: Studienauftrag Sporthallen Sonnenhof\, Auswahl der Teiln
 ehmenden (Präqualifikation) 09.05.2025 - 09.05.2025
DESCRIPTION:Link zum Verfahren: https://konkurado.ch/en/sa_sonnenhof_oberuz
 wil
X-MICROSOFT-CDO-ALLDAYEVENT:TRUE
DTSTART;TZID=Europe/Zurich;VALUE=DATE:20250509
END:VEVENT
BEGIN:VEVENT
UID:69ea082909c56
DTSTAMP:20260423T115313Z
SUMMARY:KONKURADO: Studienauftrag Sporthallen Sonnenhof\, Auswahl der Teiln
 ehmenden (Präqualifikation) 09.05.2025 - 09.05.2025
DESCRIPTION:Link zum Verfahren: https://konkurado.ch/en/sa_sonnenhof_oberuz
 wil
X-MICROSOFT-CDO-ALLDAYEVENT:TRUE
DTSTART;TZID=Europe/Zurich;VALUE=DATE:20250509
END:VEVENT
BEGIN:VEVENT
UID:69ea082909cac
DTSTAMP:20260423T115313Z
SUMMARY:KONKURADO: Studienauftrag Sporthallen Sonnenhof\, Bereitstellung de
 r Unterlagen zum Studienauftrag / Ausgabe Gipsmodell 02.06.2025 - 02.06.20
 25
DESCRIPTION:Link zum Verfahren: https://konkurado.ch/en/sa_sonnenhof_oberuz
 wil
X-MICROSOFT-CDO-ALLDAYEVENT:TRUE
DTSTART;TZID=Europe/Zurich;VALUE=DATE:20250602
END:VEVENT
BEGIN:VEVENT
UID:69ea082909cd4
DTSTAMP:20260423T115313Z
SUMMARY:KONKURADO: Studienauftrag Sporthallen Sonnenhof\, Bereitstellung de
 r Unterlagen zum Studienauftrag / Ausgabe Gipsmodell 02.06.2025 - 02.06.20
 25
DESCRIPTION:Link zum Verfahren: https://konkurado.ch/en/sa_sonnenhof_oberuz
 wil
X-MICROSOFT-CDO-ALLDAYEVENT:TRUE
DTSTART;TZID=Europe/Zurich;VALUE=DATE:20250602
END:VEVENT
BEGIN:VEVENT
UID:69ea082909d28
DTSTAMP:20260423T115313Z
SUMMARY:KONKURADO: Studienauftrag Sporthallen Sonnenhof\, Fragenbeantwortun
 g an alle Teilnehmenden 02.07.2025 - 02.07.2025
DESCRIPTION:Link zum Verfahren: https://konkurado.ch/en/sa_sonnenhof_oberuz
 wil
X-MICROSOFT-CDO-ALLDAYEVENT:TRUE
DTSTART;TZID=Europe/Zurich;VALUE=DATE:20250702
END:VEVENT
BEGIN:VEVENT
UID:69ea082909d4d
DTSTAMP:20260423T115313Z
SUMMARY:KONKURADO: Studienauftrag Sporthallen Sonnenhof\, Fragenbeantwortun
 g an alle Teilnehmenden 02.07.2025 - 02.07.2025
DESCRIPTION:Link zum Verfahren: https://konkurado.ch/en/sa_sonnenhof_oberuz
 wil
X-MICROSOFT-CDO-ALLDAYEVENT:TRUE
DTSTART;TZID=Europe/Zurich;VALUE=DATE:20250702
END:VEVENT
BEGIN:VEVENT
UID:69ea082909d9f
DTSTAMP:20260423T115313Z
SUMMARY:KONKURADO: Studienauftrag Sporthallen Sonnenhof\, Zwischenbesprechu
 ng 26.08.2025 - 26.08.2025
DESCRIPTION:Link zum Verfahren: https://konkurado.ch/en/sa_sonnenhof_oberuz
 wil
X-MICROSOFT-CDO-ALLDAYEVENT:TRUE
DTSTART;TZID=Europe/Zurich;VALUE=DATE:20250826
END:VEVENT
BEGIN:VEVENT
UID:69ea082909dd6
DTSTAMP:20260423T115313Z
SUMMARY:KONKURADO: Studienauftrag Sporthallen Sonnenhof\, Zwischenbesprechu
 ng 26.08.2025 - 26.08.2025
DESCRIPTION:Link zum Verfahren: https://konkurado.ch/en/sa_sonnenhof_oberuz
 wil
X-MICROSOFT-CDO-ALLDAYEVENT:TRUE
DTSTART;TZID=Europe/Zurich;VALUE=DATE:20250826
END:VEVENT
BEGIN:VEVENT
UID:69ea082909e4b
DTSTAMP:20260423T115313Z
SUMMARY:KONKURADO: Studienauftrag Sporthallen Sonnenhof\, Rückmeldung Zwis
 chenbesprechung 05.09.2025 - 05.09.2025
DESCRIPTION:Link zum Verfahren: https://konkurado.ch/en/sa_sonnenhof_oberuz
 wil
X-MICROSOFT-CDO-ALLDAYEVENT:TRUE
DTSTART;TZID=Europe/Zurich;VALUE=DATE:20250905
END:VEVENT
BEGIN:VEVENT
UID:69ea082909e8a
DTSTAMP:20260423T115313Z
SUMMARY:KONKURADO: Studienauftrag Sporthallen Sonnenhof\, Rückmeldung Zwis
 chenbesprechung 05.09.2025 - 05.09.2025
DESCRIPTION:Link zum Verfahren: https://konkurado.ch/en/sa_sonnenhof_oberuz
 wil
X-MICROSOFT-CDO-ALLDAYEVENT:TRUE
DTSTART;TZID=Europe/Zurich;VALUE=DATE:20250905
END:VEVENT
BEGIN:VEVENT
UID:69ea082909f0e
DTSTAMP:20260423T115313Z
SUMMARY:KONKURADO: Studienauftrag Sporthallen Sonnenhof\, Abgabe des Gipsmo
 dells 02.06.2025 - 30.10.2025
DESCRIPTION:Link zum Verfahren: https://konkurado.ch/en/sa_sonnenhof_oberuz
 wil
X-MICROSOFT-CDO-ALLDAYEVENT:TRUE
DTSTART;TZID=Europe/Zurich;VALUE=DATE:20250602
END:VEVENT
BEGIN:VEVENT
UID:69ea082909f4f
DTSTAMP:20260423T115313Z
SUMMARY:KONKURADO: Studienauftrag Sporthallen Sonnenhof\, Abgabe des Gipsmo
 dells 02.06.2025 - 30.10.2025
DESCRIPTION:Link zum Verfahren: https://konkurado.ch/en/sa_sonnenhof_oberuz
 wil
X-MICROSOFT-CDO-ALLDAYEVENT:TRUE
DTSTART;TZID=Europe/Zurich;VALUE=DATE:20251030
END:VEVENT
BEGIN:VEVENT
UID:69ea082909fc8
DTSTAMP:20260423T115313Z
SUMMARY:KONKURADO: Studienauftrag Sporthallen Sonnenhof\, Versand Beurteilu
 ngsbericht 01.12.2025 - 12.12.2025
DESCRIPTION:Link zum Verfahren: https://konkurado.ch/en/sa_sonnenhof_oberuz
 wil
X-MICROSOFT-CDO-ALLDAYEVENT:TRUE
DTSTART;TZID=Europe/Zurich;VALUE=DATE:20251201
END:VEVENT
BEGIN:VEVENT
UID:69ea082909fef
DTSTAMP:20260423T115313Z
SUMMARY:KONKURADO: Studienauftrag Sporthallen Sonnenhof\, Versand Beurteilu
 ngsbericht 01.12.2025 - 12.12.2025
DESCRIPTION:Link zum Verfahren: https://konkurado.ch/en/sa_sonnenhof_oberuz
 wil
X-MICROSOFT-CDO-ALLDAYEVENT:TRUE
DTSTART;TZID=Europe/Zurich;VALUE=DATE:20251212
END:VEVENT
END:VCALENDAR