BEGIN:VCALENDAR
VERSION:2.0
PRODID:spatie/icalendar-generator
NAME:Rénovation et surélévation de 3 immeubles de logements-Vers-Vuattes
 _MANDAT AMO
X-WR-CALNAME:Rénovation et surélévation de 3 immeubles de logements-Vers
 -Vuattes_MANDAT AMO
BEGIN:VTIMEZONE
TZID:Europe/Zurich
BEGIN:STANDARD
DTSTART:20251026T030000
TZOFFSETFROM:+0200
TZOFFSETTO:+0100
END:STANDARD
BEGIN:DAYLIGHT
DTSTART:20260329T010000
TZOFFSETFROM:+0100
TZOFFSETTO:+0200
END:DAYLIGHT
BEGIN:STANDARD
DTSTART:20261025T030000
TZOFFSETFROM:+0200
TZOFFSETTO:+0100
END:STANDARD
END:VTIMEZONE
BEGIN:VTIMEZONE
TZID:UTC
BEGIN:STANDARD
DTSTART:20250727T101806
TZOFFSETFROM:+0000
TZOFFSETTO:+0000
END:STANDARD
END:VTIMEZONE
BEGIN:VEVENT
UID:69e9f1ded4d39
DTSTAMP:20260423T101806Z
SUMMARY:KONKURADO: Rénovation et surélévation de 3 immeubles de logement
 s-Vers-Vuattes_MANDAT AMO\, Soumission de questions jusqu’au 17.04.2026 
 - 17.04.2026
DESCRIPTION:Link zum Verfahren: https://konkurado.ch/en/renovation-et-surel
 evation-de-3-immeubles-de-logements-vers-vuattes-mandat-amo
X-MICROSOFT-CDO-ALLDAYEVENT:TRUE
DTSTART;TZID=Europe/Zurich;VALUE=DATE:20260417
END:VEVENT
BEGIN:VEVENT
UID:69e9f1ded4dc9
DTSTAMP:20260423T101806Z
SUMMARY:KONKURADO: Rénovation et surélévation de 3 immeubles de logement
 s-Vers-Vuattes_MANDAT AMO\, Soumission de questions jusqu’au 17.04.2026 
 - 17.04.2026
DESCRIPTION:Link zum Verfahren: https://konkurado.ch/en/renovation-et-surel
 evation-de-3-immeubles-de-logements-vers-vuattes-mandat-amo
X-MICROSOFT-CDO-ALLDAYEVENT:TRUE
DTSTART;TZID=Europe/Zurich;VALUE=DATE:20260417
END:VEVENT
BEGIN:VEVENT
UID:69e9f1ded4e46
DTSTAMP:20260423T101806Z
SUMMARY:KONKURADO: Rénovation et surélévation de 3 immeubles de logement
 s-Vers-Vuattes_MANDAT AMO\, Soumission des offres jusqu’au 05.06.2026 - 
 05.06.2026
DESCRIPTION:Link zum Verfahren: https://konkurado.ch/en/renovation-et-surel
 evation-de-3-immeubles-de-logements-vers-vuattes-mandat-amo
X-MICROSOFT-CDO-ALLDAYEVENT:TRUE
DTSTART;TZID=Europe/Zurich;VALUE=DATE:20260605
END:VEVENT
BEGIN:VEVENT
UID:69e9f1ded4e71
DTSTAMP:20260423T101806Z
SUMMARY:KONKURADO: Rénovation et surélévation de 3 immeubles de logement
 s-Vers-Vuattes_MANDAT AMO\, Soumission des offres jusqu’au 05.06.2026 - 
 05.06.2026
DESCRIPTION:Link zum Verfahren: https://konkurado.ch/en/renovation-et-surel
 evation-de-3-immeubles-de-logements-vers-vuattes-mandat-amo
X-MICROSOFT-CDO-ALLDAYEVENT:TRUE
DTSTART;TZID=Europe/Zurich;VALUE=DATE:20260605
END:VEVENT
BEGIN:VEVENT
UID:69e9f1ded4ed8
DTSTAMP:20260423T101806Z
SUMMARY:KONKURADO: Rénovation et surélévation de 3 immeubles de logement
 s-Vers-Vuattes_MANDAT AMO\, Disponibilité des documents d’appel d’off
 res 08.04.2026 - 05.06.2026
DESCRIPTION:Link zum Verfahren: https://konkurado.ch/en/renovation-et-surel
 evation-de-3-immeubles-de-logements-vers-vuattes-mandat-amo
X-MICROSOFT-CDO-ALLDAYEVENT:TRUE
DTSTART;TZID=Europe/Zurich;VALUE=DATE:20260408
END:VEVENT
BEGIN:VEVENT
UID:69e9f1ded4eff
DTSTAMP:20260423T101806Z
SUMMARY:KONKURADO: Rénovation et surélévation de 3 immeubles de logement
 s-Vers-Vuattes_MANDAT AMO\, Disponibilité des documents d’appel d’off
 res 08.04.2026 - 05.06.2026
DESCRIPTION:Link zum Verfahren: https://konkurado.ch/en/renovation-et-surel
 evation-de-3-immeubles-de-logements-vers-vuattes-mandat-amo
X-MICROSOFT-CDO-ALLDAYEVENT:TRUE
DTSTART;TZID=Europe/Zurich;VALUE=DATE:20260605
END:VEVENT
END:VCALENDAR