BEGIN:VCALENDAR
VERSION:2.0
PRODID:spatie/icalendar-generator
NAME:Réaménagement de l'interface Sud de la gare de Vevey
X-WR-CALNAME:Réaménagement de l'interface Sud de la gare de Vevey
BEGIN:VTIMEZONE
TZID:Europe/Zurich
BEGIN:STANDARD
DTSTART:20241027T030000
TZOFFSETFROM:+0200
TZOFFSETTO:+0100
END:STANDARD
BEGIN:DAYLIGHT
DTSTART:20250330T010000
TZOFFSETFROM:+0100
TZOFFSETTO:+0200
END:DAYLIGHT
BEGIN:STANDARD
DTSTART:20251026T030000
TZOFFSETFROM:+0200
TZOFFSETTO:+0100
END:STANDARD
BEGIN:DAYLIGHT
DTSTART:20260329T010000
TZOFFSETFROM:+0100
TZOFFSETTO:+0200
END:DAYLIGHT
END:VTIMEZONE
BEGIN:VTIMEZONE
TZID:UTC
BEGIN:STANDARD
DTSTART:20250727T120322
TZOFFSETFROM:+0000
TZOFFSETTO:+0000
END:STANDARD
END:VTIMEZONE
BEGIN:VEVENT
UID:69ea0a8a083ce
DTSTAMP:20260423T120322Z
SUMMARY:KONKURADO: Réaménagement de l'interface Sud de la gare de Vevey\,
  Réception des dossiers de sélection 01.07.2025 - 14.08.2025
DESCRIPTION:Link zum Verfahren: https://konkurado.ch/en/reamenagement-de-li
 nterface-sud-de-la-gare-de-vevey
X-MICROSOFT-CDO-ALLDAYEVENT:TRUE
DTSTART;TZID=Europe/Zurich;VALUE=DATE:20250701
END:VEVENT
BEGIN:VEVENT
UID:69ea0a8a08448
DTSTAMP:20260423T120322Z
SUMMARY:KONKURADO: Réaménagement de l'interface Sud de la gare de Vevey\,
  Réception des dossiers de sélection 01.07.2025 - 14.08.2025
DESCRIPTION:Link zum Verfahren: https://konkurado.ch/en/reamenagement-de-li
 nterface-sud-de-la-gare-de-vevey
X-MICROSOFT-CDO-ALLDAYEVENT:TRUE
DTSTART;TZID=Europe/Zurich;VALUE=DATE:20250814
END:VEVENT
BEGIN:VEVENT
UID:69ea0a8a085c2
DTSTAMP:20260423T120322Z
SUMMARY:KONKURADO: Réaménagement de l'interface Sud de la gare de Vevey\,
  Notification de la sélection / non-sélection 26.08.2025 - 26.08.2025
DESCRIPTION:Link zum Verfahren: https://konkurado.ch/en/reamenagement-de-li
 nterface-sud-de-la-gare-de-vevey
X-MICROSOFT-CDO-ALLDAYEVENT:TRUE
DTSTART;TZID=Europe/Zurich;VALUE=DATE:20250826
END:VEVENT
BEGIN:VEVENT
UID:69ea0a8a085ee
DTSTAMP:20260423T120322Z
SUMMARY:KONKURADO: Réaménagement de l'interface Sud de la gare de Vevey\,
  Notification de la sélection / non-sélection 26.08.2025 - 26.08.2025
DESCRIPTION:Link zum Verfahren: https://konkurado.ch/en/reamenagement-de-li
 nterface-sud-de-la-gare-de-vevey
X-MICROSOFT-CDO-ALLDAYEVENT:TRUE
DTSTART;TZID=Europe/Zurich;VALUE=DATE:20250826
END:VEVENT
BEGIN:VEVENT
UID:69ea0a8a08627
DTSTAMP:20260423T120322Z
SUMMARY:KONKURADO: Réaménagement de l'interface Sud de la gare de Vevey\,
  Date de limite pour poser des questions 01.07.2025 - 08.07.2025
DESCRIPTION:Link zum Verfahren: https://konkurado.ch/en/reamenagement-de-li
 nterface-sud-de-la-gare-de-vevey
X-MICROSOFT-CDO-ALLDAYEVENT:TRUE
DTSTART;TZID=Europe/Zurich;VALUE=DATE:20250701
END:VEVENT
BEGIN:VEVENT
UID:69ea0a8a0864d
DTSTAMP:20260423T120322Z
SUMMARY:KONKURADO: Réaménagement de l'interface Sud de la gare de Vevey\,
  Date de limite pour poser des questions 01.07.2025 - 08.07.2025
DESCRIPTION:Link zum Verfahren: https://konkurado.ch/en/reamenagement-de-li
 nterface-sud-de-la-gare-de-vevey
X-MICROSOFT-CDO-ALLDAYEVENT:TRUE
DTSTART;TZID=Europe/Zurich;VALUE=DATE:20250708
END:VEVENT
BEGIN:VEVENT
UID:69ea0a8a0868b
DTSTAMP:20260423T120322Z
SUMMARY:KONKURADO: Réaménagement de l'interface Sud de la gare de Vevey\,
  Réception des dossiers (planches et présentation) 1° 07.11.2025 - 07.1
 1.2025
DESCRIPTION:Link zum Verfahren: https://konkurado.ch/en/reamenagement-de-li
 nterface-sud-de-la-gare-de-vevey
X-MICROSOFT-CDO-ALLDAYEVENT:TRUE
DTSTART;TZID=Europe/Zurich;VALUE=DATE:20251107
END:VEVENT
BEGIN:VEVENT
UID:69ea0a8a086b2
DTSTAMP:20260423T120322Z
SUMMARY:KONKURADO: Réaménagement de l'interface Sud de la gare de Vevey\,
  Réception des dossiers (planches et présentation) 1° 07.11.2025 - 07.1
 1.2025
DESCRIPTION:Link zum Verfahren: https://konkurado.ch/en/reamenagement-de-li
 nterface-sud-de-la-gare-de-vevey
X-MICROSOFT-CDO-ALLDAYEVENT:TRUE
DTSTART;TZID=Europe/Zurich;VALUE=DATE:20251107
END:VEVENT
BEGIN:VEVENT
UID:69ea0a8a086f0
DTSTAMP:20260423T120322Z
SUMMARY:KONKURADO: Réaménagement de l'interface Sud de la gare de Vevey\,
  Séance du groupe d’expert·e·s 1° – Jour 1 11.11.2025 - 11.11.2025
DESCRIPTION:Link zum Verfahren: https://konkurado.ch/en/reamenagement-de-li
 nterface-sud-de-la-gare-de-vevey
X-MICROSOFT-CDO-ALLDAYEVENT:TRUE
DTSTART;TZID=Europe/Zurich;VALUE=DATE:20251111
END:VEVENT
BEGIN:VEVENT
UID:69ea0a8a08715
DTSTAMP:20260423T120322Z
SUMMARY:KONKURADO: Réaménagement de l'interface Sud de la gare de Vevey\,
  Séance du groupe d’expert·e·s 1° – Jour 1 11.11.2025 - 11.11.2025
DESCRIPTION:Link zum Verfahren: https://konkurado.ch/en/reamenagement-de-li
 nterface-sud-de-la-gare-de-vevey
X-MICROSOFT-CDO-ALLDAYEVENT:TRUE
DTSTART;TZID=Europe/Zurich;VALUE=DATE:20251111
END:VEVENT
BEGIN:VEVENT
UID:69ea0a8a0877c
DTSTAMP:20260423T120322Z
SUMMARY:KONKURADO: Réaménagement de l'interface Sud de la gare de Vevey\,
  Délai pour les réponses aux questions 11.07.2025 - 11.07.2025
DESCRIPTION:Link zum Verfahren: https://konkurado.ch/en/reamenagement-de-li
 nterface-sud-de-la-gare-de-vevey
X-MICROSOFT-CDO-ALLDAYEVENT:TRUE
DTSTART;TZID=Europe/Zurich;VALUE=DATE:20250711
END:VEVENT
BEGIN:VEVENT
UID:69ea0a8a087a3
DTSTAMP:20260423T120322Z
SUMMARY:KONKURADO: Réaménagement de l'interface Sud de la gare de Vevey\,
  Délai pour les réponses aux questions 11.07.2025 - 11.07.2025
DESCRIPTION:Link zum Verfahren: https://konkurado.ch/en/reamenagement-de-li
 nterface-sud-de-la-gare-de-vevey
X-MICROSOFT-CDO-ALLDAYEVENT:TRUE
DTSTART;TZID=Europe/Zurich;VALUE=DATE:20250711
END:VEVENT
BEGIN:VEVENT
UID:69ea0a8a087f8
DTSTAMP:20260423T120322Z
SUMMARY:KONKURADO: Réaménagement de l'interface Sud de la gare de Vevey\,
  Fin du délai de recours 15.09.2025 - 15.09.2025
DESCRIPTION:Link zum Verfahren: https://konkurado.ch/en/reamenagement-de-li
 nterface-sud-de-la-gare-de-vevey
X-MICROSOFT-CDO-ALLDAYEVENT:TRUE
DTSTART;TZID=Europe/Zurich;VALUE=DATE:20250915
END:VEVENT
BEGIN:VEVENT
UID:69ea0a8a0881e
DTSTAMP:20260423T120322Z
SUMMARY:KONKURADO: Réaménagement de l'interface Sud de la gare de Vevey\,
  Fin du délai de recours 15.09.2025 - 15.09.2025
DESCRIPTION:Link zum Verfahren: https://konkurado.ch/en/reamenagement-de-li
 nterface-sud-de-la-gare-de-vevey
X-MICROSOFT-CDO-ALLDAYEVENT:TRUE
DTSTART;TZID=Europe/Zurich;VALUE=DATE:20250915
END:VEVENT
BEGIN:VEVENT
UID:69ea0a8a0884e
DTSTAMP:20260423T120322Z
SUMMARY:KONKURADO: Réaménagement de l'interface Sud de la gare de Vevey\,
  Date de limite pour poser des questions 1° 05.09.2025 - 05.09.2025
DESCRIPTION:Link zum Verfahren: https://konkurado.ch/en/reamenagement-de-li
 nterface-sud-de-la-gare-de-vevey
X-MICROSOFT-CDO-ALLDAYEVENT:TRUE
DTSTART;TZID=Europe/Zurich;VALUE=DATE:20250905
END:VEVENT
BEGIN:VEVENT
UID:69ea0a8a08873
DTSTAMP:20260423T120322Z
SUMMARY:KONKURADO: Réaménagement de l'interface Sud de la gare de Vevey\,
  Date de limite pour poser des questions 1° 05.09.2025 - 05.09.2025
DESCRIPTION:Link zum Verfahren: https://konkurado.ch/en/reamenagement-de-li
 nterface-sud-de-la-gare-de-vevey
X-MICROSOFT-CDO-ALLDAYEVENT:TRUE
DTSTART;TZID=Europe/Zurich;VALUE=DATE:20250905
END:VEVENT
BEGIN:VEVENT
UID:69ea0a8a088c7
DTSTAMP:20260423T120322Z
SUMMARY:KONKURADO: Réaménagement de l'interface Sud de la gare de Vevey\,
  Délai pour les réponses aux questions 1° 12.09.2025 - 12.09.2025
DESCRIPTION:Link zum Verfahren: https://konkurado.ch/en/reamenagement-de-li
 nterface-sud-de-la-gare-de-vevey
X-MICROSOFT-CDO-ALLDAYEVENT:TRUE
DTSTART;TZID=Europe/Zurich;VALUE=DATE:20250912
END:VEVENT
BEGIN:VEVENT
UID:69ea0a8a088ec
DTSTAMP:20260423T120322Z
SUMMARY:KONKURADO: Réaménagement de l'interface Sud de la gare de Vevey\,
  Délai pour les réponses aux questions 1° 12.09.2025 - 12.09.2025
DESCRIPTION:Link zum Verfahren: https://konkurado.ch/en/reamenagement-de-li
 nterface-sud-de-la-gare-de-vevey
X-MICROSOFT-CDO-ALLDAYEVENT:TRUE
DTSTART;TZID=Europe/Zurich;VALUE=DATE:20250912
END:VEVENT
BEGIN:VEVENT
UID:69ea0a8a08924
DTSTAMP:20260423T120322Z
SUMMARY:KONKURADO: Réaménagement de l'interface Sud de la gare de Vevey\,
  Séance du groupe d’expert·e·s 1° – Jour 2 13.11.2025 - 13.11.2025
DESCRIPTION:Link zum Verfahren: https://konkurado.ch/en/reamenagement-de-li
 nterface-sud-de-la-gare-de-vevey
X-MICROSOFT-CDO-ALLDAYEVENT:TRUE
DTSTART;TZID=Europe/Zurich;VALUE=DATE:20251113
END:VEVENT
BEGIN:VEVENT
UID:69ea0a8a08948
DTSTAMP:20260423T120322Z
SUMMARY:KONKURADO: Réaménagement de l'interface Sud de la gare de Vevey\,
  Séance du groupe d’expert·e·s 1° – Jour 2 13.11.2025 - 13.11.2025
DESCRIPTION:Link zum Verfahren: https://konkurado.ch/en/reamenagement-de-li
 nterface-sud-de-la-gare-de-vevey
X-MICROSOFT-CDO-ALLDAYEVENT:TRUE
DTSTART;TZID=Europe/Zurich;VALUE=DATE:20251113
END:VEVENT
BEGIN:VEVENT
UID:69ea0a8a0899e
DTSTAMP:20260423T120322Z
SUMMARY:KONKURADO: Réaménagement de l'interface Sud de la gare de Vevey\,
  Envoi des critiques aux concurrent·e·s 2° 24.11.2025 - 24.11.2025
DESCRIPTION:Link zum Verfahren: https://konkurado.ch/en/reamenagement-de-li
 nterface-sud-de-la-gare-de-vevey
X-MICROSOFT-CDO-ALLDAYEVENT:TRUE
DTSTART;TZID=Europe/Zurich;VALUE=DATE:20251124
END:VEVENT
BEGIN:VEVENT
UID:69ea0a8a089c9
DTSTAMP:20260423T120322Z
SUMMARY:KONKURADO: Réaménagement de l'interface Sud de la gare de Vevey\,
  Envoi des critiques aux concurrent·e·s 2° 24.11.2025 - 24.11.2025
DESCRIPTION:Link zum Verfahren: https://konkurado.ch/en/reamenagement-de-li
 nterface-sud-de-la-gare-de-vevey
X-MICROSOFT-CDO-ALLDAYEVENT:TRUE
DTSTART;TZID=Europe/Zurich;VALUE=DATE:20251124
END:VEVENT
BEGIN:VEVENT
UID:69ea0a8a08a07
DTSTAMP:20260423T120322Z
SUMMARY:KONKURADO: Réaménagement de l'interface Sud de la gare de Vevey\,
  Date de limite pour poser des questions 2° 27.11.2025 - 27.11.2025
DESCRIPTION:Link zum Verfahren: https://konkurado.ch/en/reamenagement-de-li
 nterface-sud-de-la-gare-de-vevey
X-MICROSOFT-CDO-ALLDAYEVENT:TRUE
DTSTART;TZID=Europe/Zurich;VALUE=DATE:20251127
END:VEVENT
BEGIN:VEVENT
UID:69ea0a8a08a2c
DTSTAMP:20260423T120322Z
SUMMARY:KONKURADO: Réaménagement de l'interface Sud de la gare de Vevey\,
  Date de limite pour poser des questions 2° 27.11.2025 - 27.11.2025
DESCRIPTION:Link zum Verfahren: https://konkurado.ch/en/reamenagement-de-li
 nterface-sud-de-la-gare-de-vevey
X-MICROSOFT-CDO-ALLDAYEVENT:TRUE
DTSTART;TZID=Europe/Zurich;VALUE=DATE:20251127
END:VEVENT
BEGIN:VEVENT
UID:69ea0a8a08a95
DTSTAMP:20260423T120322Z
SUMMARY:KONKURADO: Réaménagement de l'interface Sud de la gare de Vevey\,
  Délai pour les réponses aux questions 2° 03.12.2025 - 03.12.2025
DESCRIPTION:Link zum Verfahren: https://konkurado.ch/en/reamenagement-de-li
 nterface-sud-de-la-gare-de-vevey
X-MICROSOFT-CDO-ALLDAYEVENT:TRUE
DTSTART;TZID=Europe/Zurich;VALUE=DATE:20251203
END:VEVENT
BEGIN:VEVENT
UID:69ea0a8a08abc
DTSTAMP:20260423T120322Z
SUMMARY:KONKURADO: Réaménagement de l'interface Sud de la gare de Vevey\,
  Délai pour les réponses aux questions 2° 03.12.2025 - 03.12.2025
DESCRIPTION:Link zum Verfahren: https://konkurado.ch/en/reamenagement-de-li
 nterface-sud-de-la-gare-de-vevey
X-MICROSOFT-CDO-ALLDAYEVENT:TRUE
DTSTART;TZID=Europe/Zurich;VALUE=DATE:20251203
END:VEVENT
BEGIN:VEVENT
UID:69ea0a8a08aee
DTSTAMP:20260423T120322Z
SUMMARY:KONKURADO: Réaménagement de l'interface Sud de la gare de Vevey\,
  Réception des dossiers (planches) 2° 27.02.2026 - 27.02.2026
DESCRIPTION:Link zum Verfahren: https://konkurado.ch/en/reamenagement-de-li
 nterface-sud-de-la-gare-de-vevey
X-MICROSOFT-CDO-ALLDAYEVENT:TRUE
DTSTART;TZID=Europe/Zurich;VALUE=DATE:20260227
END:VEVENT
BEGIN:VEVENT
UID:69ea0a8a08b12
DTSTAMP:20260423T120322Z
SUMMARY:KONKURADO: Réaménagement de l'interface Sud de la gare de Vevey\,
  Réception des dossiers (planches) 2° 27.02.2026 - 27.02.2026
DESCRIPTION:Link zum Verfahren: https://konkurado.ch/en/reamenagement-de-li
 nterface-sud-de-la-gare-de-vevey
X-MICROSOFT-CDO-ALLDAYEVENT:TRUE
DTSTART;TZID=Europe/Zurich;VALUE=DATE:20260227
END:VEVENT
BEGIN:VEVENT
UID:69ea0a8a08b65
DTSTAMP:20260423T120322Z
SUMMARY:KONKURADO: Réaménagement de l'interface Sud de la gare de Vevey\,
  Séance avec les citoyen·ne·s et CAT 2° – 1ère soirée 10.03.2026 -
  10.03.2026
DESCRIPTION:Link zum Verfahren: https://konkurado.ch/en/reamenagement-de-li
 nterface-sud-de-la-gare-de-vevey
X-MICROSOFT-CDO-ALLDAYEVENT:TRUE
DTSTART;TZID=Europe/Zurich;VALUE=DATE:20260310
END:VEVENT
BEGIN:VEVENT
UID:69ea0a8a08b8a
DTSTAMP:20260423T120322Z
SUMMARY:KONKURADO: Réaménagement de l'interface Sud de la gare de Vevey\,
  Séance avec les citoyen·ne·s et CAT 2° – 1ère soirée 10.03.2026 -
  10.03.2026
DESCRIPTION:Link zum Verfahren: https://konkurado.ch/en/reamenagement-de-li
 nterface-sud-de-la-gare-de-vevey
X-MICROSOFT-CDO-ALLDAYEVENT:TRUE
DTSTART;TZID=Europe/Zurich;VALUE=DATE:20260310
END:VEVENT
BEGIN:VEVENT
UID:69ea0a8a08bdd
DTSTAMP:20260423T120322Z
SUMMARY:KONKURADO: Réaménagement de l'interface Sud de la gare de Vevey\,
  Séance avec les citoyen·ne·s et CAT 2° – 2nde soirée 12.03.2026 - 
 12.03.2026
DESCRIPTION:Link zum Verfahren: https://konkurado.ch/en/reamenagement-de-li
 nterface-sud-de-la-gare-de-vevey
X-MICROSOFT-CDO-ALLDAYEVENT:TRUE
DTSTART;TZID=Europe/Zurich;VALUE=DATE:20260312
END:VEVENT
BEGIN:VEVENT
UID:69ea0a8a08c1a
DTSTAMP:20260423T120322Z
SUMMARY:KONKURADO: Réaménagement de l'interface Sud de la gare de Vevey\,
  Séance avec les citoyen·ne·s et CAT 2° – 2nde soirée 12.03.2026 - 
 12.03.2026
DESCRIPTION:Link zum Verfahren: https://konkurado.ch/en/reamenagement-de-li
 nterface-sud-de-la-gare-de-vevey
X-MICROSOFT-CDO-ALLDAYEVENT:TRUE
DTSTART;TZID=Europe/Zurich;VALUE=DATE:20260312
END:VEVENT
BEGIN:VEVENT
UID:69ea0a8a08c54
DTSTAMP:20260423T120322Z
SUMMARY:KONKURADO: Réaménagement de l'interface Sud de la gare de Vevey\,
  Réception des dossiers (présentation) 2° 23.03.2026 - 23.03.2026
DESCRIPTION:Link zum Verfahren: https://konkurado.ch/en/reamenagement-de-li
 nterface-sud-de-la-gare-de-vevey
X-MICROSOFT-CDO-ALLDAYEVENT:TRUE
DTSTART;TZID=Europe/Zurich;VALUE=DATE:20260323
END:VEVENT
BEGIN:VEVENT
UID:69ea0a8a08c96
DTSTAMP:20260423T120322Z
SUMMARY:KONKURADO: Réaménagement de l'interface Sud de la gare de Vevey\,
  Réception des dossiers (présentation) 2° 23.03.2026 - 23.03.2026
DESCRIPTION:Link zum Verfahren: https://konkurado.ch/en/reamenagement-de-li
 nterface-sud-de-la-gare-de-vevey
X-MICROSOFT-CDO-ALLDAYEVENT:TRUE
DTSTART;TZID=Europe/Zurich;VALUE=DATE:20260323
END:VEVENT
BEGIN:VEVENT
UID:69ea0a8a08ce5
DTSTAMP:20260423T120322Z
SUMMARY:KONKURADO: Réaménagement de l'interface Sud de la gare de Vevey\,
  Séance du groupe d’expert·e·s 2° – Jour 1 24.03.2026 - 24.03.2026
DESCRIPTION:Link zum Verfahren: https://konkurado.ch/en/reamenagement-de-li
 nterface-sud-de-la-gare-de-vevey
X-MICROSOFT-CDO-ALLDAYEVENT:TRUE
DTSTART;TZID=Europe/Zurich;VALUE=DATE:20260324
END:VEVENT
BEGIN:VEVENT
UID:69ea0a8a08d1b
DTSTAMP:20260423T120322Z
SUMMARY:KONKURADO: Réaménagement de l'interface Sud de la gare de Vevey\,
  Séance du groupe d’expert·e·s 2° – Jour 1 24.03.2026 - 24.03.2026
DESCRIPTION:Link zum Verfahren: https://konkurado.ch/en/reamenagement-de-li
 nterface-sud-de-la-gare-de-vevey
X-MICROSOFT-CDO-ALLDAYEVENT:TRUE
DTSTART;TZID=Europe/Zurich;VALUE=DATE:20260324
END:VEVENT
BEGIN:VEVENT
UID:69ea0a8a08db6
DTSTAMP:20260423T120322Z
SUMMARY:KONKURADO: Réaménagement de l'interface Sud de la gare de Vevey\,
  Séance du groupe d’expert·e·s 2° – Jour 2 26.03.2026 - 26.03.2026
DESCRIPTION:Link zum Verfahren: https://konkurado.ch/en/reamenagement-de-li
 nterface-sud-de-la-gare-de-vevey
X-MICROSOFT-CDO-ALLDAYEVENT:TRUE
DTSTART;TZID=Europe/Zurich;VALUE=DATE:20260326
END:VEVENT
BEGIN:VEVENT
UID:69ea0a8a08df9
DTSTAMP:20260423T120322Z
SUMMARY:KONKURADO: Réaménagement de l'interface Sud de la gare de Vevey\,
  Séance du groupe d’expert·e·s 2° – Jour 2 26.03.2026 - 26.03.2026
DESCRIPTION:Link zum Verfahren: https://konkurado.ch/en/reamenagement-de-li
 nterface-sud-de-la-gare-de-vevey
X-MICROSOFT-CDO-ALLDAYEVENT:TRUE
DTSTART;TZID=Europe/Zurich;VALUE=DATE:20260326
END:VEVENT
END:VCALENDAR