BEGIN:VCALENDAR
VERSION:2.0
PRODID:spatie/icalendar-generator
NAME:Quartierentwicklung Rauchacker Oberengstringen
X-WR-CALNAME:Quartierentwicklung Rauchacker Oberengstringen
BEGIN:VTIMEZONE
TZID:Europe/Zurich
BEGIN:STANDARD
DTSTART:20241027T030000
TZOFFSETFROM:+0200
TZOFFSETTO:+0100
END:STANDARD
BEGIN:DAYLIGHT
DTSTART:20250330T010000
TZOFFSETFROM:+0100
TZOFFSETTO:+0200
END:DAYLIGHT
BEGIN:STANDARD
DTSTART:20251026T030000
TZOFFSETFROM:+0200
TZOFFSETTO:+0100
END:STANDARD
BEGIN:DAYLIGHT
DTSTART:20260329T010000
TZOFFSETFROM:+0100
TZOFFSETTO:+0200
END:DAYLIGHT
BEGIN:STANDARD
DTSTART:20261025T030000
TZOFFSETFROM:+0200
TZOFFSETTO:+0100
END:STANDARD
END:VTIMEZONE
BEGIN:VTIMEZONE
TZID:UTC
BEGIN:STANDARD
DTSTART:20250727T115144
TZOFFSETFROM:+0000
TZOFFSETTO:+0000
END:STANDARD
END:VTIMEZONE
BEGIN:VEVENT
UID:69ea07d0acbd9
DTSTAMP:20260423T115144Z
SUMMARY:KONKURADO: Quartierentwicklung Rauchacker Oberengstringen\, Eingabe
 termin für PQ-Unterlagen 27.06.2025 - 29.08.2025
DESCRIPTION:Link zum Verfahren: https://konkurado.ch/en/quartierentwicklung
 -rauchacker-oberengstringen
X-MICROSOFT-CDO-ALLDAYEVENT:TRUE
DTSTART;TZID=Europe/Zurich;VALUE=DATE:20250627
END:VEVENT
BEGIN:VEVENT
UID:69ea07d0acc6f
DTSTAMP:20260423T115144Z
SUMMARY:KONKURADO: Quartierentwicklung Rauchacker Oberengstringen\, Eingabe
 termin für PQ-Unterlagen 27.06.2025 - 29.08.2025
DESCRIPTION:Link zum Verfahren: https://konkurado.ch/en/quartierentwicklung
 -rauchacker-oberengstringen
X-MICROSOFT-CDO-ALLDAYEVENT:TRUE
DTSTART;TZID=Europe/Zurich;VALUE=DATE:20250829
END:VEVENT
BEGIN:VEVENT
UID:69ea07d0ace11
DTSTAMP:20260423T115144Z
SUMMARY:KONKURADO: Quartierentwicklung Rauchacker Oberengstringen\, Benachr
 ichtigung der Anbieter 19.09.2025 - 19.09.2025
DESCRIPTION:Link zum Verfahren: https://konkurado.ch/en/quartierentwicklung
 -rauchacker-oberengstringen
X-MICROSOFT-CDO-ALLDAYEVENT:TRUE
DTSTART;TZID=Europe/Zurich;VALUE=DATE:20250919
END:VEVENT
BEGIN:VEVENT
UID:69ea07d0ace3d
DTSTAMP:20260423T115144Z
SUMMARY:KONKURADO: Quartierentwicklung Rauchacker Oberengstringen\, Benachr
 ichtigung der Anbieter 19.09.2025 - 19.09.2025
DESCRIPTION:Link zum Verfahren: https://konkurado.ch/en/quartierentwicklung
 -rauchacker-oberengstringen
X-MICROSOFT-CDO-ALLDAYEVENT:TRUE
DTSTART;TZID=Europe/Zurich;VALUE=DATE:20250919
END:VEVENT
BEGIN:VEVENT
UID:69ea07d0ace80
DTSTAMP:20260423T115144Z
SUMMARY:KONKURADO: Quartierentwicklung Rauchacker Oberengstringen\, Eingabe
  Fragen 31.10.2025 - 31.10.2025
DESCRIPTION:Link zum Verfahren: https://konkurado.ch/en/quartierentwicklung
 -rauchacker-oberengstringen
X-MICROSOFT-CDO-ALLDAYEVENT:TRUE
DTSTART;TZID=Europe/Zurich;VALUE=DATE:20251031
END:VEVENT
BEGIN:VEVENT
UID:69ea07d0acea7
DTSTAMP:20260423T115144Z
SUMMARY:KONKURADO: Quartierentwicklung Rauchacker Oberengstringen\, Eingabe
  Fragen 31.10.2025 - 31.10.2025
DESCRIPTION:Link zum Verfahren: https://konkurado.ch/en/quartierentwicklung
 -rauchacker-oberengstringen
X-MICROSOFT-CDO-ALLDAYEVENT:TRUE
DTSTART;TZID=Europe/Zurich;VALUE=DATE:20251031
END:VEVENT
BEGIN:VEVENT
UID:69ea07d0aceda
DTSTAMP:20260423T115144Z
SUMMARY:KONKURADO: Quartierentwicklung Rauchacker Oberengstringen\, Einreic
 hen der Projektstudie 19.12.2025 - 19.12.2025
DESCRIPTION:Link zum Verfahren: https://konkurado.ch/en/quartierentwicklung
 -rauchacker-oberengstringen
X-MICROSOFT-CDO-ALLDAYEVENT:TRUE
DTSTART;TZID=Europe/Zurich;VALUE=DATE:20251219
END:VEVENT
BEGIN:VEVENT
UID:69ea07d0aceff
DTSTAMP:20260423T115144Z
SUMMARY:KONKURADO: Quartierentwicklung Rauchacker Oberengstringen\, Einreic
 hen der Projektstudie 19.12.2025 - 19.12.2025
DESCRIPTION:Link zum Verfahren: https://konkurado.ch/en/quartierentwicklung
 -rauchacker-oberengstringen
X-MICROSOFT-CDO-ALLDAYEVENT:TRUE
DTSTART;TZID=Europe/Zurich;VALUE=DATE:20251219
END:VEVENT
BEGIN:VEVENT
UID:69ea07d0acf4f
DTSTAMP:20260423T115144Z
SUMMARY:KONKURADO: Quartierentwicklung Rauchacker Oberengstringen\, Schluss
 besprechung 28.05.2026 - 28.05.2026
DESCRIPTION:Link zum Verfahren: https://konkurado.ch/en/quartierentwicklung
 -rauchacker-oberengstringen
X-MICROSOFT-CDO-ALLDAYEVENT:TRUE
DTSTART;TZID=Europe/Zurich;VALUE=DATE:20260528
END:VEVENT
BEGIN:VEVENT
UID:69ea07d0acf75
DTSTAMP:20260423T115144Z
SUMMARY:KONKURADO: Quartierentwicklung Rauchacker Oberengstringen\, Schluss
 besprechung 28.05.2026 - 28.05.2026
DESCRIPTION:Link zum Verfahren: https://konkurado.ch/en/quartierentwicklung
 -rauchacker-oberengstringen
X-MICROSOFT-CDO-ALLDAYEVENT:TRUE
DTSTART;TZID=Europe/Zurich;VALUE=DATE:20260528
END:VEVENT
BEGIN:VEVENT
UID:69ea07d0acfdb
DTSTAMP:20260423T115144Z
SUMMARY:KONKURADO: Quartierentwicklung Rauchacker Oberengstringen\, Beantwo
 rtung der Fragen zum Verfahren 11.11.2025 - 11.11.2025
DESCRIPTION:Link zum Verfahren: https://konkurado.ch/en/quartierentwicklung
 -rauchacker-oberengstringen
X-MICROSOFT-CDO-ALLDAYEVENT:TRUE
DTSTART;TZID=Europe/Zurich;VALUE=DATE:20251111
END:VEVENT
BEGIN:VEVENT
UID:69ea07d0ad002
DTSTAMP:20260423T115144Z
SUMMARY:KONKURADO: Quartierentwicklung Rauchacker Oberengstringen\, Beantwo
 rtung der Fragen zum Verfahren 11.11.2025 - 11.11.2025
DESCRIPTION:Link zum Verfahren: https://konkurado.ch/en/quartierentwicklung
 -rauchacker-oberengstringen
X-MICROSOFT-CDO-ALLDAYEVENT:TRUE
DTSTART;TZID=Europe/Zurich;VALUE=DATE:20251111
END:VEVENT
BEGIN:VEVENT
UID:69ea07d0ad058
DTSTAMP:20260423T115144Z
SUMMARY:KONKURADO: Quartierentwicklung Rauchacker Oberengstringen\, Abgabe 
 der Studienunterlagen/Studienprogramm 24.10.2025 - 24.10.2025
DESCRIPTION:Link zum Verfahren: https://konkurado.ch/en/quartierentwicklung
 -rauchacker-oberengstringen
X-MICROSOFT-CDO-ALLDAYEVENT:TRUE
DTSTART;TZID=Europe/Zurich;VALUE=DATE:20251024
END:VEVENT
BEGIN:VEVENT
UID:69ea07d0ad08b
DTSTAMP:20260423T115144Z
SUMMARY:KONKURADO: Quartierentwicklung Rauchacker Oberengstringen\, Abgabe 
 der Studienunterlagen/Studienprogramm 24.10.2025 - 24.10.2025
DESCRIPTION:Link zum Verfahren: https://konkurado.ch/en/quartierentwicklung
 -rauchacker-oberengstringen
X-MICROSOFT-CDO-ALLDAYEVENT:TRUE
DTSTART;TZID=Europe/Zurich;VALUE=DATE:20251024
END:VEVENT
BEGIN:VEVENT
UID:69ea07d0ad0df
DTSTAMP:20260423T115144Z
SUMMARY:KONKURADO: Quartierentwicklung Rauchacker Oberengstringen\, Zwische
 nbesprechung 04.02.2026 - 04.02.2025
DESCRIPTION:Link zum Verfahren: https://konkurado.ch/en/quartierentwicklung
 -rauchacker-oberengstringen
X-MICROSOFT-CDO-ALLDAYEVENT:TRUE
DTSTART;TZID=Europe/Zurich;VALUE=DATE:20260204
END:VEVENT
BEGIN:VEVENT
UID:69ea07d0ad105
DTSTAMP:20260423T115144Z
SUMMARY:KONKURADO: Quartierentwicklung Rauchacker Oberengstringen\, Zwische
 nbesprechung 04.02.2026 - 04.02.2025
DESCRIPTION:Link zum Verfahren: https://konkurado.ch/en/quartierentwicklung
 -rauchacker-oberengstringen
X-MICROSOFT-CDO-ALLDAYEVENT:TRUE
DTSTART;TZID=Europe/Zurich;VALUE=DATE:20250204
END:VEVENT
BEGIN:VEVENT
UID:69ea07d0ad157
DTSTAMP:20260423T115144Z
SUMMARY:KONKURADO: Quartierentwicklung Rauchacker Oberengstringen\, Benachr
 ichtigung der Teams über das Resultat der Zwischenbesprechung 10.02.2026 
 - 10.02.2026
DESCRIPTION:Link zum Verfahren: https://konkurado.ch/en/quartierentwicklung
 -rauchacker-oberengstringen
X-MICROSOFT-CDO-ALLDAYEVENT:TRUE
DTSTART;TZID=Europe/Zurich;VALUE=DATE:20260210
END:VEVENT
BEGIN:VEVENT
UID:69ea07d0ad17d
DTSTAMP:20260423T115144Z
SUMMARY:KONKURADO: Quartierentwicklung Rauchacker Oberengstringen\, Benachr
 ichtigung der Teams über das Resultat der Zwischenbesprechung 10.02.2026 
 - 10.02.2026
DESCRIPTION:Link zum Verfahren: https://konkurado.ch/en/quartierentwicklung
 -rauchacker-oberengstringen
X-MICROSOFT-CDO-ALLDAYEVENT:TRUE
DTSTART;TZID=Europe/Zurich;VALUE=DATE:20260210
END:VEVENT
BEGIN:VEVENT
UID:69ea07d0ad1b2
DTSTAMP:20260423T115144Z
SUMMARY:KONKURADO: Quartierentwicklung Rauchacker Oberengstringen\, Eingabe
  2. Fragerunde 20.02.2026 - 20.02.2026
DESCRIPTION:Link zum Verfahren: https://konkurado.ch/en/quartierentwicklung
 -rauchacker-oberengstringen
X-MICROSOFT-CDO-ALLDAYEVENT:TRUE
DTSTART;TZID=Europe/Zurich;VALUE=DATE:20260220
END:VEVENT
BEGIN:VEVENT
UID:69ea07d0ad1de
DTSTAMP:20260423T115144Z
SUMMARY:KONKURADO: Quartierentwicklung Rauchacker Oberengstringen\, Eingabe
  2. Fragerunde 20.02.2026 - 20.02.2026
DESCRIPTION:Link zum Verfahren: https://konkurado.ch/en/quartierentwicklung
 -rauchacker-oberengstringen
X-MICROSOFT-CDO-ALLDAYEVENT:TRUE
DTSTART;TZID=Europe/Zurich;VALUE=DATE:20260220
END:VEVENT
BEGIN:VEVENT
UID:69ea07d0ad243
DTSTAMP:20260423T115144Z
SUMMARY:KONKURADO: Quartierentwicklung Rauchacker Oberengstringen\, Beantwo
 rtung der 2. Fragerunde 03.03.2026 - 03.03.2026
DESCRIPTION:Link zum Verfahren: https://konkurado.ch/en/quartierentwicklung
 -rauchacker-oberengstringen
X-MICROSOFT-CDO-ALLDAYEVENT:TRUE
DTSTART;TZID=Europe/Zurich;VALUE=DATE:20260303
END:VEVENT
BEGIN:VEVENT
UID:69ea07d0ad269
DTSTAMP:20260423T115144Z
SUMMARY:KONKURADO: Quartierentwicklung Rauchacker Oberengstringen\, Beantwo
 rtung der 2. Fragerunde 03.03.2026 - 03.03.2026
DESCRIPTION:Link zum Verfahren: https://konkurado.ch/en/quartierentwicklung
 -rauchacker-oberengstringen
X-MICROSOFT-CDO-ALLDAYEVENT:TRUE
DTSTART;TZID=Europe/Zurich;VALUE=DATE:20260303
END:VEVENT
BEGIN:VEVENT
UID:69ea07d0ad29d
DTSTAMP:20260423T115144Z
SUMMARY:KONKURADO: Quartierentwicklung Rauchacker Oberengstringen\, Einreic
 hen „vertiefte Projektstudien“ 24.04.2026 - 24.04.2026
DESCRIPTION:Link zum Verfahren: https://konkurado.ch/en/quartierentwicklung
 -rauchacker-oberengstringen
X-MICROSOFT-CDO-ALLDAYEVENT:TRUE
DTSTART;TZID=Europe/Zurich;VALUE=DATE:20260424
END:VEVENT
BEGIN:VEVENT
UID:69ea07d0ad2c7
DTSTAMP:20260423T115144Z
SUMMARY:KONKURADO: Quartierentwicklung Rauchacker Oberengstringen\, Einreic
 hen „vertiefte Projektstudien“ 24.04.2026 - 24.04.2026
DESCRIPTION:Link zum Verfahren: https://konkurado.ch/en/quartierentwicklung
 -rauchacker-oberengstringen
X-MICROSOFT-CDO-ALLDAYEVENT:TRUE
DTSTART;TZID=Europe/Zurich;VALUE=DATE:20260424
END:VEVENT
END:VCALENDAR