BEGIN:VCALENDAR
VERSION:2.0
PRODID:spatie/icalendar-generator
NAME:Projektwettbewerb Umnutzung Alte Post zur Bibliothek und Musikschule
X-WR-CALNAME:Projektwettbewerb Umnutzung Alte Post zur Bibliothek und Musik
 schule
BEGIN:VTIMEZONE
TZID:Europe/Zurich
BEGIN:STANDARD
DTSTART:20251026T030000
TZOFFSETFROM:+0200
TZOFFSETTO:+0100
END:STANDARD
BEGIN:DAYLIGHT
DTSTART:20260329T010000
TZOFFSETFROM:+0100
TZOFFSETTO:+0200
END:DAYLIGHT
BEGIN:STANDARD
DTSTART:20261025T030000
TZOFFSETFROM:+0200
TZOFFSETTO:+0100
END:STANDARD
BEGIN:DAYLIGHT
DTSTART:20270328T010000
TZOFFSETFROM:+0100
TZOFFSETTO:+0200
END:DAYLIGHT
END:VTIMEZONE
BEGIN:VTIMEZONE
TZID:UTC
BEGIN:STANDARD
DTSTART:20250727T124802
TZOFFSETFROM:+0000
TZOFFSETTO:+0000
END:STANDARD
END:VTIMEZONE
BEGIN:VEVENT
UID:69ea15024333b
DTSTAMP:20260423T124802Z
SUMMARY:KONKURADO: Projektwettbewerb Umnutzung Alte Post zur Bibliothek und
  Musikschule\, Abgabe Bewerbung 16.02.2026 - 02.04.2026
DESCRIPTION:Link zum Verfahren: https://konkurado.ch/en/pw_alte_post_wattwi
 l
X-MICROSOFT-CDO-ALLDAYEVENT:TRUE
DTSTART;TZID=Europe/Zurich;VALUE=DATE:20260216
END:VEVENT
BEGIN:VEVENT
UID:69ea1502433d4
DTSTAMP:20260423T124802Z
SUMMARY:KONKURADO: Projektwettbewerb Umnutzung Alte Post zur Bibliothek und
  Musikschule\, Abgabe Bewerbung 16.02.2026 - 02.04.2026
DESCRIPTION:Link zum Verfahren: https://konkurado.ch/en/pw_alte_post_wattwi
 l
X-MICROSOFT-CDO-ALLDAYEVENT:TRUE
DTSTART;TZID=Europe/Zurich;VALUE=DATE:20260402
END:VEVENT
BEGIN:VEVENT
UID:69ea1502435a4
DTSTAMP:20260423T124802Z
SUMMARY:KONKURADO: Projektwettbewerb Umnutzung Alte Post zur Bibliothek und
  Musikschule\, Bereitstellung der Unterlagen zum Wettbewerb 18.05.2026 - 1
 8.05.2026
DESCRIPTION:Link zum Verfahren: https://konkurado.ch/en/pw_alte_post_wattwi
 l
X-MICROSOFT-CDO-ALLDAYEVENT:TRUE
DTSTART;TZID=Europe/Zurich;VALUE=DATE:20260518
END:VEVENT
BEGIN:VEVENT
UID:69ea1502435d1
DTSTAMP:20260423T124802Z
SUMMARY:KONKURADO: Projektwettbewerb Umnutzung Alte Post zur Bibliothek und
  Musikschule\, Bereitstellung der Unterlagen zum Wettbewerb 18.05.2026 - 1
 8.05.2026
DESCRIPTION:Link zum Verfahren: https://konkurado.ch/en/pw_alte_post_wattwi
 l
X-MICROSOFT-CDO-ALLDAYEVENT:TRUE
DTSTART;TZID=Europe/Zurich;VALUE=DATE:20260518
END:VEVENT
BEGIN:VEVENT
UID:69ea15024360a
DTSTAMP:20260423T124802Z
SUMMARY:KONKURADO: Projektwettbewerb Umnutzung Alte Post zur Bibliothek und
  Musikschule\, Abgabe Fragen durch Teilnehmende 18.05.2026 - 12.06.2026
DESCRIPTION:Link zum Verfahren: https://konkurado.ch/en/pw_alte_post_wattwi
 l
X-MICROSOFT-CDO-ALLDAYEVENT:TRUE
DTSTART;TZID=Europe/Zurich;VALUE=DATE:20260518
END:VEVENT
BEGIN:VEVENT
UID:69ea150243631
DTSTAMP:20260423T124802Z
SUMMARY:KONKURADO: Projektwettbewerb Umnutzung Alte Post zur Bibliothek und
  Musikschule\, Abgabe Fragen durch Teilnehmende 18.05.2026 - 12.06.2026
DESCRIPTION:Link zum Verfahren: https://konkurado.ch/en/pw_alte_post_wattwi
 l
X-MICROSOFT-CDO-ALLDAYEVENT:TRUE
DTSTART;TZID=Europe/Zurich;VALUE=DATE:20260612
END:VEVENT
BEGIN:VEVENT
UID:69ea150243663
DTSTAMP:20260423T124802Z
SUMMARY:KONKURADO: Projektwettbewerb Umnutzung Alte Post zur Bibliothek und
  Musikschule\, Wettbewerbsabgabe 02.10.2026 - 02.10.2026
DESCRIPTION:Link zum Verfahren: https://konkurado.ch/en/pw_alte_post_wattwi
 l
X-MICROSOFT-CDO-ALLDAYEVENT:TRUE
DTSTART;TZID=Europe/Zurich;VALUE=DATE:20261002
END:VEVENT
BEGIN:VEVENT
UID:69ea150243688
DTSTAMP:20260423T124802Z
SUMMARY:KONKURADO: Projektwettbewerb Umnutzung Alte Post zur Bibliothek und
  Musikschule\, Wettbewerbsabgabe 02.10.2026 - 02.10.2026
DESCRIPTION:Link zum Verfahren: https://konkurado.ch/en/pw_alte_post_wattwi
 l
X-MICROSOFT-CDO-ALLDAYEVENT:TRUE
DTSTART;TZID=Europe/Zurich;VALUE=DATE:20261002
END:VEVENT
BEGIN:VEVENT
UID:69ea1502436c7
DTSTAMP:20260423T124802Z
SUMMARY:KONKURADO: Projektwettbewerb Umnutzung Alte Post zur Bibliothek und
  Musikschule\, Beurteilung Projektstudien 04.11.2026 - 17.11.2026
DESCRIPTION:Link zum Verfahren: https://konkurado.ch/en/pw_alte_post_wattwi
 l
X-MICROSOFT-CDO-ALLDAYEVENT:TRUE
DTSTART;TZID=Europe/Zurich;VALUE=DATE:20261104
END:VEVENT
BEGIN:VEVENT
UID:69ea1502436ed
DTSTAMP:20260423T124802Z
SUMMARY:KONKURADO: Projektwettbewerb Umnutzung Alte Post zur Bibliothek und
  Musikschule\, Beurteilung Projektstudien 04.11.2026 - 17.11.2026
DESCRIPTION:Link zum Verfahren: https://konkurado.ch/en/pw_alte_post_wattwi
 l
X-MICROSOFT-CDO-ALLDAYEVENT:TRUE
DTSTART;TZID=Europe/Zurich;VALUE=DATE:20261117
END:VEVENT
BEGIN:VEVENT
UID:69ea150243750
DTSTAMP:20260423T124802Z
SUMMARY:KONKURADO: Projektwettbewerb Umnutzung Alte Post zur Bibliothek und
  Musikschule\, Ausschreibung Programm / Raumprogramm (Präqualifikation) 1
 6.02.2026 - 16.02.2026
DESCRIPTION:Link zum Verfahren: https://konkurado.ch/en/pw_alte_post_wattwi
 l
X-MICROSOFT-CDO-ALLDAYEVENT:TRUE
DTSTART;TZID=Europe/Zurich;VALUE=DATE:20260216
END:VEVENT
BEGIN:VEVENT
UID:69ea150243777
DTSTAMP:20260423T124802Z
SUMMARY:KONKURADO: Projektwettbewerb Umnutzung Alte Post zur Bibliothek und
  Musikschule\, Ausschreibung Programm / Raumprogramm (Präqualifikation) 1
 6.02.2026 - 16.02.2026
DESCRIPTION:Link zum Verfahren: https://konkurado.ch/en/pw_alte_post_wattwi
 l
X-MICROSOFT-CDO-ALLDAYEVENT:TRUE
DTSTART;TZID=Europe/Zurich;VALUE=DATE:20260216
END:VEVENT
BEGIN:VEVENT
UID:69ea1502437fb
DTSTAMP:20260423T124802Z
SUMMARY:KONKURADO: Projektwettbewerb Umnutzung Alte Post zur Bibliothek und
  Musikschule\, Auswahl Teilnehmende (Präqualifikation) 20.04.2026 - 20.04
 .2026
DESCRIPTION:Link zum Verfahren: https://konkurado.ch/en/pw_alte_post_wattwi
 l
X-MICROSOFT-CDO-ALLDAYEVENT:TRUE
DTSTART;TZID=Europe/Zurich;VALUE=DATE:20260420
END:VEVENT
BEGIN:VEVENT
UID:69ea150243822
DTSTAMP:20260423T124802Z
SUMMARY:KONKURADO: Projektwettbewerb Umnutzung Alte Post zur Bibliothek und
  Musikschule\, Auswahl Teilnehmende (Präqualifikation) 20.04.2026 - 20.04
 .2026
DESCRIPTION:Link zum Verfahren: https://konkurado.ch/en/pw_alte_post_wattwi
 l
X-MICROSOFT-CDO-ALLDAYEVENT:TRUE
DTSTART;TZID=Europe/Zurich;VALUE=DATE:20260420
END:VEVENT
BEGIN:VEVENT
UID:69ea150243879
DTSTAMP:20260423T124802Z
SUMMARY:KONKURADO: Projektwettbewerb Umnutzung Alte Post zur Bibliothek und
  Musikschule\, Startveranstaltung 26.05.2026 - 26.05.2026
DESCRIPTION:Link zum Verfahren: https://konkurado.ch/en/pw_alte_post_wattwi
 l
X-MICROSOFT-CDO-ALLDAYEVENT:TRUE
DTSTART;TZID=Europe/Zurich;VALUE=DATE:20260526
END:VEVENT
BEGIN:VEVENT
UID:69ea1502438a9
DTSTAMP:20260423T124802Z
SUMMARY:KONKURADO: Projektwettbewerb Umnutzung Alte Post zur Bibliothek und
  Musikschule\, Startveranstaltung 26.05.2026 - 26.05.2026
DESCRIPTION:Link zum Verfahren: https://konkurado.ch/en/pw_alte_post_wattwi
 l
X-MICROSOFT-CDO-ALLDAYEVENT:TRUE
DTSTART;TZID=Europe/Zurich;VALUE=DATE:20260526
END:VEVENT
BEGIN:VEVENT
UID:69ea1502438ff
DTSTAMP:20260423T124802Z
SUMMARY:KONKURADO: Projektwettbewerb Umnutzung Alte Post zur Bibliothek und
  Musikschule\, Fragenbeantwortung an Teilnehmende 26.06.2026 - 26.06.2026
DESCRIPTION:Link zum Verfahren: https://konkurado.ch/en/pw_alte_post_wattwi
 l
X-MICROSOFT-CDO-ALLDAYEVENT:TRUE
DTSTART;TZID=Europe/Zurich;VALUE=DATE:20260626
END:VEVENT
BEGIN:VEVENT
UID:69ea150243925
DTSTAMP:20260423T124802Z
SUMMARY:KONKURADO: Projektwettbewerb Umnutzung Alte Post zur Bibliothek und
  Musikschule\, Fragenbeantwortung an Teilnehmende 26.06.2026 - 26.06.2026
DESCRIPTION:Link zum Verfahren: https://konkurado.ch/en/pw_alte_post_wattwi
 l
X-MICROSOFT-CDO-ALLDAYEVENT:TRUE
DTSTART;TZID=Europe/Zurich;VALUE=DATE:20260626
END:VEVENT
END:VCALENDAR