BEGIN:VCALENDAR
VERSION:2.0
PRODID:spatie/icalendar-generator
NAME:Projektwettbewerb Schulanlage Allmend\, Horgen
X-WR-CALNAME:Projektwettbewerb Schulanlage Allmend\, Horgen
BEGIN:VTIMEZONE
TZID:Europe/Zurich
BEGIN:STANDARD
DTSTART:20251026T030000
TZOFFSETFROM:+0200
TZOFFSETTO:+0100
END:STANDARD
BEGIN:DAYLIGHT
DTSTART:20260329T010000
TZOFFSETFROM:+0100
TZOFFSETTO:+0200
END:DAYLIGHT
BEGIN:STANDARD
DTSTART:20261025T030000
TZOFFSETFROM:+0200
TZOFFSETTO:+0100
END:STANDARD
END:VTIMEZONE
BEGIN:VTIMEZONE
TZID:UTC
BEGIN:STANDARD
DTSTART:20250727T105414
TZOFFSETFROM:+0000
TZOFFSETTO:+0000
END:STANDARD
END:VTIMEZONE
BEGIN:VEVENT
UID:69e9fa56bd5a9
DTSTAMP:20260423T105414Z
SUMMARY:KONKURADO: Projektwettbewerb Schulanlage Allmend\, Horgen\, Frageru
 nde\, einreichen bis 06.05.2026 - 06.05.2026
DESCRIPTION:Link zum Verfahren: https://konkurado.ch/en/projektwettbewerb-s
 chulanlage-allmend-horgen
X-MICROSOFT-CDO-ALLDAYEVENT:TRUE
DTSTART;TZID=Europe/Zurich;VALUE=DATE:20260506
END:VEVENT
BEGIN:VEVENT
UID:69e9fa56bd632
DTSTAMP:20260423T105414Z
SUMMARY:KONKURADO: Projektwettbewerb Schulanlage Allmend\, Horgen\, Frageru
 nde\, einreichen bis 06.05.2026 - 06.05.2026
DESCRIPTION:Link zum Verfahren: https://konkurado.ch/en/projektwettbewerb-s
 chulanlage-allmend-horgen
X-MICROSOFT-CDO-ALLDAYEVENT:TRUE
DTSTART;TZID=Europe/Zurich;VALUE=DATE:20260506
END:VEVENT
BEGIN:VEVENT
UID:69e9fa56bd6b6
DTSTAMP:20260423T105414Z
SUMMARY:KONKURADO: Projektwettbewerb Schulanlage Allmend\, Horgen\, Einreic
 hen des Projektbeitrags 17.07.2026 - 17.07.2026
DESCRIPTION:Link zum Verfahren: https://konkurado.ch/en/projektwettbewerb-s
 chulanlage-allmend-horgen
X-MICROSOFT-CDO-ALLDAYEVENT:TRUE
DTSTART;TZID=Europe/Zurich;VALUE=DATE:20260717
END:VEVENT
BEGIN:VEVENT
UID:69e9fa56bd6e3
DTSTAMP:20260423T105414Z
SUMMARY:KONKURADO: Projektwettbewerb Schulanlage Allmend\, Horgen\, Einreic
 hen des Projektbeitrags 17.07.2026 - 17.07.2026
DESCRIPTION:Link zum Verfahren: https://konkurado.ch/en/projektwettbewerb-s
 chulanlage-allmend-horgen
X-MICROSOFT-CDO-ALLDAYEVENT:TRUE
DTSTART;TZID=Europe/Zurich;VALUE=DATE:20260717
END:VEVENT
BEGIN:VEVENT
UID:69e9fa56bd73f
DTSTAMP:20260423T105414Z
SUMMARY:KONKURADO: Projektwettbewerb Schulanlage Allmend\, Horgen\, Verfüg
 barkeit der Ausschreibungsunterlagen 20.04.2026 - 17.07.2026
DESCRIPTION:Link zum Verfahren: https://konkurado.ch/en/projektwettbewerb-s
 chulanlage-allmend-horgen
X-MICROSOFT-CDO-ALLDAYEVENT:TRUE
DTSTART;TZID=Europe/Zurich;VALUE=DATE:20260420
END:VEVENT
BEGIN:VEVENT
UID:69e9fa56bd765
DTSTAMP:20260423T105414Z
SUMMARY:KONKURADO: Projektwettbewerb Schulanlage Allmend\, Horgen\, Verfüg
 barkeit der Ausschreibungsunterlagen 20.04.2026 - 17.07.2026
DESCRIPTION:Link zum Verfahren: https://konkurado.ch/en/projektwettbewerb-s
 chulanlage-allmend-horgen
X-MICROSOFT-CDO-ALLDAYEVENT:TRUE
DTSTART;TZID=Europe/Zurich;VALUE=DATE:20260717
END:VEVENT
END:VCALENDAR