BEGIN:VCALENDAR
VERSION:2.0
PRODID:spatie/icalendar-generator
NAME:Projektieren und Realisieren von Bushaltestellen und der Freiraumgesta
 ltung am Bahnhof Stäfa
X-WR-CALNAME:Projektieren und Realisieren von Bushaltestellen und der Freir
 aumgestaltung am Bahnhof Stäfa
BEGIN:VTIMEZONE
TZID:Europe/Zurich
BEGIN:STANDARD
DTSTART:20241027T030000
TZOFFSETFROM:+0200
TZOFFSETTO:+0100
END:STANDARD
BEGIN:DAYLIGHT
DTSTART:20250330T010000
TZOFFSETFROM:+0100
TZOFFSETTO:+0200
END:DAYLIGHT
BEGIN:STANDARD
DTSTART:20251026T030000
TZOFFSETFROM:+0200
TZOFFSETTO:+0100
END:STANDARD
END:VTIMEZONE
BEGIN:VTIMEZONE
TZID:UTC
BEGIN:STANDARD
DTSTART:20250727T120655
TZOFFSETFROM:+0000
TZOFFSETTO:+0000
END:STANDARD
END:VTIMEZONE
BEGIN:VEVENT
UID:69ea0b5f25ca9
DTSTAMP:20260423T120655Z
SUMMARY:KONKURADO: Projektieren und Realisieren von Bushaltestellen und der
  Freiraumgestaltung am Bahnhof Stäfa\, Einreichung von Fragen bis 28.03.2
 025 - 11.04.2025
DESCRIPTION:Link zum Verfahren: https://konkurado.ch/en/projektieren-und-re
 alisieren-von-bushaltestellen-und-der-freiraumgestaltung-am-bahnhof-stafa
X-MICROSOFT-CDO-ALLDAYEVENT:TRUE
DTSTART;TZID=Europe/Zurich;VALUE=DATE:20250328
END:VEVENT
BEGIN:VEVENT
UID:69ea0b5f25d35
DTSTAMP:20260423T120655Z
SUMMARY:KONKURADO: Projektieren und Realisieren von Bushaltestellen und der
  Freiraumgestaltung am Bahnhof Stäfa\, Einreichung von Fragen bis 28.03.2
 025 - 11.04.2025
DESCRIPTION:Link zum Verfahren: https://konkurado.ch/en/projektieren-und-re
 alisieren-von-bushaltestellen-und-der-freiraumgestaltung-am-bahnhof-stafa
X-MICROSOFT-CDO-ALLDAYEVENT:TRUE
DTSTART;TZID=Europe/Zurich;VALUE=DATE:20250411
END:VEVENT
BEGIN:VEVENT
UID:69ea0b5f25d71
DTSTAMP:20260423T120655Z
SUMMARY:KONKURADO: Projektieren und Realisieren von Bushaltestellen und der
  Freiraumgestaltung am Bahnhof Stäfa\, Einreichung von Angeboten bis 28.0
 3.2025 - 12.05.2025
DESCRIPTION:Link zum Verfahren: https://konkurado.ch/en/projektieren-und-re
 alisieren-von-bushaltestellen-und-der-freiraumgestaltung-am-bahnhof-stafa
X-MICROSOFT-CDO-ALLDAYEVENT:TRUE
DTSTART;TZID=Europe/Zurich;VALUE=DATE:20250328
END:VEVENT
BEGIN:VEVENT
UID:69ea0b5f25d97
DTSTAMP:20260423T120655Z
SUMMARY:KONKURADO: Projektieren und Realisieren von Bushaltestellen und der
  Freiraumgestaltung am Bahnhof Stäfa\, Einreichung von Angeboten bis 28.0
 3.2025 - 12.05.2025
DESCRIPTION:Link zum Verfahren: https://konkurado.ch/en/projektieren-und-re
 alisieren-von-bushaltestellen-und-der-freiraumgestaltung-am-bahnhof-stafa
X-MICROSOFT-CDO-ALLDAYEVENT:TRUE
DTSTART;TZID=Europe/Zurich;VALUE=DATE:20250512
END:VEVENT
BEGIN:VEVENT
UID:69ea0b5f25f2d
DTSTAMP:20260423T120655Z
SUMMARY:KONKURADO: Projektieren und Realisieren von Bushaltestellen und der
  Freiraumgestaltung am Bahnhof Stäfa\, Offertöffnung 12.05.2025 - 12.05.
 2025
DESCRIPTION:Link zum Verfahren: https://konkurado.ch/en/projektieren-und-re
 alisieren-von-bushaltestellen-und-der-freiraumgestaltung-am-bahnhof-stafa
X-MICROSOFT-CDO-ALLDAYEVENT:TRUE
DTSTART;TZID=Europe/Zurich;VALUE=DATE:20250512
END:VEVENT
BEGIN:VEVENT
UID:69ea0b5f25f58
DTSTAMP:20260423T120655Z
SUMMARY:KONKURADO: Projektieren und Realisieren von Bushaltestellen und der
  Freiraumgestaltung am Bahnhof Stäfa\, Offertöffnung 12.05.2025 - 12.05.
 2025
DESCRIPTION:Link zum Verfahren: https://konkurado.ch/en/projektieren-und-re
 alisieren-von-bushaltestellen-und-der-freiraumgestaltung-am-bahnhof-stafa
X-MICROSOFT-CDO-ALLDAYEVENT:TRUE
DTSTART;TZID=Europe/Zurich;VALUE=DATE:20250512
END:VEVENT
END:VCALENDAR