BEGIN:VCALENDAR
VERSION:2.0
PRODID:spatie/icalendar-generator
NAME:Progettista Tecnica Ferroviaria - Rete Tram-Treno del Luganese - Tappa
  prioritaria
X-WR-CALNAME:Progettista Tecnica Ferroviaria - Rete Tram-Treno del Luganese
  - Tappa prioritaria
BEGIN:VTIMEZONE
TZID:Europe/Zurich
BEGIN:STANDARD
DTSTART:20251026T030000
TZOFFSETFROM:+0200
TZOFFSETTO:+0100
END:STANDARD
BEGIN:DAYLIGHT
DTSTART:20260329T010000
TZOFFSETFROM:+0100
TZOFFSETTO:+0200
END:DAYLIGHT
BEGIN:STANDARD
DTSTART:20261025T030000
TZOFFSETFROM:+0200
TZOFFSETTO:+0100
END:STANDARD
END:VTIMEZONE
BEGIN:VTIMEZONE
TZID:UTC
BEGIN:STANDARD
DTSTART:20250727T103054
TZOFFSETFROM:+0000
TZOFFSETTO:+0000
END:STANDARD
END:VTIMEZONE
BEGIN:VEVENT
UID:69e9f4de7dd7b
DTSTAMP:20260423T103054Z
SUMMARY:KONKURADO: Progettista Tecnica Ferroviaria - Rete Tram-Treno del Lu
 ganese - Tappa prioritaria\, Sessione di domande\, inviare entro 13.04.202
 6 - 13.04.2026
DESCRIPTION:Link zum Verfahren: https://konkurado.ch/en/progettista-tecnica
 -ferroviaria-rete-tram-treno-del-luganese-rttl-tappa-prioritaria
X-MICROSOFT-CDO-ALLDAYEVENT:TRUE
DTSTART;TZID=Europe/Zurich;VALUE=DATE:20260413
END:VEVENT
BEGIN:VEVENT
UID:69e9f4de7de82
DTSTAMP:20260423T103054Z
SUMMARY:KONKURADO: Progettista Tecnica Ferroviaria - Rete Tram-Treno del Lu
 ganese - Tappa prioritaria\, Sessione di domande\, inviare entro 13.04.202
 6 - 13.04.2026
DESCRIPTION:Link zum Verfahren: https://konkurado.ch/en/progettista-tecnica
 -ferroviaria-rete-tram-treno-del-luganese-rttl-tappa-prioritaria
X-MICROSOFT-CDO-ALLDAYEVENT:TRUE
DTSTART;TZID=Europe/Zurich;VALUE=DATE:20260413
END:VEVENT
BEGIN:VEVENT
UID:69e9f4de7df3e
DTSTAMP:20260423T103054Z
SUMMARY:KONKURADO: Progettista Tecnica Ferroviaria - Rete Tram-Treno del Lu
 ganese - Tappa prioritaria\, Invio della domanda di partecipazione 25.06.2
 026 - 25.06.2026
DESCRIPTION:Link zum Verfahren: https://konkurado.ch/en/progettista-tecnica
 -ferroviaria-rete-tram-treno-del-luganese-rttl-tappa-prioritaria
X-MICROSOFT-CDO-ALLDAYEVENT:TRUE
DTSTART;TZID=Europe/Zurich;VALUE=DATE:20260625
END:VEVENT
BEGIN:VEVENT
UID:69e9f4de7df81
DTSTAMP:20260423T103054Z
SUMMARY:KONKURADO: Progettista Tecnica Ferroviaria - Rete Tram-Treno del Lu
 ganese - Tappa prioritaria\, Invio della domanda di partecipazione 25.06.2
 026 - 25.06.2026
DESCRIPTION:Link zum Verfahren: https://konkurado.ch/en/progettista-tecnica
 -ferroviaria-rete-tram-treno-del-luganese-rttl-tappa-prioritaria
X-MICROSOFT-CDO-ALLDAYEVENT:TRUE
DTSTART;TZID=Europe/Zurich;VALUE=DATE:20260625
END:VEVENT
BEGIN:VEVENT
UID:69e9f4de7e014
DTSTAMP:20260423T103054Z
SUMMARY:KONKURADO: Progettista Tecnica Ferroviaria - Rete Tram-Treno del Lu
 ganese - Tappa prioritaria\, Apertura offerte 26.06.2026 - 26.06.2026
DESCRIPTION:Link zum Verfahren: https://konkurado.ch/en/progettista-tecnica
 -ferroviaria-rete-tram-treno-del-luganese-rttl-tappa-prioritaria
X-MICROSOFT-CDO-ALLDAYEVENT:TRUE
DTSTART;TZID=Europe/Zurich;VALUE=DATE:20260626
END:VEVENT
BEGIN:VEVENT
UID:69e9f4de7e05b
DTSTAMP:20260423T103054Z
SUMMARY:KONKURADO: Progettista Tecnica Ferroviaria - Rete Tram-Treno del Lu
 ganese - Tappa prioritaria\, Apertura offerte 26.06.2026 - 26.06.2026
DESCRIPTION:Link zum Verfahren: https://konkurado.ch/en/progettista-tecnica
 -ferroviaria-rete-tram-treno-del-luganese-rttl-tappa-prioritaria
X-MICROSOFT-CDO-ALLDAYEVENT:TRUE
DTSTART;TZID=Europe/Zurich;VALUE=DATE:20260626
END:VEVENT
BEGIN:VEVENT
UID:69e9f4de7e118
DTSTAMP:20260423T103054Z
SUMMARY:KONKURADO: Progettista Tecnica Ferroviaria - Rete Tram-Treno del Lu
 ganese - Tappa prioritaria\, Disponibilità dei documenti di gara 01.04.20
 26 - 25.06.2026
DESCRIPTION:Link zum Verfahren: https://konkurado.ch/en/progettista-tecnica
 -ferroviaria-rete-tram-treno-del-luganese-rttl-tappa-prioritaria
X-MICROSOFT-CDO-ALLDAYEVENT:TRUE
DTSTART;TZID=Europe/Zurich;VALUE=DATE:20260401
END:VEVENT
BEGIN:VEVENT
UID:69e9f4de7e171
DTSTAMP:20260423T103054Z
SUMMARY:KONKURADO: Progettista Tecnica Ferroviaria - Rete Tram-Treno del Lu
 ganese - Tappa prioritaria\, Disponibilità dei documenti di gara 01.04.20
 26 - 25.06.2026
DESCRIPTION:Link zum Verfahren: https://konkurado.ch/en/progettista-tecnica
 -ferroviaria-rete-tram-treno-del-luganese-rttl-tappa-prioritaria
X-MICROSOFT-CDO-ALLDAYEVENT:TRUE
DTSTART;TZID=Europe/Zurich;VALUE=DATE:20260625
END:VEVENT
END:VCALENDAR