BEGIN:VCALENDAR
VERSION:2.0
PRODID:spatie/icalendar-generator
NAME:Primarschulhaus Obergasse Zizers
X-WR-CALNAME:Primarschulhaus Obergasse Zizers
BEGIN:VTIMEZONE
TZID:Europe/Zurich
BEGIN:STANDARD
DTSTART:20241027T030000
TZOFFSETFROM:+0200
TZOFFSETTO:+0100
END:STANDARD
BEGIN:DAYLIGHT
DTSTART:20250330T010000
TZOFFSETFROM:+0100
TZOFFSETTO:+0200
END:DAYLIGHT
BEGIN:STANDARD
DTSTART:20251026T030000
TZOFFSETFROM:+0200
TZOFFSETTO:+0100
END:STANDARD
BEGIN:DAYLIGHT
DTSTART:20260329T010000
TZOFFSETFROM:+0100
TZOFFSETTO:+0200
END:DAYLIGHT
END:VTIMEZONE
BEGIN:VTIMEZONE
TZID:UTC
BEGIN:STANDARD
DTSTART:20250727T115445
TZOFFSETFROM:+0000
TZOFFSETTO:+0000
END:STANDARD
END:VTIMEZONE
BEGIN:VEVENT
UID:69ea088584fcd
DTSTAMP:20260423T115445Z
SUMMARY:KONKURADO: Primarschulhaus Obergasse Zizers\, Eingabetermin für di
 e Präqualifikation 24.01.2025 - 21.02.2025
DESCRIPTION:Link zum Verfahren: https://konkurado.ch/en/primarschulhaus-obe
 rgasse-zizers
X-MICROSOFT-CDO-ALLDAYEVENT:TRUE
DTSTART;TZID=Europe/Zurich;VALUE=DATE:20250124
END:VEVENT
BEGIN:VEVENT
UID:69ea08858504d
DTSTAMP:20260423T115445Z
SUMMARY:KONKURADO: Primarschulhaus Obergasse Zizers\, Eingabetermin für di
 e Präqualifikation 24.01.2025 - 21.02.2025
DESCRIPTION:Link zum Verfahren: https://konkurado.ch/en/primarschulhaus-obe
 rgasse-zizers
X-MICROSOFT-CDO-ALLDAYEVENT:TRUE
DTSTART;TZID=Europe/Zurich;VALUE=DATE:20250221
END:VEVENT
BEGIN:VEVENT
UID:69ea08858517c
DTSTAMP:20260423T115445Z
SUMMARY:KONKURADO: Primarschulhaus Obergasse Zizers\, Versand der Wettbewer
 bsunterlagen 09.05.2025 - 09.05.2025
DESCRIPTION:Link zum Verfahren: https://konkurado.ch/en/primarschulhaus-obe
 rgasse-zizers
X-MICROSOFT-CDO-ALLDAYEVENT:TRUE
DTSTART;TZID=Europe/Zurich;VALUE=DATE:20250509
END:VEVENT
BEGIN:VEVENT
UID:69ea0885851a8
DTSTAMP:20260423T115445Z
SUMMARY:KONKURADO: Primarschulhaus Obergasse Zizers\, Versand der Wettbewer
 bsunterlagen 09.05.2025 - 09.05.2025
DESCRIPTION:Link zum Verfahren: https://konkurado.ch/en/primarschulhaus-obe
 rgasse-zizers
X-MICROSOFT-CDO-ALLDAYEVENT:TRUE
DTSTART;TZID=Europe/Zurich;VALUE=DATE:20250509
END:VEVENT
BEGIN:VEVENT
UID:69ea0885851df
DTSTAMP:20260423T115445Z
SUMMARY:KONKURADO: Primarschulhaus Obergasse Zizers\, Einreichung Fragen zu
 m Programm 09.05.2025 - 06.06.2025
DESCRIPTION:Link zum Verfahren: https://konkurado.ch/en/primarschulhaus-obe
 rgasse-zizers
X-MICROSOFT-CDO-ALLDAYEVENT:TRUE
DTSTART;TZID=Europe/Zurich;VALUE=DATE:20250509
END:VEVENT
BEGIN:VEVENT
UID:69ea088585205
DTSTAMP:20260423T115445Z
SUMMARY:KONKURADO: Primarschulhaus Obergasse Zizers\, Einreichung Fragen zu
 m Programm 09.05.2025 - 06.06.2025
DESCRIPTION:Link zum Verfahren: https://konkurado.ch/en/primarschulhaus-obe
 rgasse-zizers
X-MICROSOFT-CDO-ALLDAYEVENT:TRUE
DTSTART;TZID=Europe/Zurich;VALUE=DATE:20250606
END:VEVENT
BEGIN:VEVENT
UID:69ea088585237
DTSTAMP:20260423T115445Z
SUMMARY:KONKURADO: Primarschulhaus Obergasse Zizers\, Eingabetermin Wettbew
 erb 09.05.2025 - 12.09.2025
DESCRIPTION:Link zum Verfahren: https://konkurado.ch/en/primarschulhaus-obe
 rgasse-zizers
X-MICROSOFT-CDO-ALLDAYEVENT:TRUE
DTSTART;TZID=Europe/Zurich;VALUE=DATE:20250509
END:VEVENT
BEGIN:VEVENT
UID:69ea08858525c
DTSTAMP:20260423T115445Z
SUMMARY:KONKURADO: Primarschulhaus Obergasse Zizers\, Eingabetermin Wettbew
 erb 09.05.2025 - 12.09.2025
DESCRIPTION:Link zum Verfahren: https://konkurado.ch/en/primarschulhaus-obe
 rgasse-zizers
X-MICROSOFT-CDO-ALLDAYEVENT:TRUE
DTSTART;TZID=Europe/Zurich;VALUE=DATE:20250912
END:VEVENT
BEGIN:VEVENT
UID:69ea0885852b8
DTSTAMP:20260423T115445Z
SUMMARY:KONKURADO: Primarschulhaus Obergasse Zizers\, Begehung vor Ort | Ab
 gabe Modell 22.05.2025 - 22.05.2025
DESCRIPTION:Link zum Verfahren: https://konkurado.ch/en/primarschulhaus-obe
 rgasse-zizers
X-MICROSOFT-CDO-ALLDAYEVENT:TRUE
DTSTART;TZID=Europe/Zurich;VALUE=DATE:20250522
END:VEVENT
BEGIN:VEVENT
UID:69ea0885852df
DTSTAMP:20260423T115445Z
SUMMARY:KONKURADO: Primarschulhaus Obergasse Zizers\, Begehung vor Ort | Ab
 gabe Modell 22.05.2025 - 22.05.2025
DESCRIPTION:Link zum Verfahren: https://konkurado.ch/en/primarschulhaus-obe
 rgasse-zizers
X-MICROSOFT-CDO-ALLDAYEVENT:TRUE
DTSTART;TZID=Europe/Zurich;VALUE=DATE:20250522
END:VEVENT
BEGIN:VEVENT
UID:69ea088585333
DTSTAMP:20260423T115445Z
SUMMARY:KONKURADO: Primarschulhaus Obergasse Zizers\, Fragenbeantwortung 07
 .06.2025 - 20.06.2025
DESCRIPTION:Link zum Verfahren: https://konkurado.ch/en/primarschulhaus-obe
 rgasse-zizers
X-MICROSOFT-CDO-ALLDAYEVENT:TRUE
DTSTART;TZID=Europe/Zurich;VALUE=DATE:20250607
END:VEVENT
BEGIN:VEVENT
UID:69ea088585359
DTSTAMP:20260423T115445Z
SUMMARY:KONKURADO: Primarschulhaus Obergasse Zizers\, Fragenbeantwortung 07
 .06.2025 - 20.06.2025
DESCRIPTION:Link zum Verfahren: https://konkurado.ch/en/primarschulhaus-obe
 rgasse-zizers
X-MICROSOFT-CDO-ALLDAYEVENT:TRUE
DTSTART;TZID=Europe/Zurich;VALUE=DATE:20250620
END:VEVENT
BEGIN:VEVENT
UID:69ea0885853ab
DTSTAMP:20260423T115445Z
SUMMARY:KONKURADO: Primarschulhaus Obergasse Zizers\, Abgabe Modell 22.05.2
 025 - 03.10.2025
DESCRIPTION:Link zum Verfahren: https://konkurado.ch/en/primarschulhaus-obe
 rgasse-zizers
X-MICROSOFT-CDO-ALLDAYEVENT:TRUE
DTSTART;TZID=Europe/Zurich;VALUE=DATE:20250522
END:VEVENT
BEGIN:VEVENT
UID:69ea0885853d2
DTSTAMP:20260423T115445Z
SUMMARY:KONKURADO: Primarschulhaus Obergasse Zizers\, Abgabe Modell 22.05.2
 025 - 03.10.2025
DESCRIPTION:Link zum Verfahren: https://konkurado.ch/en/primarschulhaus-obe
 rgasse-zizers
X-MICROSOFT-CDO-ALLDAYEVENT:TRUE
DTSTART;TZID=Europe/Zurich;VALUE=DATE:20251003
END:VEVENT
END:VCALENDAR