BEGIN:VCALENDAR
VERSION:2.0
PRODID:spatie/icalendar-generator
NAME:Prestations pour la transformation d'un bâtiment en vue de la créati
 on d'un établissement psychosocial médicalisé à Renens
X-WR-CALNAME:Prestations pour la transformation d'un bâtiment en vue de la
  création d'un établissement psychosocial médicalisé à Renens
BEGIN:VTIMEZONE
TZID:Europe/Zurich
BEGIN:STANDARD
DTSTART:20251026T030000
TZOFFSETFROM:+0200
TZOFFSETTO:+0100
END:STANDARD
BEGIN:DAYLIGHT
DTSTART:20260329T010000
TZOFFSETFROM:+0100
TZOFFSETTO:+0200
END:DAYLIGHT
BEGIN:STANDARD
DTSTART:20261025T030000
TZOFFSETFROM:+0200
TZOFFSETTO:+0100
END:STANDARD
END:VTIMEZONE
BEGIN:VTIMEZONE
TZID:UTC
BEGIN:STANDARD
DTSTART:20250727T101838
TZOFFSETFROM:+0000
TZOFFSETTO:+0000
END:STANDARD
END:VTIMEZONE
BEGIN:VEVENT
UID:69e9f1febd8de
DTSTAMP:20260423T101838Z
SUMMARY:KONKURADO: Prestations pour la transformation d'un bâtiment en vue
  de la création d'un établissement psychosocial médicalisé à Renens\,
  Soumission de questions jusqu’au 21.04.2026 - 21.04.2026
DESCRIPTION:Link zum Verfahren: https://konkurado.ch/en/prestations-pour-la
 -transformation-dun-batiment-en-vue-de-la-creation-dun-etablissement-psych
 osocial-medicalise-a-renens
X-MICROSOFT-CDO-ALLDAYEVENT:TRUE
DTSTART;TZID=Europe/Zurich;VALUE=DATE:20260421
END:VEVENT
BEGIN:VEVENT
UID:69e9f1febd949
DTSTAMP:20260423T101838Z
SUMMARY:KONKURADO: Prestations pour la transformation d'un bâtiment en vue
  de la création d'un établissement psychosocial médicalisé à Renens\,
  Soumission de questions jusqu’au 21.04.2026 - 21.04.2026
DESCRIPTION:Link zum Verfahren: https://konkurado.ch/en/prestations-pour-la
 -transformation-dun-batiment-en-vue-de-la-creation-dun-etablissement-psych
 osocial-medicalise-a-renens
X-MICROSOFT-CDO-ALLDAYEVENT:TRUE
DTSTART;TZID=Europe/Zurich;VALUE=DATE:20260421
END:VEVENT
BEGIN:VEVENT
UID:69e9f1febd9bc
DTSTAMP:20260423T101838Z
SUMMARY:KONKURADO: Prestations pour la transformation d'un bâtiment en vue
  de la création d'un établissement psychosocial médicalisé à Renens\,
  Soumission des offres jusqu’au 26.05.2026 - 26.05.2026
DESCRIPTION:Link zum Verfahren: https://konkurado.ch/en/prestations-pour-la
 -transformation-dun-batiment-en-vue-de-la-creation-dun-etablissement-psych
 osocial-medicalise-a-renens
X-MICROSOFT-CDO-ALLDAYEVENT:TRUE
DTSTART;TZID=Europe/Zurich;VALUE=DATE:20260526
END:VEVENT
BEGIN:VEVENT
UID:69e9f1febd9e6
DTSTAMP:20260423T101838Z
SUMMARY:KONKURADO: Prestations pour la transformation d'un bâtiment en vue
  de la création d'un établissement psychosocial médicalisé à Renens\,
  Soumission des offres jusqu’au 26.05.2026 - 26.05.2026
DESCRIPTION:Link zum Verfahren: https://konkurado.ch/en/prestations-pour-la
 -transformation-dun-batiment-en-vue-de-la-creation-dun-etablissement-psych
 osocial-medicalise-a-renens
X-MICROSOFT-CDO-ALLDAYEVENT:TRUE
DTSTART;TZID=Europe/Zurich;VALUE=DATE:20260526
END:VEVENT
END:VCALENDAR