BEGIN:VCALENDAR
VERSION:2.0
PRODID:spatie/icalendar-generator
NAME:Präqualifikation Studienauftrag Um- und Neubau Spital Davos
X-WR-CALNAME:Präqualifikation Studienauftrag Um- und Neubau Spital Davos
BEGIN:VTIMEZONE
TZID:Europe/Zurich
BEGIN:STANDARD
DTSTART:20251026T030000
TZOFFSETFROM:+0200
TZOFFSETTO:+0100
END:STANDARD
BEGIN:DAYLIGHT
DTSTART:20260329T010000
TZOFFSETFROM:+0100
TZOFFSETTO:+0200
END:DAYLIGHT
BEGIN:STANDARD
DTSTART:20261025T030000
TZOFFSETFROM:+0200
TZOFFSETTO:+0100
END:STANDARD
BEGIN:DAYLIGHT
DTSTART:20270328T010000
TZOFFSETFROM:+0100
TZOFFSETTO:+0200
END:DAYLIGHT
END:VTIMEZONE
BEGIN:VTIMEZONE
TZID:UTC
BEGIN:STANDARD
DTSTART:20250727T101658
TZOFFSETFROM:+0000
TZOFFSETTO:+0000
END:STANDARD
END:VTIMEZONE
BEGIN:VEVENT
UID:69e9f19a48df9
DTSTAMP:20260423T101658Z
SUMMARY:KONKURADO: Präqualifikation Studienauftrag Um- und Neubau Spital D
 avos\, Einreichen des Teilnahmeantrags 04.05.2026 - 04.05.2026
DESCRIPTION:Link zum Verfahren: https://konkurado.ch/en/praqualifikation-st
 udienauftrag-um-und-neubau-spital-davos
X-MICROSOFT-CDO-ALLDAYEVENT:TRUE
DTSTART;TZID=Europe/Zurich;VALUE=DATE:20260504
END:VEVENT
BEGIN:VEVENT
UID:69e9f19a48e89
DTSTAMP:20260423T101658Z
SUMMARY:KONKURADO: Präqualifikation Studienauftrag Um- und Neubau Spital D
 avos\, Einreichen des Teilnahmeantrags 04.05.2026 - 04.05.2026
DESCRIPTION:Link zum Verfahren: https://konkurado.ch/en/praqualifikation-st
 udienauftrag-um-und-neubau-spital-davos
X-MICROSOFT-CDO-ALLDAYEVENT:TRUE
DTSTART;TZID=Europe/Zurich;VALUE=DATE:20260504
END:VEVENT
BEGIN:VEVENT
UID:69e9f19a48f03
DTSTAMP:20260423T101658Z
SUMMARY:KONKURADO: Präqualifikation Studienauftrag Um- und Neubau Spital D
 avos\, Vorgesehene Frist für die Einreichung des Angebots 23.10.2026 - 23
 .10.2026
DESCRIPTION:Link zum Verfahren: https://konkurado.ch/en/praqualifikation-st
 udienauftrag-um-und-neubau-spital-davos
X-MICROSOFT-CDO-ALLDAYEVENT:TRUE
DTSTART;TZID=Europe/Zurich;VALUE=DATE:20261023
END:VEVENT
BEGIN:VEVENT
UID:69e9f19a48f39
DTSTAMP:20260423T101658Z
SUMMARY:KONKURADO: Präqualifikation Studienauftrag Um- und Neubau Spital D
 avos\, Vorgesehene Frist für die Einreichung des Angebots 23.10.2026 - 23
 .10.2026
DESCRIPTION:Link zum Verfahren: https://konkurado.ch/en/praqualifikation-st
 udienauftrag-um-und-neubau-spital-davos
X-MICROSOFT-CDO-ALLDAYEVENT:TRUE
DTSTART;TZID=Europe/Zurich;VALUE=DATE:20261023
END:VEVENT
BEGIN:VEVENT
UID:69e9f19a48fa3
DTSTAMP:20260423T101658Z
SUMMARY:KONKURADO: Präqualifikation Studienauftrag Um- und Neubau Spital D
 avos\, Interessensbekundung bis 04.05.2026 - 04.05.2026
DESCRIPTION:Link zum Verfahren: https://konkurado.ch/en/praqualifikation-st
 udienauftrag-um-und-neubau-spital-davos
X-MICROSOFT-CDO-ALLDAYEVENT:TRUE
DTSTART;TZID=Europe/Zurich;VALUE=DATE:20260504
END:VEVENT
BEGIN:VEVENT
UID:69e9f19a48fca
DTSTAMP:20260423T101658Z
SUMMARY:KONKURADO: Präqualifikation Studienauftrag Um- und Neubau Spital D
 avos\, Interessensbekundung bis 04.05.2026 - 04.05.2026
DESCRIPTION:Link zum Verfahren: https://konkurado.ch/en/praqualifikation-st
 udienauftrag-um-und-neubau-spital-davos
X-MICROSOFT-CDO-ALLDAYEVENT:TRUE
DTSTART;TZID=Europe/Zurich;VALUE=DATE:20260504
END:VEVENT
BEGIN:VEVENT
UID:69e9f19a49020
DTSTAMP:20260423T101658Z
SUMMARY:KONKURADO: Präqualifikation Studienauftrag Um- und Neubau Spital D
 avos\, Verfügbarkeit der Ausschreibungsunterlagen 27.03.2026 - 04.05.2026
DESCRIPTION:Link zum Verfahren: https://konkurado.ch/en/praqualifikation-st
 udienauftrag-um-und-neubau-spital-davos
X-MICROSOFT-CDO-ALLDAYEVENT:TRUE
DTSTART;TZID=Europe/Zurich;VALUE=DATE:20260327
END:VEVENT
BEGIN:VEVENT
UID:69e9f19a49046
DTSTAMP:20260423T101658Z
SUMMARY:KONKURADO: Präqualifikation Studienauftrag Um- und Neubau Spital D
 avos\, Verfügbarkeit der Ausschreibungsunterlagen 27.03.2026 - 04.05.2026
DESCRIPTION:Link zum Verfahren: https://konkurado.ch/en/praqualifikation-st
 udienauftrag-um-und-neubau-spital-davos
X-MICROSOFT-CDO-ALLDAYEVENT:TRUE
DTSTART;TZID=Europe/Zurich;VALUE=DATE:20260504
END:VEVENT
END:VCALENDAR