BEGIN:VCALENDAR
VERSION:2.0
PRODID:spatie/icalendar-generator
NAME:Planerwahl HLK- und Sanitäringenieur*in\, Erneuerung und Erweiterung 
 Primarchule Dorf\, Flums
X-WR-CALNAME:Planerwahl HLK- und Sanitäringenieur*in\, Erneuerung und Erwe
 iterung Primarchule Dorf\, Flums
BEGIN:VTIMEZONE
TZID:Europe/Zurich
BEGIN:STANDARD
DTSTART:20251026T030000
TZOFFSETFROM:+0200
TZOFFSETTO:+0100
END:STANDARD
BEGIN:DAYLIGHT
DTSTART:20260329T010000
TZOFFSETFROM:+0100
TZOFFSETTO:+0200
END:DAYLIGHT
BEGIN:STANDARD
DTSTART:20261025T030000
TZOFFSETFROM:+0200
TZOFFSETTO:+0100
END:STANDARD
END:VTIMEZONE
BEGIN:VTIMEZONE
TZID:UTC
BEGIN:STANDARD
DTSTART:20250727T101838
TZOFFSETFROM:+0000
TZOFFSETTO:+0000
END:STANDARD
END:VTIMEZONE
BEGIN:VEVENT
UID:69e9f1febeea5
DTSTAMP:20260423T101838Z
SUMMARY:KONKURADO: Planerwahl HLK- und Sanitäringenieur*in\, Erneuerung un
 d Erweiterung Primarchule Dorf\, Flums\, Fragerunde\, einreichen bis 31.03
 .2026 - 31.03.2026
DESCRIPTION:Link zum Verfahren: https://konkurado.ch/en/planerwahl-hlk-und-
 sanitaringenieurin-erneuerung-und-erweiterung-primarchule-dorf-flums
X-MICROSOFT-CDO-ALLDAYEVENT:TRUE
DTSTART;TZID=Europe/Zurich;VALUE=DATE:20260331
END:VEVENT
BEGIN:VEVENT
UID:69e9f1febef10
DTSTAMP:20260423T101838Z
SUMMARY:KONKURADO: Planerwahl HLK- und Sanitäringenieur*in\, Erneuerung un
 d Erweiterung Primarchule Dorf\, Flums\, Fragerunde\, einreichen bis 31.03
 .2026 - 31.03.2026
DESCRIPTION:Link zum Verfahren: https://konkurado.ch/en/planerwahl-hlk-und-
 sanitaringenieurin-erneuerung-und-erweiterung-primarchule-dorf-flums
X-MICROSOFT-CDO-ALLDAYEVENT:TRUE
DTSTART;TZID=Europe/Zurich;VALUE=DATE:20260331
END:VEVENT
BEGIN:VEVENT
UID:69e9f1febef88
DTSTAMP:20260423T101838Z
SUMMARY:KONKURADO: Planerwahl HLK- und Sanitäringenieur*in\, Erneuerung un
 d Erweiterung Primarchule Dorf\, Flums\, Einreichen des Teilnahmeantrags 2
 7.04.2026 - 27.04.2026
DESCRIPTION:Link zum Verfahren: https://konkurado.ch/en/planerwahl-hlk-und-
 sanitaringenieurin-erneuerung-und-erweiterung-primarchule-dorf-flums
X-MICROSOFT-CDO-ALLDAYEVENT:TRUE
DTSTART;TZID=Europe/Zurich;VALUE=DATE:20260427
END:VEVENT
BEGIN:VEVENT
UID:69e9f1febefb0
DTSTAMP:20260423T101838Z
SUMMARY:KONKURADO: Planerwahl HLK- und Sanitäringenieur*in\, Erneuerung un
 d Erweiterung Primarchule Dorf\, Flums\, Einreichen des Teilnahmeantrags 2
 7.04.2026 - 27.04.2026
DESCRIPTION:Link zum Verfahren: https://konkurado.ch/en/planerwahl-hlk-und-
 sanitaringenieurin-erneuerung-und-erweiterung-primarchule-dorf-flums
X-MICROSOFT-CDO-ALLDAYEVENT:TRUE
DTSTART;TZID=Europe/Zurich;VALUE=DATE:20260427
END:VEVENT
BEGIN:VEVENT
UID:69e9f1febf008
DTSTAMP:20260423T101838Z
SUMMARY:KONKURADO: Planerwahl HLK- und Sanitäringenieur*in\, Erneuerung un
 d Erweiterung Primarchule Dorf\, Flums\, Vorgesehene Frist für die Einrei
 chung des Angebots 10.06.2026 - 10.06.2026
DESCRIPTION:Link zum Verfahren: https://konkurado.ch/en/planerwahl-hlk-und-
 sanitaringenieurin-erneuerung-und-erweiterung-primarchule-dorf-flums
X-MICROSOFT-CDO-ALLDAYEVENT:TRUE
DTSTART;TZID=Europe/Zurich;VALUE=DATE:20260610
END:VEVENT
BEGIN:VEVENT
UID:69e9f1febf02e
DTSTAMP:20260423T101838Z
SUMMARY:KONKURADO: Planerwahl HLK- und Sanitäringenieur*in\, Erneuerung un
 d Erweiterung Primarchule Dorf\, Flums\, Vorgesehene Frist für die Einrei
 chung des Angebots 10.06.2026 - 10.06.2026
DESCRIPTION:Link zum Verfahren: https://konkurado.ch/en/planerwahl-hlk-und-
 sanitaringenieurin-erneuerung-und-erweiterung-primarchule-dorf-flums
X-MICROSOFT-CDO-ALLDAYEVENT:TRUE
DTSTART;TZID=Europe/Zurich;VALUE=DATE:20260610
END:VEVENT
BEGIN:VEVENT
UID:69e9f1febf083
DTSTAMP:20260423T101838Z
SUMMARY:KONKURADO: Planerwahl HLK- und Sanitäringenieur*in\, Erneuerung un
 d Erweiterung Primarchule Dorf\, Flums\, Verfügbarkeit der Ausschreibungs
 unterlagen 31.03.2026 - 24.04.2026
DESCRIPTION:Link zum Verfahren: https://konkurado.ch/en/planerwahl-hlk-und-
 sanitaringenieurin-erneuerung-und-erweiterung-primarchule-dorf-flums
X-MICROSOFT-CDO-ALLDAYEVENT:TRUE
DTSTART;TZID=Europe/Zurich;VALUE=DATE:20260331
END:VEVENT
BEGIN:VEVENT
UID:69e9f1febf0a9
DTSTAMP:20260423T101838Z
SUMMARY:KONKURADO: Planerwahl HLK- und Sanitäringenieur*in\, Erneuerung un
 d Erweiterung Primarchule Dorf\, Flums\, Verfügbarkeit der Ausschreibungs
 unterlagen 31.03.2026 - 24.04.2026
DESCRIPTION:Link zum Verfahren: https://konkurado.ch/en/planerwahl-hlk-und-
 sanitaringenieurin-erneuerung-und-erweiterung-primarchule-dorf-flums
X-MICROSOFT-CDO-ALLDAYEVENT:TRUE
DTSTART;TZID=Europe/Zurich;VALUE=DATE:20260424
END:VEVENT
BEGIN:VEVENT
UID:69e9f1febf0fc
DTSTAMP:20260423T101838Z
SUMMARY:KONKURADO: Planerwahl HLK- und Sanitäringenieur*in\, Erneuerung un
 d Erweiterung Primarchule Dorf\, Flums\, Bestimmung der Teilnehmer 28.04.2
 026 - 28.04.2026
DESCRIPTION:Link zum Verfahren: https://konkurado.ch/en/planerwahl-hlk-und-
 sanitaringenieurin-erneuerung-und-erweiterung-primarchule-dorf-flums
X-MICROSOFT-CDO-ALLDAYEVENT:TRUE
DTSTART;TZID=Europe/Zurich;VALUE=DATE:20260428
END:VEVENT
BEGIN:VEVENT
UID:69e9f1febf127
DTSTAMP:20260423T101838Z
SUMMARY:KONKURADO: Planerwahl HLK- und Sanitäringenieur*in\, Erneuerung un
 d Erweiterung Primarchule Dorf\, Flums\, Bestimmung der Teilnehmer 28.04.2
 026 - 28.04.2026
DESCRIPTION:Link zum Verfahren: https://konkurado.ch/en/planerwahl-hlk-und-
 sanitaringenieurin-erneuerung-und-erweiterung-primarchule-dorf-flums
X-MICROSOFT-CDO-ALLDAYEVENT:TRUE
DTSTART;TZID=Europe/Zurich;VALUE=DATE:20260428
END:VEVENT
BEGIN:VEVENT
UID:69e9f1febf187
DTSTAMP:20260423T101838Z
SUMMARY:KONKURADO: Planerwahl HLK- und Sanitäringenieur*in\, Erneuerung un
 d Erweiterung Primarchule Dorf\, Flums\, Präsentation Angebot 15.06.2026 
 - 15.06.2026
DESCRIPTION:Link zum Verfahren: https://konkurado.ch/en/planerwahl-hlk-und-
 sanitaringenieurin-erneuerung-und-erweiterung-primarchule-dorf-flums
X-MICROSOFT-CDO-ALLDAYEVENT:TRUE
DTSTART;TZID=Europe/Zurich;VALUE=DATE:20260615
END:VEVENT
BEGIN:VEVENT
UID:69e9f1febf1ae
DTSTAMP:20260423T101838Z
SUMMARY:KONKURADO: Planerwahl HLK- und Sanitäringenieur*in\, Erneuerung un
 d Erweiterung Primarchule Dorf\, Flums\, Präsentation Angebot 15.06.2026 
 - 15.06.2026
DESCRIPTION:Link zum Verfahren: https://konkurado.ch/en/planerwahl-hlk-und-
 sanitaringenieurin-erneuerung-und-erweiterung-primarchule-dorf-flums
X-MICROSOFT-CDO-ALLDAYEVENT:TRUE
DTSTART;TZID=Europe/Zurich;VALUE=DATE:20260615
END:VEVENT
BEGIN:VEVENT
UID:69e9f1febf1ff
DTSTAMP:20260423T101838Z
SUMMARY:KONKURADO: Planerwahl HLK- und Sanitäringenieur*in\, Erneuerung un
 d Erweiterung Primarchule Dorf\, Flums\, Startsitzung Projekt 02.07.2026 -
  02.07.2026
DESCRIPTION:Link zum Verfahren: https://konkurado.ch/en/planerwahl-hlk-und-
 sanitaringenieurin-erneuerung-und-erweiterung-primarchule-dorf-flums
X-MICROSOFT-CDO-ALLDAYEVENT:TRUE
DTSTART;TZID=Europe/Zurich;VALUE=DATE:20260702
END:VEVENT
BEGIN:VEVENT
UID:69e9f1febf226
DTSTAMP:20260423T101838Z
SUMMARY:KONKURADO: Planerwahl HLK- und Sanitäringenieur*in\, Erneuerung un
 d Erweiterung Primarchule Dorf\, Flums\, Startsitzung Projekt 02.07.2026 -
  02.07.2026
DESCRIPTION:Link zum Verfahren: https://konkurado.ch/en/planerwahl-hlk-und-
 sanitaringenieurin-erneuerung-und-erweiterung-primarchule-dorf-flums
X-MICROSOFT-CDO-ALLDAYEVENT:TRUE
DTSTART;TZID=Europe/Zurich;VALUE=DATE:20260702
END:VEVENT
END:VCALENDAR