BEGIN:VCALENDAR
VERSION:2.0
PRODID:spatie/icalendar-generator
NAME:Planerwahl Elektroingenieur*in\, Erneuerung und Erweiterung Primarschu
 le Dorf\, Flums
X-WR-CALNAME:Planerwahl Elektroingenieur*in\, Erneuerung und Erweiterung Pr
 imarschule Dorf\, Flums
BEGIN:VTIMEZONE
TZID:Europe/Zurich
BEGIN:STANDARD
DTSTART:20251026T030000
TZOFFSETFROM:+0200
TZOFFSETTO:+0100
END:STANDARD
BEGIN:DAYLIGHT
DTSTART:20260329T010000
TZOFFSETFROM:+0100
TZOFFSETTO:+0200
END:DAYLIGHT
BEGIN:STANDARD
DTSTART:20261025T030000
TZOFFSETFROM:+0200
TZOFFSETTO:+0100
END:STANDARD
END:VTIMEZONE
BEGIN:VTIMEZONE
TZID:UTC
BEGIN:STANDARD
DTSTART:20250727T101813
TZOFFSETFROM:+0000
TZOFFSETTO:+0000
END:STANDARD
END:VTIMEZONE
BEGIN:VEVENT
UID:69e9f1e538ac0
DTSTAMP:20260423T101813Z
SUMMARY:KONKURADO: Planerwahl Elektroingenieur*in\, Erneuerung und Erweiter
 ung Primarschule Dorf\, Flums\, Fragerunde\, einreichen bis 31.03.2026 - 3
 1.03.2026
DESCRIPTION:Link zum Verfahren: https://konkurado.ch/en/planerwahl-elektroi
 ngenieurin-erneuerung-und-erweiterung-primarschule-dorf-flums
X-MICROSOFT-CDO-ALLDAYEVENT:TRUE
DTSTART;TZID=Europe/Zurich;VALUE=DATE:20260331
END:VEVENT
BEGIN:VEVENT
UID:69e9f1e538b38
DTSTAMP:20260423T101813Z
SUMMARY:KONKURADO: Planerwahl Elektroingenieur*in\, Erneuerung und Erweiter
 ung Primarschule Dorf\, Flums\, Fragerunde\, einreichen bis 31.03.2026 - 3
 1.03.2026
DESCRIPTION:Link zum Verfahren: https://konkurado.ch/en/planerwahl-elektroi
 ngenieurin-erneuerung-und-erweiterung-primarschule-dorf-flums
X-MICROSOFT-CDO-ALLDAYEVENT:TRUE
DTSTART;TZID=Europe/Zurich;VALUE=DATE:20260331
END:VEVENT
BEGIN:VEVENT
UID:69e9f1e538be1
DTSTAMP:20260423T101813Z
SUMMARY:KONKURADO: Planerwahl Elektroingenieur*in\, Erneuerung und Erweiter
 ung Primarschule Dorf\, Flums\, Einreichen des Teilnahmeantrags 27.04.2026
  - 27.04.2026
DESCRIPTION:Link zum Verfahren: https://konkurado.ch/en/planerwahl-elektroi
 ngenieurin-erneuerung-und-erweiterung-primarschule-dorf-flums
X-MICROSOFT-CDO-ALLDAYEVENT:TRUE
DTSTART;TZID=Europe/Zurich;VALUE=DATE:20260427
END:VEVENT
BEGIN:VEVENT
UID:69e9f1e538c09
DTSTAMP:20260423T101813Z
SUMMARY:KONKURADO: Planerwahl Elektroingenieur*in\, Erneuerung und Erweiter
 ung Primarschule Dorf\, Flums\, Einreichen des Teilnahmeantrags 27.04.2026
  - 27.04.2026
DESCRIPTION:Link zum Verfahren: https://konkurado.ch/en/planerwahl-elektroi
 ngenieurin-erneuerung-und-erweiterung-primarschule-dorf-flums
X-MICROSOFT-CDO-ALLDAYEVENT:TRUE
DTSTART;TZID=Europe/Zurich;VALUE=DATE:20260427
END:VEVENT
BEGIN:VEVENT
UID:69e9f1e538c64
DTSTAMP:20260423T101813Z
SUMMARY:KONKURADO: Planerwahl Elektroingenieur*in\, Erneuerung und Erweiter
 ung Primarschule Dorf\, Flums\, Vorgesehene Frist für die Einreichung des
  Angebots 10.06.2026 - 10.06.2026
DESCRIPTION:Link zum Verfahren: https://konkurado.ch/en/planerwahl-elektroi
 ngenieurin-erneuerung-und-erweiterung-primarschule-dorf-flums
X-MICROSOFT-CDO-ALLDAYEVENT:TRUE
DTSTART;TZID=Europe/Zurich;VALUE=DATE:20260610
END:VEVENT
BEGIN:VEVENT
UID:69e9f1e538c8b
DTSTAMP:20260423T101813Z
SUMMARY:KONKURADO: Planerwahl Elektroingenieur*in\, Erneuerung und Erweiter
 ung Primarschule Dorf\, Flums\, Vorgesehene Frist für die Einreichung des
  Angebots 10.06.2026 - 10.06.2026
DESCRIPTION:Link zum Verfahren: https://konkurado.ch/en/planerwahl-elektroi
 ngenieurin-erneuerung-und-erweiterung-primarschule-dorf-flums
X-MICROSOFT-CDO-ALLDAYEVENT:TRUE
DTSTART;TZID=Europe/Zurich;VALUE=DATE:20260610
END:VEVENT
BEGIN:VEVENT
UID:69e9f1e538cdf
DTSTAMP:20260423T101813Z
SUMMARY:KONKURADO: Planerwahl Elektroingenieur*in\, Erneuerung und Erweiter
 ung Primarschule Dorf\, Flums\, Verfügbarkeit der Ausschreibungsunterlage
 n 31.03.2026 - 24.04.2026
DESCRIPTION:Link zum Verfahren: https://konkurado.ch/en/planerwahl-elektroi
 ngenieurin-erneuerung-und-erweiterung-primarschule-dorf-flums
X-MICROSOFT-CDO-ALLDAYEVENT:TRUE
DTSTART;TZID=Europe/Zurich;VALUE=DATE:20260331
END:VEVENT
BEGIN:VEVENT
UID:69e9f1e538d04
DTSTAMP:20260423T101813Z
SUMMARY:KONKURADO: Planerwahl Elektroingenieur*in\, Erneuerung und Erweiter
 ung Primarschule Dorf\, Flums\, Verfügbarkeit der Ausschreibungsunterlage
 n 31.03.2026 - 24.04.2026
DESCRIPTION:Link zum Verfahren: https://konkurado.ch/en/planerwahl-elektroi
 ngenieurin-erneuerung-und-erweiterung-primarschule-dorf-flums
X-MICROSOFT-CDO-ALLDAYEVENT:TRUE
DTSTART;TZID=Europe/Zurich;VALUE=DATE:20260424
END:VEVENT
BEGIN:VEVENT
UID:69e9f1e538d55
DTSTAMP:20260423T101813Z
SUMMARY:KONKURADO: Planerwahl Elektroingenieur*in\, Erneuerung und Erweiter
 ung Primarschule Dorf\, Flums\, Bestimmung der Teilnehmer 28.04.2026 - 28.
 04.2026
DESCRIPTION:Link zum Verfahren: https://konkurado.ch/en/planerwahl-elektroi
 ngenieurin-erneuerung-und-erweiterung-primarschule-dorf-flums
X-MICROSOFT-CDO-ALLDAYEVENT:TRUE
DTSTART;TZID=Europe/Zurich;VALUE=DATE:20260428
END:VEVENT
BEGIN:VEVENT
UID:69e9f1e538d7b
DTSTAMP:20260423T101813Z
SUMMARY:KONKURADO: Planerwahl Elektroingenieur*in\, Erneuerung und Erweiter
 ung Primarschule Dorf\, Flums\, Bestimmung der Teilnehmer 28.04.2026 - 28.
 04.2026
DESCRIPTION:Link zum Verfahren: https://konkurado.ch/en/planerwahl-elektroi
 ngenieurin-erneuerung-und-erweiterung-primarschule-dorf-flums
X-MICROSOFT-CDO-ALLDAYEVENT:TRUE
DTSTART;TZID=Europe/Zurich;VALUE=DATE:20260428
END:VEVENT
BEGIN:VEVENT
UID:69e9f1e539421
DTSTAMP:20260423T101813Z
SUMMARY:KONKURADO: Planerwahl Elektroingenieur*in\, Erneuerung und Erweiter
 ung Primarschule Dorf\, Flums\, Präsentation Angebot 15.06.2026 - 15.06.2
 026
DESCRIPTION:Link zum Verfahren: https://konkurado.ch/en/planerwahl-elektroi
 ngenieurin-erneuerung-und-erweiterung-primarschule-dorf-flums
X-MICROSOFT-CDO-ALLDAYEVENT:TRUE
DTSTART;TZID=Europe/Zurich;VALUE=DATE:20260615
END:VEVENT
BEGIN:VEVENT
UID:69e9f1e539464
DTSTAMP:20260423T101813Z
SUMMARY:KONKURADO: Planerwahl Elektroingenieur*in\, Erneuerung und Erweiter
 ung Primarschule Dorf\, Flums\, Präsentation Angebot 15.06.2026 - 15.06.2
 026
DESCRIPTION:Link zum Verfahren: https://konkurado.ch/en/planerwahl-elektroi
 ngenieurin-erneuerung-und-erweiterung-primarschule-dorf-flums
X-MICROSOFT-CDO-ALLDAYEVENT:TRUE
DTSTART;TZID=Europe/Zurich;VALUE=DATE:20260615
END:VEVENT
BEGIN:VEVENT
UID:69e9f1e5394db
DTSTAMP:20260423T101813Z
SUMMARY:KONKURADO: Planerwahl Elektroingenieur*in\, Erneuerung und Erweiter
 ung Primarschule Dorf\, Flums\, Startsitzung Projekt 02.07.2026 - 02.07.20
 26
DESCRIPTION:Link zum Verfahren: https://konkurado.ch/en/planerwahl-elektroi
 ngenieurin-erneuerung-und-erweiterung-primarschule-dorf-flums
X-MICROSOFT-CDO-ALLDAYEVENT:TRUE
DTSTART;TZID=Europe/Zurich;VALUE=DATE:20260702
END:VEVENT
BEGIN:VEVENT
UID:69e9f1e539501
DTSTAMP:20260423T101813Z
SUMMARY:KONKURADO: Planerwahl Elektroingenieur*in\, Erneuerung und Erweiter
 ung Primarschule Dorf\, Flums\, Startsitzung Projekt 02.07.2026 - 02.07.20
 26
DESCRIPTION:Link zum Verfahren: https://konkurado.ch/en/planerwahl-elektroi
 ngenieurin-erneuerung-und-erweiterung-primarschule-dorf-flums
X-MICROSOFT-CDO-ALLDAYEVENT:TRUE
DTSTART;TZID=Europe/Zurich;VALUE=DATE:20260702
END:VEVENT
END:VCALENDAR