BEGIN:VCALENDAR
VERSION:2.0
PRODID:spatie/icalendar-generator
NAME:Planerleistungen Sunnhalte 4 Frutigen\, Phasen 41 - 53
X-WR-CALNAME:Planerleistungen Sunnhalte 4 Frutigen\, Phasen 41 - 53
BEGIN:VTIMEZONE
TZID:Europe/Zurich
BEGIN:STANDARD
DTSTART:20251026T030000
TZOFFSETFROM:+0200
TZOFFSETTO:+0100
END:STANDARD
BEGIN:DAYLIGHT
DTSTART:20260329T010000
TZOFFSETFROM:+0100
TZOFFSETTO:+0200
END:DAYLIGHT
BEGIN:STANDARD
DTSTART:20261025T030000
TZOFFSETFROM:+0200
TZOFFSETTO:+0100
END:STANDARD
END:VTIMEZONE
BEGIN:VTIMEZONE
TZID:UTC
BEGIN:STANDARD
DTSTART:20250727T101633
TZOFFSETFROM:+0000
TZOFFSETTO:+0000
END:STANDARD
END:VTIMEZONE
BEGIN:VEVENT
UID:69e9f181c7e8d
DTSTAMP:20260423T101633Z
SUMMARY:KONKURADO: Planerleistungen Sunnhalte 4 Frutigen\, Phasen 41 - 53\,
  Fragerunde\, einreichen bis 17.04.2026 - 17.04.2026
DESCRIPTION:Link zum Verfahren: https://konkurado.ch/en/planerleistungen-su
 nnhalte-4-frutigen-phasen-41-53
X-MICROSOFT-CDO-ALLDAYEVENT:TRUE
DTSTART;TZID=Europe/Zurich;VALUE=DATE:20260417
END:VEVENT
BEGIN:VEVENT
UID:69e9f181c7f57
DTSTAMP:20260423T101633Z
SUMMARY:KONKURADO: Planerleistungen Sunnhalte 4 Frutigen\, Phasen 41 - 53\,
  Fragerunde\, einreichen bis 17.04.2026 - 17.04.2026
DESCRIPTION:Link zum Verfahren: https://konkurado.ch/en/planerleistungen-su
 nnhalte-4-frutigen-phasen-41-53
X-MICROSOFT-CDO-ALLDAYEVENT:TRUE
DTSTART;TZID=Europe/Zurich;VALUE=DATE:20260417
END:VEVENT
BEGIN:VEVENT
UID:69e9f181c8016
DTSTAMP:20260423T101633Z
SUMMARY:KONKURADO: Planerleistungen Sunnhalte 4 Frutigen\, Phasen 41 - 53\,
  Einreichen von Angeboten bis 18.05.2026 - 18.05.2026
DESCRIPTION:Link zum Verfahren: https://konkurado.ch/en/planerleistungen-su
 nnhalte-4-frutigen-phasen-41-53
X-MICROSOFT-CDO-ALLDAYEVENT:TRUE
DTSTART;TZID=Europe/Zurich;VALUE=DATE:20260518
END:VEVENT
BEGIN:VEVENT
UID:69e9f181c8060
DTSTAMP:20260423T101633Z
SUMMARY:KONKURADO: Planerleistungen Sunnhalte 4 Frutigen\, Phasen 41 - 53\,
  Einreichen von Angeboten bis 18.05.2026 - 18.05.2026
DESCRIPTION:Link zum Verfahren: https://konkurado.ch/en/planerleistungen-su
 nnhalte-4-frutigen-phasen-41-53
X-MICROSOFT-CDO-ALLDAYEVENT:TRUE
DTSTART;TZID=Europe/Zurich;VALUE=DATE:20260518
END:VEVENT
BEGIN:VEVENT
UID:69e9f181c80ff
DTSTAMP:20260423T101633Z
SUMMARY:KONKURADO: Planerleistungen Sunnhalte 4 Frutigen\, Phasen 41 - 53\,
  Verfügbarkeit der Ausschreibungsunterlagen 07.04.2026 - 18.05.2026
DESCRIPTION:Link zum Verfahren: https://konkurado.ch/en/planerleistungen-su
 nnhalte-4-frutigen-phasen-41-53
X-MICROSOFT-CDO-ALLDAYEVENT:TRUE
DTSTART;TZID=Europe/Zurich;VALUE=DATE:20260407
END:VEVENT
BEGIN:VEVENT
UID:69e9f181c8140
DTSTAMP:20260423T101633Z
SUMMARY:KONKURADO: Planerleistungen Sunnhalte 4 Frutigen\, Phasen 41 - 53\,
  Verfügbarkeit der Ausschreibungsunterlagen 07.04.2026 - 18.05.2026
DESCRIPTION:Link zum Verfahren: https://konkurado.ch/en/planerleistungen-su
 nnhalte-4-frutigen-phasen-41-53
X-MICROSOFT-CDO-ALLDAYEVENT:TRUE
DTSTART;TZID=Europe/Zurich;VALUE=DATE:20260518
END:VEVENT
END:VCALENDAR