BEGIN:VCALENDAR
VERSION:2.0
PRODID:spatie/icalendar-generator
NAME:Palestra tripla presso il Comparto Torretta – BELLINZONA
X-WR-CALNAME:Palestra tripla presso il Comparto Torretta – BELLINZONA
BEGIN:VTIMEZONE
TZID:Europe/Zurich
BEGIN:STANDARD
DTSTART:20241027T030000
TZOFFSETFROM:+0200
TZOFFSETTO:+0100
END:STANDARD
BEGIN:DAYLIGHT
DTSTART:20250330T010000
TZOFFSETFROM:+0100
TZOFFSETTO:+0200
END:DAYLIGHT
BEGIN:STANDARD
DTSTART:20251026T030000
TZOFFSETFROM:+0200
TZOFFSETTO:+0100
END:STANDARD
END:VTIMEZONE
BEGIN:VTIMEZONE
TZID:UTC
BEGIN:STANDARD
DTSTART:20250727T120149
TZOFFSETFROM:+0000
TZOFFSETTO:+0000
END:STANDARD
END:VTIMEZONE
BEGIN:VEVENT
UID:69ea0a2df36aa
DTSTAMP:20260423T120149Z
SUMMARY:KONKURADO: Palestra tripla presso il Comparto Torretta – BELLINZO
 NA\, Anmeldung 20.01.2025 - 10.02.2025
DESCRIPTION:Link zum Verfahren: https://konkurado.ch/en/palestra-tripla-pre
 sso-il-comparto-torretta-bellinzona
X-MICROSOFT-CDO-ALLDAYEVENT:TRUE
DTSTART;TZID=Europe/Zurich;VALUE=DATE:20250120
END:VEVENT
BEGIN:VEVENT
UID:69ea0a2df3749
DTSTAMP:20260423T120149Z
SUMMARY:KONKURADO: Palestra tripla presso il Comparto Torretta – BELLINZO
 NA\, Anmeldung 20.01.2025 - 10.02.2025
DESCRIPTION:Link zum Verfahren: https://konkurado.ch/en/palestra-tripla-pre
 sso-il-comparto-torretta-bellinzona
X-MICROSOFT-CDO-ALLDAYEVENT:TRUE
DTSTART;TZID=Europe/Zurich;VALUE=DATE:20250210
END:VEVENT
BEGIN:VEVENT
UID:69ea0a2e00bf8
DTSTAMP:20260423T120150Z
SUMMARY:KONKURADO: Palestra tripla presso il Comparto Torretta – BELLINZO
 NA\, Zulassungsbestätigung 17.03.2025 - 17.03.2025
DESCRIPTION:Link zum Verfahren: https://konkurado.ch/en/palestra-tripla-pre
 sso-il-comparto-torretta-bellinzona
X-MICROSOFT-CDO-ALLDAYEVENT:TRUE
DTSTART;TZID=Europe/Zurich;VALUE=DATE:20250317
END:VEVENT
BEGIN:VEVENT
UID:69ea0a2e00c4e
DTSTAMP:20260423T120150Z
SUMMARY:KONKURADO: Palestra tripla presso il Comparto Torretta – BELLINZO
 NA\, Zulassungsbestätigung 17.03.2025 - 17.03.2025
DESCRIPTION:Link zum Verfahren: https://konkurado.ch/en/palestra-tripla-pre
 sso-il-comparto-torretta-bellinzona
X-MICROSOFT-CDO-ALLDAYEVENT:TRUE
DTSTART;TZID=Europe/Zurich;VALUE=DATE:20250317
END:VEVENT
BEGIN:VEVENT
UID:69ea0a2e00cbf
DTSTAMP:20260423T120150Z
SUMMARY:KONKURADO: Palestra tripla presso il Comparto Torretta – BELLINZO
 NA\, Einreichung der Fragen bis 20.01.2025 - 28.03.2025
DESCRIPTION:Link zum Verfahren: https://konkurado.ch/en/palestra-tripla-pre
 sso-il-comparto-torretta-bellinzona
X-MICROSOFT-CDO-ALLDAYEVENT:TRUE
DTSTART;TZID=Europe/Zurich;VALUE=DATE:20250120
END:VEVENT
BEGIN:VEVENT
UID:69ea0a2e00cfe
DTSTAMP:20260423T120150Z
SUMMARY:KONKURADO: Palestra tripla presso il Comparto Torretta – BELLINZO
 NA\, Einreichung der Fragen bis 20.01.2025 - 28.03.2025
DESCRIPTION:Link zum Verfahren: https://konkurado.ch/en/palestra-tripla-pre
 sso-il-comparto-torretta-bellinzona
X-MICROSOFT-CDO-ALLDAYEVENT:TRUE
DTSTART;TZID=Europe/Zurich;VALUE=DATE:20250328
END:VEVENT
BEGIN:VEVENT
UID:69ea0a2e00d43
DTSTAMP:20260423T120150Z
SUMMARY:KONKURADO: Palestra tripla presso il Comparto Torretta – BELLINZO
 NA\, Wettbewerbsabgabe 20.01.2025 - 30.06.2025
DESCRIPTION:Link zum Verfahren: https://konkurado.ch/en/palestra-tripla-pre
 sso-il-comparto-torretta-bellinzona
X-MICROSOFT-CDO-ALLDAYEVENT:TRUE
DTSTART;TZID=Europe/Zurich;VALUE=DATE:20250120
END:VEVENT
BEGIN:VEVENT
UID:69ea0a2e00f29
DTSTAMP:20260423T120150Z
SUMMARY:KONKURADO: Palestra tripla presso il Comparto Torretta – BELLINZO
 NA\, Wettbewerbsabgabe 20.01.2025 - 30.06.2025
DESCRIPTION:Link zum Verfahren: https://konkurado.ch/en/palestra-tripla-pre
 sso-il-comparto-torretta-bellinzona
X-MICROSOFT-CDO-ALLDAYEVENT:TRUE
DTSTART;TZID=Europe/Zurich;VALUE=DATE:20250630
END:VEVENT
BEGIN:VEVENT
UID:69ea0a2e00fca
DTSTAMP:20260423T120150Z
SUMMARY:KONKURADO: Palestra tripla presso il Comparto Torretta – BELLINZO
 NA\, Obligatorische Begehung 26.03.2025 - 26.03.2025
DESCRIPTION:Link zum Verfahren: https://konkurado.ch/en/palestra-tripla-pre
 sso-il-comparto-torretta-bellinzona
X-MICROSOFT-CDO-ALLDAYEVENT:TRUE
DTSTART;TZID=Europe/Zurich;VALUE=DATE:20250326
END:VEVENT
BEGIN:VEVENT
UID:69ea0a2e01009
DTSTAMP:20260423T120150Z
SUMMARY:KONKURADO: Palestra tripla presso il Comparto Torretta – BELLINZO
 NA\, Obligatorische Begehung 26.03.2025 - 26.03.2025
DESCRIPTION:Link zum Verfahren: https://konkurado.ch/en/palestra-tripla-pre
 sso-il-comparto-torretta-bellinzona
X-MICROSOFT-CDO-ALLDAYEVENT:TRUE
DTSTART;TZID=Europe/Zurich;VALUE=DATE:20250326
END:VEVENT
BEGIN:VEVENT
UID:69ea0a2e01792
DTSTAMP:20260423T120150Z
SUMMARY:KONKURADO: Palestra tripla presso il Comparto Torretta – BELLINZO
 NA\, Fragenbeantwortung 29.03.2025 - 14.04.2025
DESCRIPTION:Link zum Verfahren: https://konkurado.ch/en/palestra-tripla-pre
 sso-il-comparto-torretta-bellinzona
X-MICROSOFT-CDO-ALLDAYEVENT:TRUE
DTSTART;TZID=Europe/Zurich;VALUE=DATE:20250329
END:VEVENT
BEGIN:VEVENT
UID:69ea0a2e017cf
DTSTAMP:20260423T120150Z
SUMMARY:KONKURADO: Palestra tripla presso il Comparto Torretta – BELLINZO
 NA\, Fragenbeantwortung 29.03.2025 - 14.04.2025
DESCRIPTION:Link zum Verfahren: https://konkurado.ch/en/palestra-tripla-pre
 sso-il-comparto-torretta-bellinzona
X-MICROSOFT-CDO-ALLDAYEVENT:TRUE
DTSTART;TZID=Europe/Zurich;VALUE=DATE:20250414
END:VEVENT
END:VCALENDAR