BEGIN:VCALENDAR
VERSION:2.0
PRODID:spatie/icalendar-generator
NAME:Hofgestaltung Obertor
X-WR-CALNAME:Hofgestaltung Obertor
BEGIN:VTIMEZONE
TZID:Europe/Zurich
BEGIN:DAYLIGHT
DTSTART:20240331T010000
TZOFFSETFROM:+0100
TZOFFSETTO:+0200
END:DAYLIGHT
BEGIN:STANDARD
DTSTART:20241027T030000
TZOFFSETFROM:+0200
TZOFFSETTO:+0100
END:STANDARD
BEGIN:DAYLIGHT
DTSTART:20250330T010000
TZOFFSETFROM:+0100
TZOFFSETTO:+0200
END:DAYLIGHT
BEGIN:STANDARD
DTSTART:20251026T030000
TZOFFSETFROM:+0200
TZOFFSETTO:+0100
END:STANDARD
END:VTIMEZONE
BEGIN:VTIMEZONE
TZID:UTC
BEGIN:STANDARD
DTSTART:20250727T114940
TZOFFSETFROM:+0000
TZOFFSETTO:+0000
END:STANDARD
END:VTIMEZONE
BEGIN:VEVENT
UID:69ea0754e04f2
DTSTAMP:20260423T114940Z
SUMMARY:KONKURADO: Hofgestaltung Obertor\, Anmeldung 19.09.2024 - 29.01.202
 5
DESCRIPTION:Link zum Verfahren: https://konkurado.ch/en/obertor
X-MICROSOFT-CDO-ALLDAYEVENT:TRUE
DTSTART;TZID=Europe/Zurich;VALUE=DATE:20240919
END:VEVENT
BEGIN:VEVENT
UID:69ea0754e05a2
DTSTAMP:20260423T114940Z
SUMMARY:KONKURADO: Hofgestaltung Obertor\, Anmeldung 19.09.2024 - 29.01.202
 5
DESCRIPTION:Link zum Verfahren: https://konkurado.ch/en/obertor
X-MICROSOFT-CDO-ALLDAYEVENT:TRUE
DTSTART;TZID=Europe/Zurich;VALUE=DATE:20250129
END:VEVENT
BEGIN:VEVENT
UID:69ea0754e05fa
DTSTAMP:20260423T114940Z
SUMMARY:KONKURADO: Hofgestaltung Obertor\, Publikation der Unterlagen 24.09
 .2024
DESCRIPTION:Link zum Verfahren: https://konkurado.ch/en/obertor
X-MICROSOFT-CDO-ALLDAYEVENT:TRUE
DTSTART;TZID=Europe/Zurich;VALUE=DATE:20240924
END:VEVENT
BEGIN:VEVENT
UID:69ea0754e063e
DTSTAMP:20260423T114940Z
SUMMARY:KONKURADO: Hofgestaltung Obertor\, Fragerunde 24.09.2024 - 21.10.20
 24
DESCRIPTION:Link zum Verfahren: https://konkurado.ch/en/obertor
X-MICROSOFT-CDO-ALLDAYEVENT:TRUE
DTSTART;TZID=Europe/Zurich;VALUE=DATE:20240924
END:VEVENT
BEGIN:VEVENT
UID:69ea0754e0668
DTSTAMP:20260423T114940Z
SUMMARY:KONKURADO: Hofgestaltung Obertor\, Fragerunde 24.09.2024 - 21.10.20
 24
DESCRIPTION:Link zum Verfahren: https://konkurado.ch/en/obertor
X-MICROSOFT-CDO-ALLDAYEVENT:TRUE
DTSTART;TZID=Europe/Zurich;VALUE=DATE:20241021
END:VEVENT
BEGIN:VEVENT
UID:69ea0754e069a
DTSTAMP:20260423T114940Z
SUMMARY:KONKURADO: Hofgestaltung Obertor\, Wettbewerbsabgabe 19.09.2024 - 2
 9.01.2025
DESCRIPTION:Link zum Verfahren: https://konkurado.ch/en/obertor
X-MICROSOFT-CDO-ALLDAYEVENT:TRUE
DTSTART;TZID=Europe/Zurich;VALUE=DATE:20240919
END:VEVENT
BEGIN:VEVENT
UID:69ea0754e06c5
DTSTAMP:20260423T114940Z
SUMMARY:KONKURADO: Hofgestaltung Obertor\, Wettbewerbsabgabe 19.09.2024 - 2
 9.01.2025
DESCRIPTION:Link zum Verfahren: https://konkurado.ch/en/obertor
X-MICROSOFT-CDO-ALLDAYEVENT:TRUE
DTSTART;TZID=Europe/Zurich;VALUE=DATE:20250129
END:VEVENT
BEGIN:VEVENT
UID:69ea0754e06f2
DTSTAMP:20260423T114940Z
SUMMARY:KONKURADO: Hofgestaltung Obertor\, Begehung 01.10.2024
DESCRIPTION:Link zum Verfahren: https://konkurado.ch/en/obertor
X-MICROSOFT-CDO-ALLDAYEVENT:TRUE
DTSTART;TZID=Europe/Zurich;VALUE=DATE:20241001
END:VEVENT
BEGIN:VEVENT
UID:69ea0754e0732
DTSTAMP:20260423T114940Z
SUMMARY:KONKURADO: Hofgestaltung Obertor\, Jurierung 12.03.2025 - 18.03.202
 5
DESCRIPTION:Link zum Verfahren: https://konkurado.ch/en/obertor
X-MICROSOFT-CDO-ALLDAYEVENT:TRUE
DTSTART;TZID=Europe/Zurich;VALUE=DATE:20250312
END:VEVENT
BEGIN:VEVENT
UID:69ea0754e0759
DTSTAMP:20260423T114940Z
SUMMARY:KONKURADO: Hofgestaltung Obertor\, Jurierung 12.03.2025 - 18.03.202
 5
DESCRIPTION:Link zum Verfahren: https://konkurado.ch/en/obertor
X-MICROSOFT-CDO-ALLDAYEVENT:TRUE
DTSTART;TZID=Europe/Zurich;VALUE=DATE:20250318
END:VEVENT
BEGIN:VEVENT
UID:69ea0754e0889
DTSTAMP:20260423T114940Z
SUMMARY:KONKURADO: Hofgestaltung Obertor\, Publikation Jurybericht 16.06.20
 25 - 22.06.2025
DESCRIPTION:Link zum Verfahren: https://konkurado.ch/en/obertor
X-MICROSOFT-CDO-ALLDAYEVENT:TRUE
DTSTART;TZID=Europe/Zurich;VALUE=DATE:20250616
END:VEVENT
BEGIN:VEVENT
UID:69ea0754e08b3
DTSTAMP:20260423T114940Z
SUMMARY:KONKURADO: Hofgestaltung Obertor\, Publikation Jurybericht 16.06.20
 25 - 22.06.2025
DESCRIPTION:Link zum Verfahren: https://konkurado.ch/en/obertor
X-MICROSOFT-CDO-ALLDAYEVENT:TRUE
DTSTART;TZID=Europe/Zurich;VALUE=DATE:20250622
END:VEVENT
END:VCALENDAR