BEGIN:VCALENDAR
VERSION:2.0
PRODID:spatie/icalendar-generator
NAME:Nuova sede della Fondazione Provvida Madre\, Balerna
X-WR-CALNAME:Nuova sede della Fondazione Provvida Madre\, Balerna
BEGIN:VTIMEZONE
TZID:Europe/Zurich
BEGIN:STANDARD
DTSTART:20241027T030000
TZOFFSETFROM:+0200
TZOFFSETTO:+0100
END:STANDARD
BEGIN:DAYLIGHT
DTSTART:20250330T010000
TZOFFSETFROM:+0100
TZOFFSETTO:+0200
END:DAYLIGHT
BEGIN:STANDARD
DTSTART:20251026T030000
TZOFFSETFROM:+0200
TZOFFSETTO:+0100
END:STANDARD
BEGIN:DAYLIGHT
DTSTART:20260329T010000
TZOFFSETFROM:+0100
TZOFFSETTO:+0200
END:DAYLIGHT
BEGIN:STANDARD
DTSTART:20261025T030000
TZOFFSETFROM:+0200
TZOFFSETTO:+0100
END:STANDARD
END:VTIMEZONE
BEGIN:VTIMEZONE
TZID:UTC
BEGIN:STANDARD
DTSTART:20250727T120347
TZOFFSETFROM:+0000
TZOFFSETTO:+0000
END:STANDARD
END:VTIMEZONE
BEGIN:VEVENT
UID:69ea0aa3819f3
DTSTAMP:20260423T120347Z
SUMMARY:KONKURADO: Nuova sede della Fondazione Provvida Madre\, Balerna\, I
 scrizione (termine ultimo) 04.06.2025 - 20.06.2025
DESCRIPTION:Link zum Verfahren: https://konkurado.ch/en/nuova-sede-della-fo
 ndazione-provvida-madre-balerna
X-MICROSOFT-CDO-ALLDAYEVENT:TRUE
DTSTART;TZID=Europe/Zurich;VALUE=DATE:20250604
END:VEVENT
BEGIN:VEVENT
UID:69ea0aa381a5e
DTSTAMP:20260423T120347Z
SUMMARY:KONKURADO: Nuova sede della Fondazione Provvida Madre\, Balerna\, I
 scrizione (termine ultimo) 04.06.2025 - 20.06.2025
DESCRIPTION:Link zum Verfahren: https://konkurado.ch/en/nuova-sede-della-fo
 ndazione-provvida-madre-balerna
X-MICROSOFT-CDO-ALLDAYEVENT:TRUE
DTSTART;TZID=Europe/Zurich;VALUE=DATE:20250620
END:VEVENT
BEGIN:VEVENT
UID:69ea0aa381a9c
DTSTAMP:20260423T120347Z
SUMMARY:KONKURADO: Nuova sede della Fondazione Provvida Madre\, Balerna\, C
 onsegna degli elaborati Fase 1 08.07.2025 - 23.10.2025
DESCRIPTION:Link zum Verfahren: https://konkurado.ch/en/nuova-sede-della-fo
 ndazione-provvida-madre-balerna
X-MICROSOFT-CDO-ALLDAYEVENT:TRUE
DTSTART;TZID=Europe/Zurich;VALUE=DATE:20250708
END:VEVENT
BEGIN:VEVENT
UID:69ea0aa381ac5
DTSTAMP:20260423T120347Z
SUMMARY:KONKURADO: Nuova sede della Fondazione Provvida Madre\, Balerna\, C
 onsegna degli elaborati Fase 1 08.07.2025 - 23.10.2025
DESCRIPTION:Link zum Verfahren: https://konkurado.ch/en/nuova-sede-della-fo
 ndazione-provvida-madre-balerna
X-MICROSOFT-CDO-ALLDAYEVENT:TRUE
DTSTART;TZID=Europe/Zurich;VALUE=DATE:20251023
END:VEVENT
BEGIN:VEVENT
UID:69ea0aa381be9
DTSTAMP:20260423T120347Z
SUMMARY:KONKURADO: Nuova sede della Fondazione Provvida Madre\, Balerna\, C
 onferma dell’iscrizione 21.06.2025 - 04.07.2025
DESCRIPTION:Link zum Verfahren: https://konkurado.ch/en/nuova-sede-della-fo
 ndazione-provvida-madre-balerna
X-MICROSOFT-CDO-ALLDAYEVENT:TRUE
DTSTART;TZID=Europe/Zurich;VALUE=DATE:20250621
END:VEVENT
BEGIN:VEVENT
UID:69ea0aa381c17
DTSTAMP:20260423T120347Z
SUMMARY:KONKURADO: Nuova sede della Fondazione Provvida Madre\, Balerna\, C
 onferma dell’iscrizione 21.06.2025 - 04.07.2025
DESCRIPTION:Link zum Verfahren: https://konkurado.ch/en/nuova-sede-della-fo
 ndazione-provvida-madre-balerna
X-MICROSOFT-CDO-ALLDAYEVENT:TRUE
DTSTART;TZID=Europe/Zurich;VALUE=DATE:20250704
END:VEVENT
BEGIN:VEVENT
UID:69ea0aa381ea1
DTSTAMP:20260423T120347Z
SUMMARY:KONKURADO: Nuova sede della Fondazione Provvida Madre\, Balerna\, A
 pertura del concorso di progetto 08.07.2025 - 08.07.2025
DESCRIPTION:Link zum Verfahren: https://konkurado.ch/en/nuova-sede-della-fo
 ndazione-provvida-madre-balerna
X-MICROSOFT-CDO-ALLDAYEVENT:TRUE
DTSTART;TZID=Europe/Zurich;VALUE=DATE:20250708
END:VEVENT
BEGIN:VEVENT
UID:69ea0aa381ed3
DTSTAMP:20260423T120347Z
SUMMARY:KONKURADO: Nuova sede della Fondazione Provvida Madre\, Balerna\, A
 pertura del concorso di progetto 08.07.2025 - 08.07.2025
DESCRIPTION:Link zum Verfahren: https://konkurado.ch/en/nuova-sede-della-fo
 ndazione-provvida-madre-balerna
X-MICROSOFT-CDO-ALLDAYEVENT:TRUE
DTSTART;TZID=Europe/Zurich;VALUE=DATE:20250708
END:VEVENT
BEGIN:VEVENT
UID:69ea0aa381f4d
DTSTAMP:20260423T120347Z
SUMMARY:KONKURADO: Nuova sede della Fondazione Provvida Madre\, Balerna\, A
 tti a disposizione 08.07.2025 - 23.10.2025
DESCRIPTION:Link zum Verfahren: https://konkurado.ch/en/nuova-sede-della-fo
 ndazione-provvida-madre-balerna
X-MICROSOFT-CDO-ALLDAYEVENT:TRUE
DTSTART;TZID=Europe/Zurich;VALUE=DATE:20250708
END:VEVENT
BEGIN:VEVENT
UID:69ea0aa381f79
DTSTAMP:20260423T120347Z
SUMMARY:KONKURADO: Nuova sede della Fondazione Provvida Madre\, Balerna\, A
 tti a disposizione 08.07.2025 - 23.10.2025
DESCRIPTION:Link zum Verfahren: https://konkurado.ch/en/nuova-sede-della-fo
 ndazione-provvida-madre-balerna
X-MICROSOFT-CDO-ALLDAYEVENT:TRUE
DTSTART;TZID=Europe/Zurich;VALUE=DATE:20251023
END:VEVENT
BEGIN:VEVENT
UID:69ea0aa381fe6
DTSTAMP:20260423T120347Z
SUMMARY:KONKURADO: Nuova sede della Fondazione Provvida Madre\, Balerna\, R
 itiro base modello dal 08.07.2025 - 06.11.2025
DESCRIPTION:Link zum Verfahren: https://konkurado.ch/en/nuova-sede-della-fo
 ndazione-provvida-madre-balerna
X-MICROSOFT-CDO-ALLDAYEVENT:TRUE
DTSTART;TZID=Europe/Zurich;VALUE=DATE:20250708
END:VEVENT
BEGIN:VEVENT
UID:69ea0aa382011
DTSTAMP:20260423T120347Z
SUMMARY:KONKURADO: Nuova sede della Fondazione Provvida Madre\, Balerna\, R
 itiro base modello dal 08.07.2025 - 06.11.2025
DESCRIPTION:Link zum Verfahren: https://konkurado.ch/en/nuova-sede-della-fo
 ndazione-provvida-madre-balerna
X-MICROSOFT-CDO-ALLDAYEVENT:TRUE
DTSTART;TZID=Europe/Zurich;VALUE=DATE:20251106
END:VEVENT
BEGIN:VEVENT
UID:69ea0aa382069
DTSTAMP:20260423T120347Z
SUMMARY:KONKURADO: Nuova sede della Fondazione Provvida Madre\, Balerna\, S
 opralluogo 22.07.2025 - 22.07.2025
DESCRIPTION:Link zum Verfahren: https://konkurado.ch/en/nuova-sede-della-fo
 ndazione-provvida-madre-balerna
X-MICROSOFT-CDO-ALLDAYEVENT:TRUE
DTSTART;TZID=Europe/Zurich;VALUE=DATE:20250722
END:VEVENT
BEGIN:VEVENT
UID:69ea0aa382092
DTSTAMP:20260423T120347Z
SUMMARY:KONKURADO: Nuova sede della Fondazione Provvida Madre\, Balerna\, S
 opralluogo 22.07.2025 - 22.07.2025
DESCRIPTION:Link zum Verfahren: https://konkurado.ch/en/nuova-sede-della-fo
 ndazione-provvida-madre-balerna
X-MICROSOFT-CDO-ALLDAYEVENT:TRUE
DTSTART;TZID=Europe/Zurich;VALUE=DATE:20250722
END:VEVENT
BEGIN:VEVENT
UID:69ea0aa3820ca
DTSTAMP:20260423T120347Z
SUMMARY:KONKURADO: Nuova sede della Fondazione Provvida Madre\, Balerna\, T
 ermine inoltro domande 08.07.2025 - 22.07.2025
DESCRIPTION:Link zum Verfahren: https://konkurado.ch/en/nuova-sede-della-fo
 ndazione-provvida-madre-balerna
X-MICROSOFT-CDO-ALLDAYEVENT:TRUE
DTSTART;TZID=Europe/Zurich;VALUE=DATE:20250708
END:VEVENT
BEGIN:VEVENT
UID:69ea0aa3820f4
DTSTAMP:20260423T120347Z
SUMMARY:KONKURADO: Nuova sede della Fondazione Provvida Madre\, Balerna\, T
 ermine inoltro domande 08.07.2025 - 22.07.2025
DESCRIPTION:Link zum Verfahren: https://konkurado.ch/en/nuova-sede-della-fo
 ndazione-provvida-madre-balerna
X-MICROSOFT-CDO-ALLDAYEVENT:TRUE
DTSTART;TZID=Europe/Zurich;VALUE=DATE:20250722
END:VEVENT
BEGIN:VEVENT
UID:69ea0aa38214d
DTSTAMP:20260423T120347Z
SUMMARY:KONKURADO: Nuova sede della Fondazione Provvida Madre\, Balerna\, P
 ubblicazione risposte 23.07.2025 - 21.08.2025
DESCRIPTION:Link zum Verfahren: https://konkurado.ch/en/nuova-sede-della-fo
 ndazione-provvida-madre-balerna
X-MICROSOFT-CDO-ALLDAYEVENT:TRUE
DTSTART;TZID=Europe/Zurich;VALUE=DATE:20250723
END:VEVENT
BEGIN:VEVENT
UID:69ea0aa382177
DTSTAMP:20260423T120347Z
SUMMARY:KONKURADO: Nuova sede della Fondazione Provvida Madre\, Balerna\, P
 ubblicazione risposte 23.07.2025 - 21.08.2025
DESCRIPTION:Link zum Verfahren: https://konkurado.ch/en/nuova-sede-della-fo
 ndazione-provvida-madre-balerna
X-MICROSOFT-CDO-ALLDAYEVENT:TRUE
DTSTART;TZID=Europe/Zurich;VALUE=DATE:20250821
END:VEVENT
BEGIN:VEVENT
UID:69ea0aa3821cc
DTSTAMP:20260423T120347Z
SUMMARY:KONKURADO: Nuova sede della Fondazione Provvida Madre\, Balerna\, C
 ontinuazione progetto del concorso di 19.12.2025 - 19.12.2025
DESCRIPTION:Link zum Verfahren: https://konkurado.ch/en/nuova-sede-della-fo
 ndazione-provvida-madre-balerna
X-MICROSOFT-CDO-ALLDAYEVENT:TRUE
DTSTART;TZID=Europe/Zurich;VALUE=DATE:20251219
END:VEVENT
BEGIN:VEVENT
UID:69ea0aa3821f6
DTSTAMP:20260423T120347Z
SUMMARY:KONKURADO: Nuova sede della Fondazione Provvida Madre\, Balerna\, C
 ontinuazione progetto del concorso di 19.12.2025 - 19.12.2025
DESCRIPTION:Link zum Verfahren: https://konkurado.ch/en/nuova-sede-della-fo
 ndazione-provvida-madre-balerna
X-MICROSOFT-CDO-ALLDAYEVENT:TRUE
DTSTART;TZID=Europe/Zurich;VALUE=DATE:20251219
END:VEVENT
BEGIN:VEVENT
UID:69ea0aa382249
DTSTAMP:20260423T120347Z
SUMMARY:KONKURADO: Nuova sede della Fondazione Provvida Madre\, Balerna\, A
 tti a disposizione per il concorso di progetto 19.12.2025 - 19.12.2025
DESCRIPTION:Link zum Verfahren: https://konkurado.ch/en/nuova-sede-della-fo
 ndazione-provvida-madre-balerna
X-MICROSOFT-CDO-ALLDAYEVENT:TRUE
DTSTART;TZID=Europe/Zurich;VALUE=DATE:20251219
END:VEVENT
BEGIN:VEVENT
UID:69ea0aa382272
DTSTAMP:20260423T120347Z
SUMMARY:KONKURADO: Nuova sede della Fondazione Provvida Madre\, Balerna\, A
 tti a disposizione per il concorso di progetto 19.12.2025 - 19.12.2025
DESCRIPTION:Link zum Verfahren: https://konkurado.ch/en/nuova-sede-della-fo
 ndazione-provvida-madre-balerna
X-MICROSOFT-CDO-ALLDAYEVENT:TRUE
DTSTART;TZID=Europe/Zurich;VALUE=DATE:20251219
END:VEVENT
BEGIN:VEVENT
UID:69ea0aa3822c8
DTSTAMP:20260423T120347Z
SUMMARY:KONKURADO: Nuova sede della Fondazione Provvida Madre\, Balerna\, F
 ormazione del gruppo interdisciplinare 16.01.2026 - 16.01.2026
DESCRIPTION:Link zum Verfahren: https://konkurado.ch/en/nuova-sede-della-fo
 ndazione-provvida-madre-balerna
X-MICROSOFT-CDO-ALLDAYEVENT:TRUE
DTSTART;TZID=Europe/Zurich;VALUE=DATE:20260116
END:VEVENT
BEGIN:VEVENT
UID:69ea0aa3822f1
DTSTAMP:20260423T120347Z
SUMMARY:KONKURADO: Nuova sede della Fondazione Provvida Madre\, Balerna\, F
 ormazione del gruppo interdisciplinare 16.01.2026 - 16.01.2026
DESCRIPTION:Link zum Verfahren: https://konkurado.ch/en/nuova-sede-della-fo
 ndazione-provvida-madre-balerna
X-MICROSOFT-CDO-ALLDAYEVENT:TRUE
DTSTART;TZID=Europe/Zurich;VALUE=DATE:20260116
END:VEVENT
BEGIN:VEVENT
UID:69ea0aa382346
DTSTAMP:20260423T120347Z
SUMMARY:KONKURADO: Nuova sede della Fondazione Provvida Madre\, Balerna\, C
 onferma idoneità gruppo interdisciplinare 30.01.2026 - 30.01.2026
DESCRIPTION:Link zum Verfahren: https://konkurado.ch/en/nuova-sede-della-fo
 ndazione-provvida-madre-balerna
X-MICROSOFT-CDO-ALLDAYEVENT:TRUE
DTSTART;TZID=Europe/Zurich;VALUE=DATE:20260130
END:VEVENT
BEGIN:VEVENT
UID:69ea0aa382370
DTSTAMP:20260423T120347Z
SUMMARY:KONKURADO: Nuova sede della Fondazione Provvida Madre\, Balerna\, C
 onferma idoneità gruppo interdisciplinare 30.01.2026 - 30.01.2026
DESCRIPTION:Link zum Verfahren: https://konkurado.ch/en/nuova-sede-della-fo
 ndazione-provvida-madre-balerna
X-MICROSOFT-CDO-ALLDAYEVENT:TRUE
DTSTART;TZID=Europe/Zurich;VALUE=DATE:20260130
END:VEVENT
BEGIN:VEVENT
UID:69ea0aa3823c4
DTSTAMP:20260423T120347Z
SUMMARY:KONKURADO: Nuova sede della Fondazione Provvida Madre\, Balerna\, A
 pertura del concorso di progetto - Fase 2 03.02.2026 - 03.02.2026
DESCRIPTION:Link zum Verfahren: https://konkurado.ch/en/nuova-sede-della-fo
 ndazione-provvida-madre-balerna
X-MICROSOFT-CDO-ALLDAYEVENT:TRUE
DTSTART;TZID=Europe/Zurich;VALUE=DATE:20260203
END:VEVENT
BEGIN:VEVENT
UID:69ea0aa3823ee
DTSTAMP:20260423T120347Z
SUMMARY:KONKURADO: Nuova sede della Fondazione Provvida Madre\, Balerna\, A
 pertura del concorso di progetto - Fase 2 03.02.2026 - 03.02.2026
DESCRIPTION:Link zum Verfahren: https://konkurado.ch/en/nuova-sede-della-fo
 ndazione-provvida-madre-balerna
X-MICROSOFT-CDO-ALLDAYEVENT:TRUE
DTSTART;TZID=Europe/Zurich;VALUE=DATE:20260203
END:VEVENT
BEGIN:VEVENT
UID:69ea0aa38248d
DTSTAMP:20260423T120347Z
SUMMARY:KONKURADO: Nuova sede della Fondazione Provvida Madre\, Balerna\, A
 tti a disposizione per il concorso di progetto – Fase 2 03.02.2026 - 03.
 02.2026
DESCRIPTION:Link zum Verfahren: https://konkurado.ch/en/nuova-sede-della-fo
 ndazione-provvida-madre-balerna
X-MICROSOFT-CDO-ALLDAYEVENT:TRUE
DTSTART;TZID=Europe/Zurich;VALUE=DATE:20260203
END:VEVENT
BEGIN:VEVENT
UID:69ea0aa3824b9
DTSTAMP:20260423T120347Z
SUMMARY:KONKURADO: Nuova sede della Fondazione Provvida Madre\, Balerna\, A
 tti a disposizione per il concorso di progetto – Fase 2 03.02.2026 - 03.
 02.2026
DESCRIPTION:Link zum Verfahren: https://konkurado.ch/en/nuova-sede-della-fo
 ndazione-provvida-madre-balerna
X-MICROSOFT-CDO-ALLDAYEVENT:TRUE
DTSTART;TZID=Europe/Zurich;VALUE=DATE:20260203
END:VEVENT
BEGIN:VEVENT
UID:69ea0aa382515
DTSTAMP:20260423T120347Z
SUMMARY:KONKURADO: Nuova sede della Fondazione Provvida Madre\, Balerna\, R
 itiro base modello dal 03.02.2026 - 15.05.2026
DESCRIPTION:Link zum Verfahren: https://konkurado.ch/en/nuova-sede-della-fo
 ndazione-provvida-madre-balerna
X-MICROSOFT-CDO-ALLDAYEVENT:TRUE
DTSTART;TZID=Europe/Zurich;VALUE=DATE:20260203
END:VEVENT
BEGIN:VEVENT
UID:69ea0aa38254c
DTSTAMP:20260423T120347Z
SUMMARY:KONKURADO: Nuova sede della Fondazione Provvida Madre\, Balerna\, R
 itiro base modello dal 03.02.2026 - 15.05.2026
DESCRIPTION:Link zum Verfahren: https://konkurado.ch/en/nuova-sede-della-fo
 ndazione-provvida-madre-balerna
X-MICROSOFT-CDO-ALLDAYEVENT:TRUE
DTSTART;TZID=Europe/Zurich;VALUE=DATE:20260515
END:VEVENT
BEGIN:VEVENT
UID:69ea0aa382592
DTSTAMP:20260423T120347Z
SUMMARY:KONKURADO: Nuova sede della Fondazione Provvida Madre\, Balerna\, T
 ermine inoltro domande 03.02.2026 - 17.02.2026
DESCRIPTION:Link zum Verfahren: https://konkurado.ch/en/nuova-sede-della-fo
 ndazione-provvida-madre-balerna
X-MICROSOFT-CDO-ALLDAYEVENT:TRUE
DTSTART;TZID=Europe/Zurich;VALUE=DATE:20260203
END:VEVENT
BEGIN:VEVENT
UID:69ea0aa3825c6
DTSTAMP:20260423T120347Z
SUMMARY:KONKURADO: Nuova sede della Fondazione Provvida Madre\, Balerna\, T
 ermine inoltro domande 03.02.2026 - 17.02.2026
DESCRIPTION:Link zum Verfahren: https://konkurado.ch/en/nuova-sede-della-fo
 ndazione-provvida-madre-balerna
X-MICROSOFT-CDO-ALLDAYEVENT:TRUE
DTSTART;TZID=Europe/Zurich;VALUE=DATE:20260217
END:VEVENT
BEGIN:VEVENT
UID:69ea0aa382644
DTSTAMP:20260423T120347Z
SUMMARY:KONKURADO: Nuova sede della Fondazione Provvida Madre\, Balerna\, P
 ubblicazione risposte 03.03.2026 - 03.03.2026
DESCRIPTION:Link zum Verfahren: https://konkurado.ch/en/nuova-sede-della-fo
 ndazione-provvida-madre-balerna
X-MICROSOFT-CDO-ALLDAYEVENT:TRUE
DTSTART;TZID=Europe/Zurich;VALUE=DATE:20260303
END:VEVENT
BEGIN:VEVENT
UID:69ea0aa38266f
DTSTAMP:20260423T120347Z
SUMMARY:KONKURADO: Nuova sede della Fondazione Provvida Madre\, Balerna\, P
 ubblicazione risposte 03.03.2026 - 03.03.2026
DESCRIPTION:Link zum Verfahren: https://konkurado.ch/en/nuova-sede-della-fo
 ndazione-provvida-madre-balerna
X-MICROSOFT-CDO-ALLDAYEVENT:TRUE
DTSTART;TZID=Europe/Zurich;VALUE=DATE:20260303
END:VEVENT
BEGIN:VEVENT
UID:69ea0aa3826a4
DTSTAMP:20260423T120347Z
SUMMARY:KONKURADO: Nuova sede della Fondazione Provvida Madre\, Balerna\, C
 onsegna Elaborati Fase 2 03.02.2026 - 30.04.2026
DESCRIPTION:Link zum Verfahren: https://konkurado.ch/en/nuova-sede-della-fo
 ndazione-provvida-madre-balerna
X-MICROSOFT-CDO-ALLDAYEVENT:TRUE
DTSTART;TZID=Europe/Zurich;VALUE=DATE:20260203
END:VEVENT
BEGIN:VEVENT
UID:69ea0aa3826cc
DTSTAMP:20260423T120347Z
SUMMARY:KONKURADO: Nuova sede della Fondazione Provvida Madre\, Balerna\, C
 onsegna Elaborati Fase 2 03.02.2026 - 30.04.2026
DESCRIPTION:Link zum Verfahren: https://konkurado.ch/en/nuova-sede-della-fo
 ndazione-provvida-madre-balerna
X-MICROSOFT-CDO-ALLDAYEVENT:TRUE
DTSTART;TZID=Europe/Zurich;VALUE=DATE:20260430
END:VEVENT
BEGIN:VEVENT
UID:69ea0aa382726
DTSTAMP:20260423T120347Z
SUMMARY:KONKURADO: Nuova sede della Fondazione Provvida Madre\, Balerna\, C
 onsegna modello Fase 2 03.02.2026 - 15.05.2026
DESCRIPTION:Link zum Verfahren: https://konkurado.ch/en/nuova-sede-della-fo
 ndazione-provvida-madre-balerna
X-MICROSOFT-CDO-ALLDAYEVENT:TRUE
DTSTART;TZID=Europe/Zurich;VALUE=DATE:20260203
END:VEVENT
BEGIN:VEVENT
UID:69ea0aa38274f
DTSTAMP:20260423T120347Z
SUMMARY:KONKURADO: Nuova sede della Fondazione Provvida Madre\, Balerna\, C
 onsegna modello Fase 2 03.02.2026 - 15.05.2026
DESCRIPTION:Link zum Verfahren: https://konkurado.ch/en/nuova-sede-della-fo
 ndazione-provvida-madre-balerna
X-MICROSOFT-CDO-ALLDAYEVENT:TRUE
DTSTART;TZID=Europe/Zurich;VALUE=DATE:20260515
END:VEVENT
BEGIN:VEVENT
UID:69ea0aa382838
DTSTAMP:20260423T120347Z
SUMMARY:KONKURADO: Nuova sede della Fondazione Provvida Madre\, Balerna\, C
 onsegna del modello Fase 1 06.11.2025 - 06.11.2025
DESCRIPTION:Link zum Verfahren: https://konkurado.ch/en/nuova-sede-della-fo
 ndazione-provvida-madre-balerna
X-MICROSOFT-CDO-ALLDAYEVENT:TRUE
DTSTART;TZID=Europe/Zurich;VALUE=DATE:20251106
END:VEVENT
BEGIN:VEVENT
UID:69ea0aa382864
DTSTAMP:20260423T120347Z
SUMMARY:KONKURADO: Nuova sede della Fondazione Provvida Madre\, Balerna\, C
 onsegna del modello Fase 1 06.11.2025 - 06.11.2025
DESCRIPTION:Link zum Verfahren: https://konkurado.ch/en/nuova-sede-della-fo
 ndazione-provvida-madre-balerna
X-MICROSOFT-CDO-ALLDAYEVENT:TRUE
DTSTART;TZID=Europe/Zurich;VALUE=DATE:20251106
END:VEVENT
END:VCALENDAR