BEGIN:VCALENDAR
VERSION:2.0
PRODID:spatie/icalendar-generator
NAME:Neugestaltung Stadtraum Haselstrasse Baden
X-WR-CALNAME:Neugestaltung Stadtraum Haselstrasse Baden
BEGIN:VTIMEZONE
TZID:Europe/Zurich
BEGIN:STANDARD
DTSTART:20241027T030000
TZOFFSETFROM:+0200
TZOFFSETTO:+0100
END:STANDARD
BEGIN:DAYLIGHT
DTSTART:20250330T010000
TZOFFSETFROM:+0100
TZOFFSETTO:+0200
END:DAYLIGHT
BEGIN:STANDARD
DTSTART:20251026T030000
TZOFFSETFROM:+0200
TZOFFSETTO:+0100
END:STANDARD
BEGIN:DAYLIGHT
DTSTART:20260329T010000
TZOFFSETFROM:+0100
TZOFFSETTO:+0200
END:DAYLIGHT
BEGIN:STANDARD
DTSTART:20261025T030000
TZOFFSETFROM:+0200
TZOFFSETTO:+0100
END:STANDARD
END:VTIMEZONE
BEGIN:VTIMEZONE
TZID:UTC
BEGIN:STANDARD
DTSTART:20250727T120106
TZOFFSETFROM:+0000
TZOFFSETTO:+0000
END:STANDARD
END:VTIMEZONE
BEGIN:VEVENT
UID:69ea0a02b1c06
DTSTAMP:20260423T120106Z
SUMMARY:KONKURADO: Neugestaltung Stadtraum Haselstrasse Baden\, Eingabe Pr
 äqualifikation 20.06.2025 - 11.08.2025
DESCRIPTION:Link zum Verfahren: https://konkurado.ch/en/neugestaltung-stadt
 raum-haselstrasse-baden
X-MICROSOFT-CDO-ALLDAYEVENT:TRUE
DTSTART;TZID=Europe/Zurich;VALUE=DATE:20250620
END:VEVENT
BEGIN:VEVENT
UID:69ea0a02b1c79
DTSTAMP:20260423T120106Z
SUMMARY:KONKURADO: Neugestaltung Stadtraum Haselstrasse Baden\, Eingabe Pr
 äqualifikation 20.06.2025 - 11.08.2025
DESCRIPTION:Link zum Verfahren: https://konkurado.ch/en/neugestaltung-stadt
 raum-haselstrasse-baden
X-MICROSOFT-CDO-ALLDAYEVENT:TRUE
DTSTART;TZID=Europe/Zurich;VALUE=DATE:20250811
END:VEVENT
BEGIN:VEVENT
UID:69ea0a02b1d93
DTSTAMP:20260423T120106Z
SUMMARY:KONKURADO: Neugestaltung Stadtraum Haselstrasse Baden\, Beurteilung
  Präqualifikation 04.09.2025 - 04.09.2025
DESCRIPTION:Link zum Verfahren: https://konkurado.ch/en/neugestaltung-stadt
 raum-haselstrasse-baden
X-MICROSOFT-CDO-ALLDAYEVENT:TRUE
DTSTART;TZID=Europe/Zurich;VALUE=DATE:20250904
END:VEVENT
BEGIN:VEVENT
UID:69ea0a02b1dbf
DTSTAMP:20260423T120106Z
SUMMARY:KONKURADO: Neugestaltung Stadtraum Haselstrasse Baden\, Beurteilung
  Präqualifikation 04.09.2025 - 04.09.2025
DESCRIPTION:Link zum Verfahren: https://konkurado.ch/en/neugestaltung-stadt
 raum-haselstrasse-baden
X-MICROSOFT-CDO-ALLDAYEVENT:TRUE
DTSTART;TZID=Europe/Zurich;VALUE=DATE:20250904
END:VEVENT
BEGIN:VEVENT
UID:69ea0a02b1df7
DTSTAMP:20260423T120106Z
SUMMARY:KONKURADO: Neugestaltung Stadtraum Haselstrasse Baden\, Fragenstell
 ung bis 23.10.2025 - 31.10.2025
DESCRIPTION:Link zum Verfahren: https://konkurado.ch/en/neugestaltung-stadt
 raum-haselstrasse-baden
X-MICROSOFT-CDO-ALLDAYEVENT:TRUE
DTSTART;TZID=Europe/Zurich;VALUE=DATE:20251023
END:VEVENT
BEGIN:VEVENT
UID:69ea0a02b1e26
DTSTAMP:20260423T120106Z
SUMMARY:KONKURADO: Neugestaltung Stadtraum Haselstrasse Baden\, Fragenstell
 ung bis 23.10.2025 - 31.10.2025
DESCRIPTION:Link zum Verfahren: https://konkurado.ch/en/neugestaltung-stadt
 raum-haselstrasse-baden
X-MICROSOFT-CDO-ALLDAYEVENT:TRUE
DTSTART;TZID=Europe/Zurich;VALUE=DATE:20251031
END:VEVENT
BEGIN:VEVENT
UID:69ea0a02b1e5f
DTSTAMP:20260423T120106Z
SUMMARY:KONKURADO: Neugestaltung Stadtraum Haselstrasse Baden\, Schlussabga
 be 23.10.2025 - 31.03.2026
DESCRIPTION:Link zum Verfahren: https://konkurado.ch/en/neugestaltung-stadt
 raum-haselstrasse-baden
X-MICROSOFT-CDO-ALLDAYEVENT:TRUE
DTSTART;TZID=Europe/Zurich;VALUE=DATE:20251023
END:VEVENT
BEGIN:VEVENT
UID:69ea0a02b1e85
DTSTAMP:20260423T120106Z
SUMMARY:KONKURADO: Neugestaltung Stadtraum Haselstrasse Baden\, Schlussabga
 be 23.10.2025 - 31.03.2026
DESCRIPTION:Link zum Verfahren: https://konkurado.ch/en/neugestaltung-stadt
 raum-haselstrasse-baden
X-MICROSOFT-CDO-ALLDAYEVENT:TRUE
DTSTART;TZID=Europe/Zurich;VALUE=DATE:20260331
END:VEVENT
BEGIN:VEVENT
UID:69ea0a02b1ed1
DTSTAMP:20260423T120106Z
SUMMARY:KONKURADO: Neugestaltung Stadtraum Haselstrasse Baden\, Beurteilung
  07.05.2026 - 07.05.2026
DESCRIPTION:Link zum Verfahren: https://konkurado.ch/en/neugestaltung-stadt
 raum-haselstrasse-baden
X-MICROSOFT-CDO-ALLDAYEVENT:TRUE
DTSTART;TZID=Europe/Zurich;VALUE=DATE:20260507
END:VEVENT
BEGIN:VEVENT
UID:69ea0a02b1ef7
DTSTAMP:20260423T120106Z
SUMMARY:KONKURADO: Neugestaltung Stadtraum Haselstrasse Baden\, Beurteilung
  07.05.2026 - 07.05.2026
DESCRIPTION:Link zum Verfahren: https://konkurado.ch/en/neugestaltung-stadt
 raum-haselstrasse-baden
X-MICROSOFT-CDO-ALLDAYEVENT:TRUE
DTSTART;TZID=Europe/Zurich;VALUE=DATE:20260507
END:VEVENT
BEGIN:VEVENT
UID:69ea0a02b1f5d
DTSTAMP:20260423T120106Z
SUMMARY:KONKURADO: Neugestaltung Stadtraum Haselstrasse Baden\, Studienauft
 rag: Kickoff mit Begehung\, Abgabe Programm 23.10.2025 - 23.10.2025
DESCRIPTION:Link zum Verfahren: https://konkurado.ch/en/neugestaltung-stadt
 raum-haselstrasse-baden
X-MICROSOFT-CDO-ALLDAYEVENT:TRUE
DTSTART;TZID=Europe/Zurich;VALUE=DATE:20251023
END:VEVENT
BEGIN:VEVENT
UID:69ea0a02b1f84
DTSTAMP:20260423T120106Z
SUMMARY:KONKURADO: Neugestaltung Stadtraum Haselstrasse Baden\, Studienauft
 rag: Kickoff mit Begehung\, Abgabe Programm 23.10.2025 - 23.10.2025
DESCRIPTION:Link zum Verfahren: https://konkurado.ch/en/neugestaltung-stadt
 raum-haselstrasse-baden
X-MICROSOFT-CDO-ALLDAYEVENT:TRUE
DTSTART;TZID=Europe/Zurich;VALUE=DATE:20251023
END:VEVENT
BEGIN:VEVENT
UID:69ea0a02b1fda
DTSTAMP:20260423T120106Z
SUMMARY:KONKURADO: Neugestaltung Stadtraum Haselstrasse Baden\, Fragenbeant
 wortung ab 12.11.2025 - 31.03.2026
DESCRIPTION:Link zum Verfahren: https://konkurado.ch/en/neugestaltung-stadt
 raum-haselstrasse-baden
X-MICROSOFT-CDO-ALLDAYEVENT:TRUE
DTSTART;TZID=Europe/Zurich;VALUE=DATE:20251112
END:VEVENT
BEGIN:VEVENT
UID:69ea0a02b2003
DTSTAMP:20260423T120106Z
SUMMARY:KONKURADO: Neugestaltung Stadtraum Haselstrasse Baden\, Fragenbeant
 wortung ab 12.11.2025 - 31.03.2026
DESCRIPTION:Link zum Verfahren: https://konkurado.ch/en/neugestaltung-stadt
 raum-haselstrasse-baden
X-MICROSOFT-CDO-ALLDAYEVENT:TRUE
DTSTART;TZID=Europe/Zurich;VALUE=DATE:20260331
END:VEVENT
BEGIN:VEVENT
UID:69ea0a02b205b
DTSTAMP:20260423T120106Z
SUMMARY:KONKURADO: Neugestaltung Stadtraum Haselstrasse Baden\, Zwischenpr
 äsentation 18.12.2025 - 18.12.2025
DESCRIPTION:Link zum Verfahren: https://konkurado.ch/en/neugestaltung-stadt
 raum-haselstrasse-baden
X-MICROSOFT-CDO-ALLDAYEVENT:TRUE
DTSTART;TZID=Europe/Zurich;VALUE=DATE:20251218
END:VEVENT
BEGIN:VEVENT
UID:69ea0a02b2081
DTSTAMP:20260423T120106Z
SUMMARY:KONKURADO: Neugestaltung Stadtraum Haselstrasse Baden\, Zwischenpr
 äsentation 18.12.2025 - 18.12.2025
DESCRIPTION:Link zum Verfahren: https://konkurado.ch/en/neugestaltung-stadt
 raum-haselstrasse-baden
X-MICROSOFT-CDO-ALLDAYEVENT:TRUE
DTSTART;TZID=Europe/Zurich;VALUE=DATE:20251218
END:VEVENT
END:VCALENDAR