BEGIN:VCALENDAR
VERSION:2.0
PRODID:spatie/icalendar-generator
NAME:Neubau Verwaltungsgebäude Tafers
X-WR-CALNAME:Neubau Verwaltungsgebäude Tafers
BEGIN:VTIMEZONE
TZID:Europe/Zurich
BEGIN:STANDARD
DTSTART:20241027T030000
TZOFFSETFROM:+0200
TZOFFSETTO:+0100
END:STANDARD
BEGIN:DAYLIGHT
DTSTART:20250330T010000
TZOFFSETFROM:+0100
TZOFFSETTO:+0200
END:DAYLIGHT
BEGIN:STANDARD
DTSTART:20251026T030000
TZOFFSETFROM:+0200
TZOFFSETTO:+0100
END:STANDARD
END:VTIMEZONE
BEGIN:VTIMEZONE
TZID:UTC
BEGIN:STANDARD
DTSTART:20250727T120322
TZOFFSETFROM:+0000
TZOFFSETTO:+0000
END:STANDARD
END:VTIMEZONE
BEGIN:VEVENT
UID:69ea0a8a29c50
DTSTAMP:20260423T120322Z
SUMMARY:KONKURADO: Neubau Verwaltungsgebäude Tafers\, Anmeldefrist bis 07.
 02.2025 - 07.03.2025
DESCRIPTION:Link zum Verfahren: https://konkurado.ch/en/neubau-verwaltungsg
 ebaude-tafers
X-MICROSOFT-CDO-ALLDAYEVENT:TRUE
DTSTART;TZID=Europe/Zurich;VALUE=DATE:20250207
END:VEVENT
BEGIN:VEVENT
UID:69ea0a8a29cd9
DTSTAMP:20260423T120322Z
SUMMARY:KONKURADO: Neubau Verwaltungsgebäude Tafers\, Anmeldefrist bis 07.
 02.2025 - 07.03.2025
DESCRIPTION:Link zum Verfahren: https://konkurado.ch/en/neubau-verwaltungsg
 ebaude-tafers
X-MICROSOFT-CDO-ALLDAYEVENT:TRUE
DTSTART;TZID=Europe/Zurich;VALUE=DATE:20250307
END:VEVENT
BEGIN:VEVENT
UID:69ea0a8a29e10
DTSTAMP:20260423T120322Z
SUMMARY:KONKURADO: Neubau Verwaltungsgebäude Tafers\, Publikation und Bezu
 g der Unterlagen 07.02.2025 - 20.05.2025
DESCRIPTION:Link zum Verfahren: https://konkurado.ch/en/neubau-verwaltungsg
 ebaude-tafers
X-MICROSOFT-CDO-ALLDAYEVENT:TRUE
DTSTART;TZID=Europe/Zurich;VALUE=DATE:20250207
END:VEVENT
BEGIN:VEVENT
UID:69ea0a8a29e3b
DTSTAMP:20260423T120322Z
SUMMARY:KONKURADO: Neubau Verwaltungsgebäude Tafers\, Publikation und Bezu
 g der Unterlagen 07.02.2025 - 20.05.2025
DESCRIPTION:Link zum Verfahren: https://konkurado.ch/en/neubau-verwaltungsg
 ebaude-tafers
X-MICROSOFT-CDO-ALLDAYEVENT:TRUE
DTSTART;TZID=Europe/Zurich;VALUE=DATE:20250520
END:VEVENT
BEGIN:VEVENT
UID:69ea0a8a29e72
DTSTAMP:20260423T120322Z
SUMMARY:KONKURADO: Neubau Verwaltungsgebäude Tafers\, Fragestellung bis 07
 .02.2025 - 28.02.2025
DESCRIPTION:Link zum Verfahren: https://konkurado.ch/en/neubau-verwaltungsg
 ebaude-tafers
X-MICROSOFT-CDO-ALLDAYEVENT:TRUE
DTSTART;TZID=Europe/Zurich;VALUE=DATE:20250207
END:VEVENT
BEGIN:VEVENT
UID:69ea0a8a29e99
DTSTAMP:20260423T120322Z
SUMMARY:KONKURADO: Neubau Verwaltungsgebäude Tafers\, Fragestellung bis 07
 .02.2025 - 28.02.2025
DESCRIPTION:Link zum Verfahren: https://konkurado.ch/en/neubau-verwaltungsg
 ebaude-tafers
X-MICROSOFT-CDO-ALLDAYEVENT:TRUE
DTSTART;TZID=Europe/Zurich;VALUE=DATE:20250228
END:VEVENT
BEGIN:VEVENT
UID:69ea0a8a29eca
DTSTAMP:20260423T120322Z
SUMMARY:KONKURADO: Neubau Verwaltungsgebäude Tafers\, Abgabe der Wettbewer
 bsarbeiten 07.02.2025 - 20.05.2025
DESCRIPTION:Link zum Verfahren: https://konkurado.ch/en/neubau-verwaltungsg
 ebaude-tafers
X-MICROSOFT-CDO-ALLDAYEVENT:TRUE
DTSTART;TZID=Europe/Zurich;VALUE=DATE:20250207
END:VEVENT
BEGIN:VEVENT
UID:69ea0a8a29eef
DTSTAMP:20260423T120322Z
SUMMARY:KONKURADO: Neubau Verwaltungsgebäude Tafers\, Abgabe der Wettbewer
 bsarbeiten 07.02.2025 - 20.05.2025
DESCRIPTION:Link zum Verfahren: https://konkurado.ch/en/neubau-verwaltungsg
 ebaude-tafers
X-MICROSOFT-CDO-ALLDAYEVENT:TRUE
DTSTART;TZID=Europe/Zurich;VALUE=DATE:20250520
END:VEVENT
BEGIN:VEVENT
UID:69ea0a8a29f4c
DTSTAMP:20260423T120322Z
SUMMARY:KONKURADO: Neubau Verwaltungsgebäude Tafers\, Modellausgabe 17.02.
 2025 - 21.02.2025
DESCRIPTION:Link zum Verfahren: https://konkurado.ch/en/neubau-verwaltungsg
 ebaude-tafers
X-MICROSOFT-CDO-ALLDAYEVENT:TRUE
DTSTART;TZID=Europe/Zurich;VALUE=DATE:20250217
END:VEVENT
BEGIN:VEVENT
UID:69ea0a8a29f72
DTSTAMP:20260423T120322Z
SUMMARY:KONKURADO: Neubau Verwaltungsgebäude Tafers\, Modellausgabe 17.02.
 2025 - 21.02.2025
DESCRIPTION:Link zum Verfahren: https://konkurado.ch/en/neubau-verwaltungsg
 ebaude-tafers
X-MICROSOFT-CDO-ALLDAYEVENT:TRUE
DTSTART;TZID=Europe/Zurich;VALUE=DATE:20250221
END:VEVENT
BEGIN:VEVENT
UID:69ea0a8a29fe9
DTSTAMP:20260423T120322Z
SUMMARY:KONKURADO: Neubau Verwaltungsgebäude Tafers\, Fragenbeantwortung 0
 1.03.2025 - 14.03.2025
DESCRIPTION:Link zum Verfahren: https://konkurado.ch/en/neubau-verwaltungsg
 ebaude-tafers
X-MICROSOFT-CDO-ALLDAYEVENT:TRUE
DTSTART;TZID=Europe/Zurich;VALUE=DATE:20250301
END:VEVENT
BEGIN:VEVENT
UID:69ea0a8a2a00f
DTSTAMP:20260423T120322Z
SUMMARY:KONKURADO: Neubau Verwaltungsgebäude Tafers\, Fragenbeantwortung 0
 1.03.2025 - 14.03.2025
DESCRIPTION:Link zum Verfahren: https://konkurado.ch/en/neubau-verwaltungsg
 ebaude-tafers
X-MICROSOFT-CDO-ALLDAYEVENT:TRUE
DTSTART;TZID=Europe/Zurich;VALUE=DATE:20250314
END:VEVENT
BEGIN:VEVENT
UID:69ea0a8a2a078
DTSTAMP:20260423T120322Z
SUMMARY:KONKURADO: Neubau Verwaltungsgebäude Tafers\, Abgabe der Modelle 2
 2.02.2025 - 06.06.2025
DESCRIPTION:Link zum Verfahren: https://konkurado.ch/en/neubau-verwaltungsg
 ebaude-tafers
X-MICROSOFT-CDO-ALLDAYEVENT:TRUE
DTSTART;TZID=Europe/Zurich;VALUE=DATE:20250222
END:VEVENT
BEGIN:VEVENT
UID:69ea0a8a2a0b9
DTSTAMP:20260423T120322Z
SUMMARY:KONKURADO: Neubau Verwaltungsgebäude Tafers\, Abgabe der Modelle 2
 2.02.2025 - 06.06.2025
DESCRIPTION:Link zum Verfahren: https://konkurado.ch/en/neubau-verwaltungsg
 ebaude-tafers
X-MICROSOFT-CDO-ALLDAYEVENT:TRUE
DTSTART;TZID=Europe/Zurich;VALUE=DATE:20250606
END:VEVENT
END:VCALENDAR