BEGIN:VCALENDAR
VERSION:2.0
PRODID:spatie/icalendar-generator
NAME:Neubau Sekundarschulhaus Stadel mit Doppelturnhalle
X-WR-CALNAME:Neubau Sekundarschulhaus Stadel mit Doppelturnhalle
BEGIN:VTIMEZONE
TZID:Europe/Zurich
BEGIN:STANDARD
DTSTART:20241027T030000
TZOFFSETFROM:+0200
TZOFFSETTO:+0100
END:STANDARD
BEGIN:DAYLIGHT
DTSTART:20250330T010000
TZOFFSETFROM:+0100
TZOFFSETTO:+0200
END:DAYLIGHT
BEGIN:STANDARD
DTSTART:20251026T030000
TZOFFSETFROM:+0200
TZOFFSETTO:+0100
END:STANDARD
BEGIN:DAYLIGHT
DTSTART:20260329T010000
TZOFFSETFROM:+0100
TZOFFSETTO:+0200
END:DAYLIGHT
END:VTIMEZONE
BEGIN:VTIMEZONE
TZID:UTC
BEGIN:STANDARD
DTSTART:20250727T120522
TZOFFSETFROM:+0000
TZOFFSETTO:+0000
END:STANDARD
END:VTIMEZONE
BEGIN:VEVENT
UID:69ea0b02a2623
DTSTAMP:20260423T120522Z
SUMMARY:KONKURADO: Neubau Sekundarschulhaus Stadel mit Doppelturnhalle\, Ei
 ngabetermin Präqualifikation 28.02.2025 - 02.03.2025
DESCRIPTION:Link zum Verfahren: https://konkurado.ch/en/neubau-sekundarschu
 lhaus-stadel-mit-doppelturnhalle
X-MICROSOFT-CDO-ALLDAYEVENT:TRUE
DTSTART;TZID=Europe/Zurich;VALUE=DATE:20250228
END:VEVENT
BEGIN:VEVENT
UID:69ea0b02a2691
DTSTAMP:20260423T120522Z
SUMMARY:KONKURADO: Neubau Sekundarschulhaus Stadel mit Doppelturnhalle\, Ei
 ngabetermin Präqualifikation 28.02.2025 - 02.03.2025
DESCRIPTION:Link zum Verfahren: https://konkurado.ch/en/neubau-sekundarschu
 lhaus-stadel-mit-doppelturnhalle
X-MICROSOFT-CDO-ALLDAYEVENT:TRUE
DTSTART;TZID=Europe/Zurich;VALUE=DATE:20250302
END:VEVENT
BEGIN:VEVENT
UID:69ea0b02a26d4
DTSTAMP:20260423T120522Z
SUMMARY:KONKURADO: Neubau Sekundarschulhaus Stadel mit Doppelturnhalle\, Ei
 nreichung schriftl. Fragen der Teilnehmer 28.04.2025 - 26.05.2025
DESCRIPTION:Link zum Verfahren: https://konkurado.ch/en/neubau-sekundarschu
 lhaus-stadel-mit-doppelturnhalle
X-MICROSOFT-CDO-ALLDAYEVENT:TRUE
DTSTART;TZID=Europe/Zurich;VALUE=DATE:20250428
END:VEVENT
BEGIN:VEVENT
UID:69ea0b02a26fc
DTSTAMP:20260423T120522Z
SUMMARY:KONKURADO: Neubau Sekundarschulhaus Stadel mit Doppelturnhalle\, Ei
 nreichung schriftl. Fragen der Teilnehmer 28.04.2025 - 26.05.2025
DESCRIPTION:Link zum Verfahren: https://konkurado.ch/en/neubau-sekundarschu
 lhaus-stadel-mit-doppelturnhalle
X-MICROSOFT-CDO-ALLDAYEVENT:TRUE
DTSTART;TZID=Europe/Zurich;VALUE=DATE:20250526
END:VEVENT
BEGIN:VEVENT
UID:69ea0b02a272e
DTSTAMP:20260423T120522Z
SUMMARY:KONKURADO: Neubau Sekundarschulhaus Stadel mit Doppelturnhalle\, Ab
 gabetermin Projektdossier (Pläne und Dokumente) 28.04.2025 - 29.08.2025
DESCRIPTION:Link zum Verfahren: https://konkurado.ch/en/neubau-sekundarschu
 lhaus-stadel-mit-doppelturnhalle
X-MICROSOFT-CDO-ALLDAYEVENT:TRUE
DTSTART;TZID=Europe/Zurich;VALUE=DATE:20250428
END:VEVENT
BEGIN:VEVENT
UID:69ea0b02a2752
DTSTAMP:20260423T120522Z
SUMMARY:KONKURADO: Neubau Sekundarschulhaus Stadel mit Doppelturnhalle\, Ab
 gabetermin Projektdossier (Pläne und Dokumente) 28.04.2025 - 29.08.2025
DESCRIPTION:Link zum Verfahren: https://konkurado.ch/en/neubau-sekundarschu
 lhaus-stadel-mit-doppelturnhalle
X-MICROSOFT-CDO-ALLDAYEVENT:TRUE
DTSTART;TZID=Europe/Zurich;VALUE=DATE:20250829
END:VEVENT
BEGIN:VEVENT
UID:69ea0b02a532a
DTSTAMP:20260423T120522Z
SUMMARY:KONKURADO: Neubau Sekundarschulhaus Stadel mit Doppelturnhalle\, Ve
 rsand der Selektionsverfügung 04.04.2025 - 04.04.2025
DESCRIPTION:Link zum Verfahren: https://konkurado.ch/en/neubau-sekundarschu
 lhaus-stadel-mit-doppelturnhalle
X-MICROSOFT-CDO-ALLDAYEVENT:TRUE
DTSTART;TZID=Europe/Zurich;VALUE=DATE:20250404
END:VEVENT
BEGIN:VEVENT
UID:69ea0b02a5362
DTSTAMP:20260423T120522Z
SUMMARY:KONKURADO: Neubau Sekundarschulhaus Stadel mit Doppelturnhalle\, Ve
 rsand der Selektionsverfügung 04.04.2025 - 04.04.2025
DESCRIPTION:Link zum Verfahren: https://konkurado.ch/en/neubau-sekundarschu
 lhaus-stadel-mit-doppelturnhalle
X-MICROSOFT-CDO-ALLDAYEVENT:TRUE
DTSTART;TZID=Europe/Zurich;VALUE=DATE:20250404
END:VEVENT
BEGIN:VEVENT
UID:69ea0b02a53e5
DTSTAMP:20260423T120522Z
SUMMARY:KONKURADO: Neubau Sekundarschulhaus Stadel mit Doppelturnhalle\, Ve
 rsand des Programms und der Unterlagen 28.04.2025 - 28.04.2025
DESCRIPTION:Link zum Verfahren: https://konkurado.ch/en/neubau-sekundarschu
 lhaus-stadel-mit-doppelturnhalle
X-MICROSOFT-CDO-ALLDAYEVENT:TRUE
DTSTART;TZID=Europe/Zurich;VALUE=DATE:20250428
END:VEVENT
BEGIN:VEVENT
UID:69ea0b02a540d
DTSTAMP:20260423T120522Z
SUMMARY:KONKURADO: Neubau Sekundarschulhaus Stadel mit Doppelturnhalle\, Ve
 rsand des Programms und der Unterlagen 28.04.2025 - 28.04.2025
DESCRIPTION:Link zum Verfahren: https://konkurado.ch/en/neubau-sekundarschu
 lhaus-stadel-mit-doppelturnhalle
X-MICROSOFT-CDO-ALLDAYEVENT:TRUE
DTSTART;TZID=Europe/Zurich;VALUE=DATE:20250428
END:VEVENT
BEGIN:VEVENT
UID:69ea0b02a5478
DTSTAMP:20260423T120522Z
SUMMARY:KONKURADO: Neubau Sekundarschulhaus Stadel mit Doppelturnhalle\, Ab
 gabe der Präqualifikationsunterlagen 28.02.2025 - 02.03.2025
DESCRIPTION:Link zum Verfahren: https://konkurado.ch/en/neubau-sekundarschu
 lhaus-stadel-mit-doppelturnhalle
X-MICROSOFT-CDO-ALLDAYEVENT:TRUE
DTSTART;TZID=Europe/Zurich;VALUE=DATE:20250228
END:VEVENT
BEGIN:VEVENT
UID:69ea0b02a54b2
DTSTAMP:20260423T120522Z
SUMMARY:KONKURADO: Neubau Sekundarschulhaus Stadel mit Doppelturnhalle\, Ab
 gabe der Präqualifikationsunterlagen 28.02.2025 - 02.03.2025
DESCRIPTION:Link zum Verfahren: https://konkurado.ch/en/neubau-sekundarschu
 lhaus-stadel-mit-doppelturnhalle
X-MICROSOFT-CDO-ALLDAYEVENT:TRUE
DTSTART;TZID=Europe/Zurich;VALUE=DATE:20250302
END:VEVENT
BEGIN:VEVENT
UID:69ea0b02a5544
DTSTAMP:20260423T120522Z
SUMMARY:KONKURADO: Neubau Sekundarschulhaus Stadel mit Doppelturnhalle\, Be
 stätigung der Teilnahme 07.04.2025 - 07.04.2025
DESCRIPTION:Link zum Verfahren: https://konkurado.ch/en/neubau-sekundarschu
 lhaus-stadel-mit-doppelturnhalle
X-MICROSOFT-CDO-ALLDAYEVENT:TRUE
DTSTART;TZID=Europe/Zurich;VALUE=DATE:20250407
END:VEVENT
BEGIN:VEVENT
UID:69ea0b02a557c
DTSTAMP:20260423T120522Z
SUMMARY:KONKURADO: Neubau Sekundarschulhaus Stadel mit Doppelturnhalle\, Be
 stätigung der Teilnahme 07.04.2025 - 07.04.2025
DESCRIPTION:Link zum Verfahren: https://konkurado.ch/en/neubau-sekundarschu
 lhaus-stadel-mit-doppelturnhalle
X-MICROSOFT-CDO-ALLDAYEVENT:TRUE
DTSTART;TZID=Europe/Zurich;VALUE=DATE:20250407
END:VEVENT
BEGIN:VEVENT
UID:69ea0b02a560c
DTSTAMP:20260423T120522Z
SUMMARY:KONKURADO: Neubau Sekundarschulhaus Stadel mit Doppelturnhalle\, Be
 gehung und Bezug Modell 12.05.2025 - 12.05.2025
DESCRIPTION:Link zum Verfahren: https://konkurado.ch/en/neubau-sekundarschu
 lhaus-stadel-mit-doppelturnhalle
X-MICROSOFT-CDO-ALLDAYEVENT:TRUE
DTSTART;TZID=Europe/Zurich;VALUE=DATE:20250512
END:VEVENT
BEGIN:VEVENT
UID:69ea0b02a563f
DTSTAMP:20260423T120522Z
SUMMARY:KONKURADO: Neubau Sekundarschulhaus Stadel mit Doppelturnhalle\, Be
 gehung und Bezug Modell 12.05.2025 - 12.05.2025
DESCRIPTION:Link zum Verfahren: https://konkurado.ch/en/neubau-sekundarschu
 lhaus-stadel-mit-doppelturnhalle
X-MICROSOFT-CDO-ALLDAYEVENT:TRUE
DTSTART;TZID=Europe/Zurich;VALUE=DATE:20250512
END:VEVENT
BEGIN:VEVENT
UID:69ea0b02a56b1
DTSTAMP:20260423T120522Z
SUMMARY:KONKURADO: Neubau Sekundarschulhaus Stadel mit Doppelturnhalle\, Ve
 rsand schriftl. Fragebeantwortung 04.06.2025 - 04.06.2025
DESCRIPTION:Link zum Verfahren: https://konkurado.ch/en/neubau-sekundarschu
 lhaus-stadel-mit-doppelturnhalle
X-MICROSOFT-CDO-ALLDAYEVENT:TRUE
DTSTART;TZID=Europe/Zurich;VALUE=DATE:20250604
END:VEVENT
BEGIN:VEVENT
UID:69ea0b02a56d8
DTSTAMP:20260423T120522Z
SUMMARY:KONKURADO: Neubau Sekundarschulhaus Stadel mit Doppelturnhalle\, Ve
 rsand schriftl. Fragebeantwortung 04.06.2025 - 04.06.2025
DESCRIPTION:Link zum Verfahren: https://konkurado.ch/en/neubau-sekundarschu
 lhaus-stadel-mit-doppelturnhalle
X-MICROSOFT-CDO-ALLDAYEVENT:TRUE
DTSTART;TZID=Europe/Zurich;VALUE=DATE:20250604
END:VEVENT
BEGIN:VEVENT
UID:69ea0b02a572f
DTSTAMP:20260423T120522Z
SUMMARY:KONKURADO: Neubau Sekundarschulhaus Stadel mit Doppelturnhalle\, Ab
 gabetermin Modell 12.05.2025 - 15.09.2025
DESCRIPTION:Link zum Verfahren: https://konkurado.ch/en/neubau-sekundarschu
 lhaus-stadel-mit-doppelturnhalle
X-MICROSOFT-CDO-ALLDAYEVENT:TRUE
DTSTART;TZID=Europe/Zurich;VALUE=DATE:20250512
END:VEVENT
BEGIN:VEVENT
UID:69ea0b02a5756
DTSTAMP:20260423T120522Z
SUMMARY:KONKURADO: Neubau Sekundarschulhaus Stadel mit Doppelturnhalle\, Ab
 gabetermin Modell 12.05.2025 - 15.09.2025
DESCRIPTION:Link zum Verfahren: https://konkurado.ch/en/neubau-sekundarschu
 lhaus-stadel-mit-doppelturnhalle
X-MICROSOFT-CDO-ALLDAYEVENT:TRUE
DTSTART;TZID=Europe/Zurich;VALUE=DATE:20250915
END:VEVENT
BEGIN:VEVENT
UID:69ea0b02a57a8
DTSTAMP:20260423T120522Z
SUMMARY:KONKURADO: Neubau Sekundarschulhaus Stadel mit Doppelturnhalle\, Ve
 rsand Jurybericht und Zuschlagsverfügung 24.10.2025 - 24.10.2025
DESCRIPTION:Link zum Verfahren: https://konkurado.ch/en/neubau-sekundarschu
 lhaus-stadel-mit-doppelturnhalle
X-MICROSOFT-CDO-ALLDAYEVENT:TRUE
DTSTART;TZID=Europe/Zurich;VALUE=DATE:20251024
END:VEVENT
BEGIN:VEVENT
UID:69ea0b02a57cd
DTSTAMP:20260423T120522Z
SUMMARY:KONKURADO: Neubau Sekundarschulhaus Stadel mit Doppelturnhalle\, Ve
 rsand Jurybericht und Zuschlagsverfügung 24.10.2025 - 24.10.2025
DESCRIPTION:Link zum Verfahren: https://konkurado.ch/en/neubau-sekundarschu
 lhaus-stadel-mit-doppelturnhalle
X-MICROSOFT-CDO-ALLDAYEVENT:TRUE
DTSTART;TZID=Europe/Zurich;VALUE=DATE:20251024
END:VEVENT
BEGIN:VEVENT
UID:69ea0b02a581f
DTSTAMP:20260423T120522Z
SUMMARY:KONKURADO: Neubau Sekundarschulhaus Stadel mit Doppelturnhalle\, Au
 sstellung 28.11.2025 - 28.11.2025
DESCRIPTION:Link zum Verfahren: https://konkurado.ch/en/neubau-sekundarschu
 lhaus-stadel-mit-doppelturnhalle
X-MICROSOFT-CDO-ALLDAYEVENT:TRUE
DTSTART;TZID=Europe/Zurich;VALUE=DATE:20251128
END:VEVENT
BEGIN:VEVENT
UID:69ea0b02a5846
DTSTAMP:20260423T120522Z
SUMMARY:KONKURADO: Neubau Sekundarschulhaus Stadel mit Doppelturnhalle\, Au
 sstellung 28.11.2025 - 28.11.2025
DESCRIPTION:Link zum Verfahren: https://konkurado.ch/en/neubau-sekundarschu
 lhaus-stadel-mit-doppelturnhalle
X-MICROSOFT-CDO-ALLDAYEVENT:TRUE
DTSTART;TZID=Europe/Zurich;VALUE=DATE:20251128
END:VEVENT
BEGIN:VEVENT
UID:69ea0b02a5896
DTSTAMP:20260423T120522Z
SUMMARY:KONKURADO: Neubau Sekundarschulhaus Stadel mit Doppelturnhalle\, Ur
 nenabstimmung 15.03.2026 - 15.03.2026
DESCRIPTION:Link zum Verfahren: https://konkurado.ch/en/neubau-sekundarschu
 lhaus-stadel-mit-doppelturnhalle
X-MICROSOFT-CDO-ALLDAYEVENT:TRUE
DTSTART;TZID=Europe/Zurich;VALUE=DATE:20260315
END:VEVENT
BEGIN:VEVENT
UID:69ea0b02a58c0
DTSTAMP:20260423T120522Z
SUMMARY:KONKURADO: Neubau Sekundarschulhaus Stadel mit Doppelturnhalle\, Ur
 nenabstimmung 15.03.2026 - 15.03.2026
DESCRIPTION:Link zum Verfahren: https://konkurado.ch/en/neubau-sekundarschu
 lhaus-stadel-mit-doppelturnhalle
X-MICROSOFT-CDO-ALLDAYEVENT:TRUE
DTSTART;TZID=Europe/Zurich;VALUE=DATE:20260315
END:VEVENT
END:VCALENDAR