BEGIN:VCALENDAR
VERSION:2.0
PRODID:spatie/icalendar-generator
NAME:Neubau Recyclinghof Wetzikon
X-WR-CALNAME:Neubau Recyclinghof Wetzikon
BEGIN:VTIMEZONE
TZID:Europe/Zurich
BEGIN:DAYLIGHT
DTSTART:20240331T010000
TZOFFSETFROM:+0100
TZOFFSETTO:+0200
END:DAYLIGHT
BEGIN:STANDARD
DTSTART:20241027T030000
TZOFFSETFROM:+0200
TZOFFSETTO:+0100
END:STANDARD
BEGIN:DAYLIGHT
DTSTART:20250330T010000
TZOFFSETFROM:+0100
TZOFFSETTO:+0200
END:DAYLIGHT
BEGIN:STANDARD
DTSTART:20251026T030000
TZOFFSETFROM:+0200
TZOFFSETTO:+0100
END:STANDARD
BEGIN:DAYLIGHT
DTSTART:20260329T010000
TZOFFSETFROM:+0100
TZOFFSETTO:+0200
END:DAYLIGHT
END:VTIMEZONE
BEGIN:VTIMEZONE
TZID:UTC
BEGIN:STANDARD
DTSTART:20250727T115444
TZOFFSETFROM:+0000
TZOFFSETTO:+0000
END:STANDARD
END:VTIMEZONE
BEGIN:VEVENT
UID:69ea0884eb4b9
DTSTAMP:20260423T115444Z
SUMMARY:KONKURADO: Neubau Recyclinghof Wetzikon\, Einreichung Antrag auf Te
 ilnahme 06.12.2024 - 07.02.2025
DESCRIPTION:Link zum Verfahren: https://konkurado.ch/en/neubau-recyclinghof
 -wetzikon
X-MICROSOFT-CDO-ALLDAYEVENT:TRUE
DTSTART;TZID=Europe/Zurich;VALUE=DATE:20241206
END:VEVENT
BEGIN:VEVENT
UID:69ea0884eb548
DTSTAMP:20260423T115444Z
SUMMARY:KONKURADO: Neubau Recyclinghof Wetzikon\, Einreichung Antrag auf Te
 ilnahme 06.12.2024 - 07.02.2025
DESCRIPTION:Link zum Verfahren: https://konkurado.ch/en/neubau-recyclinghof
 -wetzikon
X-MICROSOFT-CDO-ALLDAYEVENT:TRUE
DTSTART;TZID=Europe/Zurich;VALUE=DATE:20250207
END:VEVENT
BEGIN:VEVENT
UID:69ea0884eb6e7
DTSTAMP:20260423T115444Z
SUMMARY:KONKURADO: Neubau Recyclinghof Wetzikon\, Versand Verfügung Teilne
 hmerwahl 07.03.2025 - 07.03.2025
DESCRIPTION:Link zum Verfahren: https://konkurado.ch/en/neubau-recyclinghof
 -wetzikon
X-MICROSOFT-CDO-ALLDAYEVENT:TRUE
DTSTART;TZID=Europe/Zurich;VALUE=DATE:20250307
END:VEVENT
BEGIN:VEVENT
UID:69ea0884eb72a
DTSTAMP:20260423T115444Z
SUMMARY:KONKURADO: Neubau Recyclinghof Wetzikon\, Versand Verfügung Teilne
 hmerwahl 07.03.2025 - 07.03.2025
DESCRIPTION:Link zum Verfahren: https://konkurado.ch/en/neubau-recyclinghof
 -wetzikon
X-MICROSOFT-CDO-ALLDAYEVENT:TRUE
DTSTART;TZID=Europe/Zurich;VALUE=DATE:20250307
END:VEVENT
BEGIN:VEVENT
UID:69ea0884eb778
DTSTAMP:20260423T115444Z
SUMMARY:KONKURADO: Neubau Recyclinghof Wetzikon\, Einreichung Fragen 28.03.
 2025 - 09.04.2025
DESCRIPTION:Link zum Verfahren: https://konkurado.ch/en/neubau-recyclinghof
 -wetzikon
X-MICROSOFT-CDO-ALLDAYEVENT:TRUE
DTSTART;TZID=Europe/Zurich;VALUE=DATE:20250328
END:VEVENT
BEGIN:VEVENT
UID:69ea0884eb7b9
DTSTAMP:20260423T115444Z
SUMMARY:KONKURADO: Neubau Recyclinghof Wetzikon\, Einreichung Fragen 28.03.
 2025 - 09.04.2025
DESCRIPTION:Link zum Verfahren: https://konkurado.ch/en/neubau-recyclinghof
 -wetzikon
X-MICROSOFT-CDO-ALLDAYEVENT:TRUE
DTSTART;TZID=Europe/Zurich;VALUE=DATE:20250409
END:VEVENT
BEGIN:VEVENT
UID:69ea0884eb815
DTSTAMP:20260423T115444Z
SUMMARY:KONKURADO: Neubau Recyclinghof Wetzikon\, Abgabe Gesamtleistungsang
 ebot 15.05.2025 - 09.07.2025
DESCRIPTION:Link zum Verfahren: https://konkurado.ch/en/neubau-recyclinghof
 -wetzikon
X-MICROSOFT-CDO-ALLDAYEVENT:TRUE
DTSTART;TZID=Europe/Zurich;VALUE=DATE:20250515
END:VEVENT
BEGIN:VEVENT
UID:69ea0884eb854
DTSTAMP:20260423T115444Z
SUMMARY:KONKURADO: Neubau Recyclinghof Wetzikon\, Abgabe Gesamtleistungsang
 ebot 15.05.2025 - 09.07.2025
DESCRIPTION:Link zum Verfahren: https://konkurado.ch/en/neubau-recyclinghof
 -wetzikon
X-MICROSOFT-CDO-ALLDAYEVENT:TRUE
DTSTART;TZID=Europe/Zurich;VALUE=DATE:20250709
END:VEVENT
BEGIN:VEVENT
UID:69ea0884eb8b9
DTSTAMP:20260423T115444Z
SUMMARY:KONKURADO: Neubau Recyclinghof Wetzikon\, Jurierung 28.08.2025 - 28
 .08.2025
DESCRIPTION:Link zum Verfahren: https://konkurado.ch/en/neubau-recyclinghof
 -wetzikon
X-MICROSOFT-CDO-ALLDAYEVENT:TRUE
DTSTART;TZID=Europe/Zurich;VALUE=DATE:20250828
END:VEVENT
BEGIN:VEVENT
UID:69ea0884eb8f7
DTSTAMP:20260423T115444Z
SUMMARY:KONKURADO: Neubau Recyclinghof Wetzikon\, Jurierung 28.08.2025 - 28
 .08.2025
DESCRIPTION:Link zum Verfahren: https://konkurado.ch/en/neubau-recyclinghof
 -wetzikon
X-MICROSOFT-CDO-ALLDAYEVENT:TRUE
DTSTART;TZID=Europe/Zurich;VALUE=DATE:20250828
END:VEVENT
BEGIN:VEVENT
UID:69ea0884eb993
DTSTAMP:20260423T115444Z
SUMMARY:KONKURADO: Neubau Recyclinghof Wetzikon\, Versand Wettbewerbsunterl
 agen 28.03.2025 - 28.03.2025
DESCRIPTION:Link zum Verfahren: https://konkurado.ch/en/neubau-recyclinghof
 -wetzikon
X-MICROSOFT-CDO-ALLDAYEVENT:TRUE
DTSTART;TZID=Europe/Zurich;VALUE=DATE:20250328
END:VEVENT
BEGIN:VEVENT
UID:69ea0884eb9bc
DTSTAMP:20260423T115444Z
SUMMARY:KONKURADO: Neubau Recyclinghof Wetzikon\, Versand Wettbewerbsunterl
 agen 28.03.2025 - 28.03.2025
DESCRIPTION:Link zum Verfahren: https://konkurado.ch/en/neubau-recyclinghof
 -wetzikon
X-MICROSOFT-CDO-ALLDAYEVENT:TRUE
DTSTART;TZID=Europe/Zurich;VALUE=DATE:20250328
END:VEVENT
BEGIN:VEVENT
UID:69ea0884eba17
DTSTAMP:20260423T115444Z
SUMMARY:KONKURADO: Neubau Recyclinghof Wetzikon\, Bezug Gipsmodell 02.04.20
 25 - 02.04.2025
DESCRIPTION:Link zum Verfahren: https://konkurado.ch/en/neubau-recyclinghof
 -wetzikon
X-MICROSOFT-CDO-ALLDAYEVENT:TRUE
DTSTART;TZID=Europe/Zurich;VALUE=DATE:20250402
END:VEVENT
BEGIN:VEVENT
UID:69ea0884eba3e
DTSTAMP:20260423T115444Z
SUMMARY:KONKURADO: Neubau Recyclinghof Wetzikon\, Bezug Gipsmodell 02.04.20
 25 - 02.04.2025
DESCRIPTION:Link zum Verfahren: https://konkurado.ch/en/neubau-recyclinghof
 -wetzikon
X-MICROSOFT-CDO-ALLDAYEVENT:TRUE
DTSTART;TZID=Europe/Zurich;VALUE=DATE:20250402
END:VEVENT
BEGIN:VEVENT
UID:69ea0884eba95
DTSTAMP:20260423T115444Z
SUMMARY:KONKURADO: Neubau Recyclinghof Wetzikon\, Beantwortung Fragen 10.12
 .2024 - 16.12.2024
DESCRIPTION:Link zum Verfahren: https://konkurado.ch/en/neubau-recyclinghof
 -wetzikon
X-MICROSOFT-CDO-ALLDAYEVENT:TRUE
DTSTART;TZID=Europe/Zurich;VALUE=DATE:20241210
END:VEVENT
BEGIN:VEVENT
UID:69ea0884ebabb
DTSTAMP:20260423T115444Z
SUMMARY:KONKURADO: Neubau Recyclinghof Wetzikon\, Beantwortung Fragen 10.12
 .2024 - 16.12.2024
DESCRIPTION:Link zum Verfahren: https://konkurado.ch/en/neubau-recyclinghof
 -wetzikon
X-MICROSOFT-CDO-ALLDAYEVENT:TRUE
DTSTART;TZID=Europe/Zurich;VALUE=DATE:20241216
END:VEVENT
BEGIN:VEVENT
UID:69ea0884ebb0e
DTSTAMP:20260423T115444Z
SUMMARY:KONKURADO: Neubau Recyclinghof Wetzikon\, Zwischenpräsentation 14.
 05.2025 - 14.05.2025
DESCRIPTION:Link zum Verfahren: https://konkurado.ch/en/neubau-recyclinghof
 -wetzikon
X-MICROSOFT-CDO-ALLDAYEVENT:TRUE
DTSTART;TZID=Europe/Zurich;VALUE=DATE:20250514
END:VEVENT
BEGIN:VEVENT
UID:69ea0884ebb35
DTSTAMP:20260423T115444Z
SUMMARY:KONKURADO: Neubau Recyclinghof Wetzikon\, Zwischenpräsentation 14.
 05.2025 - 14.05.2025
DESCRIPTION:Link zum Verfahren: https://konkurado.ch/en/neubau-recyclinghof
 -wetzikon
X-MICROSOFT-CDO-ALLDAYEVENT:TRUE
DTSTART;TZID=Europe/Zurich;VALUE=DATE:20250514
END:VEVENT
BEGIN:VEVENT
UID:69ea0884ebb88
DTSTAMP:20260423T115444Z
SUMMARY:KONKURADO: Neubau Recyclinghof Wetzikon\, Abgabe Gipsmodell 15.05.2
 025 - 23.07.2025
DESCRIPTION:Link zum Verfahren: https://konkurado.ch/en/neubau-recyclinghof
 -wetzikon
X-MICROSOFT-CDO-ALLDAYEVENT:TRUE
DTSTART;TZID=Europe/Zurich;VALUE=DATE:20250515
END:VEVENT
BEGIN:VEVENT
UID:69ea0884ebbaf
DTSTAMP:20260423T115444Z
SUMMARY:KONKURADO: Neubau Recyclinghof Wetzikon\, Abgabe Gipsmodell 15.05.2
 025 - 23.07.2025
DESCRIPTION:Link zum Verfahren: https://konkurado.ch/en/neubau-recyclinghof
 -wetzikon
X-MICROSOFT-CDO-ALLDAYEVENT:TRUE
DTSTART;TZID=Europe/Zurich;VALUE=DATE:20250723
END:VEVENT
BEGIN:VEVENT
UID:69ea0884ebc31
DTSTAMP:20260423T115444Z
SUMMARY:KONKURADO: Neubau Recyclinghof Wetzikon\, Schlusspräsentation 27.0
 8.2025 - 27.08.2025
DESCRIPTION:Link zum Verfahren: https://konkurado.ch/en/neubau-recyclinghof
 -wetzikon
X-MICROSOFT-CDO-ALLDAYEVENT:TRUE
DTSTART;TZID=Europe/Zurich;VALUE=DATE:20250827
END:VEVENT
BEGIN:VEVENT
UID:69ea0884ebc73
DTSTAMP:20260423T115444Z
SUMMARY:KONKURADO: Neubau Recyclinghof Wetzikon\, Schlusspräsentation 27.0
 8.2025 - 27.08.2025
DESCRIPTION:Link zum Verfahren: https://konkurado.ch/en/neubau-recyclinghof
 -wetzikon
X-MICROSOFT-CDO-ALLDAYEVENT:TRUE
DTSTART;TZID=Europe/Zurich;VALUE=DATE:20250827
END:VEVENT
BEGIN:VEVENT
UID:69ea0884ebcfc
DTSTAMP:20260423T115444Z
SUMMARY:KONKURADO: Neubau Recyclinghof Wetzikon\, Versand Verfügung Zuschl
 ag 26.09.2025 - 26.09.2025
DESCRIPTION:Link zum Verfahren: https://konkurado.ch/en/neubau-recyclinghof
 -wetzikon
X-MICROSOFT-CDO-ALLDAYEVENT:TRUE
DTSTART;TZID=Europe/Zurich;VALUE=DATE:20250926
END:VEVENT
BEGIN:VEVENT
UID:69ea0884ebd3f
DTSTAMP:20260423T115444Z
SUMMARY:KONKURADO: Neubau Recyclinghof Wetzikon\, Versand Verfügung Zuschl
 ag 26.09.2025 - 26.09.2025
DESCRIPTION:Link zum Verfahren: https://konkurado.ch/en/neubau-recyclinghof
 -wetzikon
X-MICROSOFT-CDO-ALLDAYEVENT:TRUE
DTSTART;TZID=Europe/Zurich;VALUE=DATE:20250926
END:VEVENT
END:VCALENDAR