BEGIN:VCALENDAR
VERSION:2.0
PRODID:spatie/icalendar-generator
NAME:Neubau Mehrzweckhalle Stapfen Naters
X-WR-CALNAME:Neubau Mehrzweckhalle Stapfen Naters
BEGIN:VTIMEZONE
TZID:Europe/Zurich
BEGIN:STANDARD
DTSTART:20241027T030000
TZOFFSETFROM:+0200
TZOFFSETTO:+0100
END:STANDARD
BEGIN:DAYLIGHT
DTSTART:20250330T010000
TZOFFSETFROM:+0100
TZOFFSETTO:+0200
END:DAYLIGHT
BEGIN:STANDARD
DTSTART:20251026T030000
TZOFFSETFROM:+0200
TZOFFSETTO:+0100
END:STANDARD
BEGIN:DAYLIGHT
DTSTART:20260329T010000
TZOFFSETFROM:+0100
TZOFFSETTO:+0200
END:DAYLIGHT
END:VTIMEZONE
BEGIN:VTIMEZONE
TZID:UTC
BEGIN:STANDARD
DTSTART:20250727T120348
TZOFFSETFROM:+0000
TZOFFSETTO:+0000
END:STANDARD
END:VTIMEZONE
BEGIN:VEVENT
UID:69ea0aa41d665
DTSTAMP:20260423T120348Z
SUMMARY:KONKURADO: Neubau Mehrzweckhalle Stapfen Naters\, Einsendung der Au
 swahlunterlagen bis 20.06.2025 - 18.07.2025
DESCRIPTION:Link zum Verfahren: https://konkurado.ch/en/neubau-mehrzweckhal
 le-stapfen-naters
X-MICROSOFT-CDO-ALLDAYEVENT:TRUE
DTSTART;TZID=Europe/Zurich;VALUE=DATE:20250620
END:VEVENT
BEGIN:VEVENT
UID:69ea0aa41d6eb
DTSTAMP:20260423T120348Z
SUMMARY:KONKURADO: Neubau Mehrzweckhalle Stapfen Naters\, Einsendung der Au
 swahlunterlagen bis 20.06.2025 - 18.07.2025
DESCRIPTION:Link zum Verfahren: https://konkurado.ch/en/neubau-mehrzweckhal
 le-stapfen-naters
X-MICROSOFT-CDO-ALLDAYEVENT:TRUE
DTSTART;TZID=Europe/Zurich;VALUE=DATE:20250718
END:VEVENT
BEGIN:VEVENT
UID:69ea0aa41d727
DTSTAMP:20260423T120348Z
SUMMARY:KONKURADO: Neubau Mehrzweckhalle Stapfen Naters\, Fragen der Teilne
 hmer/innen 05.09.2025 - 05.09.2025
DESCRIPTION:Link zum Verfahren: https://konkurado.ch/en/neubau-mehrzweckhal
 le-stapfen-naters
X-MICROSOFT-CDO-ALLDAYEVENT:TRUE
DTSTART;TZID=Europe/Zurich;VALUE=DATE:20250905
END:VEVENT
BEGIN:VEVENT
UID:69ea0aa41d74d
DTSTAMP:20260423T120348Z
SUMMARY:KONKURADO: Neubau Mehrzweckhalle Stapfen Naters\, Fragen der Teilne
 hmer/innen 05.09.2025 - 05.09.2025
DESCRIPTION:Link zum Verfahren: https://konkurado.ch/en/neubau-mehrzweckhal
 le-stapfen-naters
X-MICROSOFT-CDO-ALLDAYEVENT:TRUE
DTSTART;TZID=Europe/Zurich;VALUE=DATE:20250905
END:VEVENT
BEGIN:VEVENT
UID:69ea0aa41d787
DTSTAMP:20260423T120348Z
SUMMARY:KONKURADO: Neubau Mehrzweckhalle Stapfen Naters\, Abgabe der Projek
 te 21.11.2025 - 21.11.2025
DESCRIPTION:Link zum Verfahren: https://konkurado.ch/en/neubau-mehrzweckhal
 le-stapfen-naters
X-MICROSOFT-CDO-ALLDAYEVENT:TRUE
DTSTART;TZID=Europe/Zurich;VALUE=DATE:20251121
END:VEVENT
BEGIN:VEVENT
UID:69ea0aa41d7b4
DTSTAMP:20260423T120348Z
SUMMARY:KONKURADO: Neubau Mehrzweckhalle Stapfen Naters\, Abgabe der Projek
 te 21.11.2025 - 21.11.2025
DESCRIPTION:Link zum Verfahren: https://konkurado.ch/en/neubau-mehrzweckhal
 le-stapfen-naters
X-MICROSOFT-CDO-ALLDAYEVENT:TRUE
DTSTART;TZID=Europe/Zurich;VALUE=DATE:20251121
END:VEVENT
BEGIN:VEVENT
UID:69ea0aa41d8e8
DTSTAMP:20260423T120348Z
SUMMARY:KONKURADO: Neubau Mehrzweckhalle Stapfen Naters\, Ergebnis des Ausw
 ahlverfahrens 21.08.2025 - 21.08.2025
DESCRIPTION:Link zum Verfahren: https://konkurado.ch/en/neubau-mehrzweckhal
 le-stapfen-naters
X-MICROSOFT-CDO-ALLDAYEVENT:TRUE
DTSTART;TZID=Europe/Zurich;VALUE=DATE:20250821
END:VEVENT
BEGIN:VEVENT
UID:69ea0aa41d912
DTSTAMP:20260423T120348Z
SUMMARY:KONKURADO: Neubau Mehrzweckhalle Stapfen Naters\, Ergebnis des Ausw
 ahlverfahrens 21.08.2025 - 21.08.2025
DESCRIPTION:Link zum Verfahren: https://konkurado.ch/en/neubau-mehrzweckhal
 le-stapfen-naters
X-MICROSOFT-CDO-ALLDAYEVENT:TRUE
DTSTART;TZID=Europe/Zurich;VALUE=DATE:20250821
END:VEVENT
BEGIN:VEVENT
UID:69ea0aa41d96f
DTSTAMP:20260423T120348Z
SUMMARY:KONKURADO: Neubau Mehrzweckhalle Stapfen Naters\, Antworten der Jur
 y ab 19.09.2025 - 19.09.2025
DESCRIPTION:Link zum Verfahren: https://konkurado.ch/en/neubau-mehrzweckhal
 le-stapfen-naters
X-MICROSOFT-CDO-ALLDAYEVENT:TRUE
DTSTART;TZID=Europe/Zurich;VALUE=DATE:20250919
END:VEVENT
BEGIN:VEVENT
UID:69ea0aa41d995
DTSTAMP:20260423T120348Z
SUMMARY:KONKURADO: Neubau Mehrzweckhalle Stapfen Naters\, Antworten der Jur
 y ab 19.09.2025 - 19.09.2025
DESCRIPTION:Link zum Verfahren: https://konkurado.ch/en/neubau-mehrzweckhal
 le-stapfen-naters
X-MICROSOFT-CDO-ALLDAYEVENT:TRUE
DTSTART;TZID=Europe/Zurich;VALUE=DATE:20250919
END:VEVENT
END:VCALENDAR