BEGIN:VCALENDAR
VERSION:2.0
PRODID:spatie/icalendar-generator
NAME:Neubau Doppelturnhalle Pestalozzi Rorschach
X-WR-CALNAME:Neubau Doppelturnhalle Pestalozzi Rorschach
BEGIN:VTIMEZONE
TZID:Europe/Zurich
BEGIN:STANDARD
DTSTART:20241027T030000
TZOFFSETFROM:+0200
TZOFFSETTO:+0100
END:STANDARD
BEGIN:DAYLIGHT
DTSTART:20250330T010000
TZOFFSETFROM:+0100
TZOFFSETTO:+0200
END:DAYLIGHT
BEGIN:STANDARD
DTSTART:20251026T030000
TZOFFSETFROM:+0200
TZOFFSETTO:+0100
END:STANDARD
END:VTIMEZONE
BEGIN:VTIMEZONE
TZID:UTC
BEGIN:STANDARD
DTSTART:20250727T120322
TZOFFSETFROM:+0000
TZOFFSETTO:+0000
END:STANDARD
END:VTIMEZONE
BEGIN:VEVENT
UID:69ea0a8a425ed
DTSTAMP:20260423T120322Z
SUMMARY:KONKURADO: Neubau Doppelturnhalle Pestalozzi Rorschach\, Anmeldung 
 und Einreichung Bewerbungsdossier 09.05.2025 - 03.06.2025
DESCRIPTION:Link zum Verfahren: https://konkurado.ch/en/neubau-doppelturnha
 lle-pestalozzi-rorschach
X-MICROSOFT-CDO-ALLDAYEVENT:TRUE
DTSTART;TZID=Europe/Zurich;VALUE=DATE:20250509
END:VEVENT
BEGIN:VEVENT
UID:69ea0a8a42692
DTSTAMP:20260423T120322Z
SUMMARY:KONKURADO: Neubau Doppelturnhalle Pestalozzi Rorschach\, Anmeldung 
 und Einreichung Bewerbungsdossier 09.05.2025 - 03.06.2025
DESCRIPTION:Link zum Verfahren: https://konkurado.ch/en/neubau-doppelturnha
 lle-pestalozzi-rorschach
X-MICROSOFT-CDO-ALLDAYEVENT:TRUE
DTSTART;TZID=Europe/Zurich;VALUE=DATE:20250603
END:VEVENT
BEGIN:VEVENT
UID:69ea0a8a426d1
DTSTAMP:20260423T120322Z
SUMMARY:KONKURADO: Neubau Doppelturnhalle Pestalozzi Rorschach\, Frist Einr
 eichung Fragen 30.06.2025 - 18.07.2025
DESCRIPTION:Link zum Verfahren: https://konkurado.ch/en/neubau-doppelturnha
 lle-pestalozzi-rorschach
X-MICROSOFT-CDO-ALLDAYEVENT:TRUE
DTSTART;TZID=Europe/Zurich;VALUE=DATE:20250630
END:VEVENT
BEGIN:VEVENT
UID:69ea0a8a426f8
DTSTAMP:20260423T120322Z
SUMMARY:KONKURADO: Neubau Doppelturnhalle Pestalozzi Rorschach\, Frist Einr
 eichung Fragen 30.06.2025 - 18.07.2025
DESCRIPTION:Link zum Verfahren: https://konkurado.ch/en/neubau-doppelturnha
 lle-pestalozzi-rorschach
X-MICROSOFT-CDO-ALLDAYEVENT:TRUE
DTSTART;TZID=Europe/Zurich;VALUE=DATE:20250718
END:VEVENT
BEGIN:VEVENT
UID:69ea0a8a42729
DTSTAMP:20260423T120322Z
SUMMARY:KONKURADO: Neubau Doppelturnhalle Pestalozzi Rorschach\, Abgabe der
  Analyse und der Honorarofferte 30.06.2025 - 05.09.2025
DESCRIPTION:Link zum Verfahren: https://konkurado.ch/en/neubau-doppelturnha
 lle-pestalozzi-rorschach
X-MICROSOFT-CDO-ALLDAYEVENT:TRUE
DTSTART;TZID=Europe/Zurich;VALUE=DATE:20250630
END:VEVENT
BEGIN:VEVENT
UID:69ea0a8a4274e
DTSTAMP:20260423T120322Z
SUMMARY:KONKURADO: Neubau Doppelturnhalle Pestalozzi Rorschach\, Abgabe der
  Analyse und der Honorarofferte 30.06.2025 - 05.09.2025
DESCRIPTION:Link zum Verfahren: https://konkurado.ch/en/neubau-doppelturnha
 lle-pestalozzi-rorschach
X-MICROSOFT-CDO-ALLDAYEVENT:TRUE
DTSTART;TZID=Europe/Zurich;VALUE=DATE:20250905
END:VEVENT
BEGIN:VEVENT
UID:69ea0a8a4288c
DTSTAMP:20260423T120322Z
SUMMARY:KONKURADO: Neubau Doppelturnhalle Pestalozzi Rorschach\, Fragenbean
 twortung ab 25.07.2025 - 05.09.2025
DESCRIPTION:Link zum Verfahren: https://konkurado.ch/en/neubau-doppelturnha
 lle-pestalozzi-rorschach
X-MICROSOFT-CDO-ALLDAYEVENT:TRUE
DTSTART;TZID=Europe/Zurich;VALUE=DATE:20250725
END:VEVENT
BEGIN:VEVENT
UID:69ea0a8a428b7
DTSTAMP:20260423T120322Z
SUMMARY:KONKURADO: Neubau Doppelturnhalle Pestalozzi Rorschach\, Fragenbean
 twortung ab 25.07.2025 - 05.09.2025
DESCRIPTION:Link zum Verfahren: https://konkurado.ch/en/neubau-doppelturnha
 lle-pestalozzi-rorschach
X-MICROSOFT-CDO-ALLDAYEVENT:TRUE
DTSTART;TZID=Europe/Zurich;VALUE=DATE:20250905
END:VEVENT
BEGIN:VEVENT
UID:69ea0a8a42916
DTSTAMP:20260423T120322Z
SUMMARY:KONKURADO: Neubau Doppelturnhalle Pestalozzi Rorschach\, Begehung 0
 4.08.2025 - 04.08.2025
DESCRIPTION:Link zum Verfahren: https://konkurado.ch/en/neubau-doppelturnha
 lle-pestalozzi-rorschach
X-MICROSOFT-CDO-ALLDAYEVENT:TRUE
DTSTART;TZID=Europe/Zurich;VALUE=DATE:20250804
END:VEVENT
BEGIN:VEVENT
UID:69ea0a8a4293d
DTSTAMP:20260423T120322Z
SUMMARY:KONKURADO: Neubau Doppelturnhalle Pestalozzi Rorschach\, Begehung 0
 4.08.2025 - 04.08.2025
DESCRIPTION:Link zum Verfahren: https://konkurado.ch/en/neubau-doppelturnha
 lle-pestalozzi-rorschach
X-MICROSOFT-CDO-ALLDAYEVENT:TRUE
DTSTART;TZID=Europe/Zurich;VALUE=DATE:20250804
END:VEVENT
END:VCALENDAR