BEGIN:VCALENDAR
VERSION:2.0
PRODID:spatie/icalendar-generator
NAME:N08.64 MP-080145 - Brünig Gnoll - Kurve Wacht - Örtliche Bauleitung 
 Bau (Phasen 41\, 52 und 53) (ID 11856)
X-WR-CALNAME:N08.64 MP-080145 - Brünig Gnoll - Kurve Wacht - Örtliche Bau
 leitung Bau (Phasen 41\, 52 und 53) (ID 11856)
BEGIN:VTIMEZONE
TZID:Europe/Zurich
BEGIN:STANDARD
DTSTART:20251026T030000
TZOFFSETFROM:+0200
TZOFFSETTO:+0100
END:STANDARD
BEGIN:DAYLIGHT
DTSTART:20260329T010000
TZOFFSETFROM:+0100
TZOFFSETTO:+0200
END:DAYLIGHT
BEGIN:STANDARD
DTSTART:20261025T030000
TZOFFSETFROM:+0200
TZOFFSETTO:+0100
END:STANDARD
END:VTIMEZONE
BEGIN:VTIMEZONE
TZID:UTC
BEGIN:STANDARD
DTSTART:20250727T101838
TZOFFSETFROM:+0000
TZOFFSETTO:+0000
END:STANDARD
END:VTIMEZONE
BEGIN:VEVENT
UID:69e9f1febd112
DTSTAMP:20260423T101838Z
SUMMARY:KONKURADO: N08.64 MP-080145 - Brünig Gnoll - Kurve Wacht - Örtlic
 he Bauleitung Bau (Phasen 41\, 52 und 53) (ID 11856)\, Fragerunde\, einrei
 chen bis 04.05.2026 - 04.05.2026
DESCRIPTION:Link zum Verfahren: https://konkurado.ch/en/n0864-mp-080145-bru
 nig-gnoll-kurve-wacht-ortliche-bauleitung-bau-phasen-41-52-und-53-id-11856
X-MICROSOFT-CDO-ALLDAYEVENT:TRUE
DTSTART;TZID=Europe/Zurich;VALUE=DATE:20260504
END:VEVENT
BEGIN:VEVENT
UID:69e9f1febd245
DTSTAMP:20260423T101838Z
SUMMARY:KONKURADO: N08.64 MP-080145 - Brünig Gnoll - Kurve Wacht - Örtlic
 he Bauleitung Bau (Phasen 41\, 52 und 53) (ID 11856)\, Fragerunde\, einrei
 chen bis 04.05.2026 - 04.05.2026
DESCRIPTION:Link zum Verfahren: https://konkurado.ch/en/n0864-mp-080145-bru
 nig-gnoll-kurve-wacht-ortliche-bauleitung-bau-phasen-41-52-und-53-id-11856
X-MICROSOFT-CDO-ALLDAYEVENT:TRUE
DTSTART;TZID=Europe/Zurich;VALUE=DATE:20260504
END:VEVENT
BEGIN:VEVENT
UID:69e9f1febd2d9
DTSTAMP:20260423T101838Z
SUMMARY:KONKURADO: N08.64 MP-080145 - Brünig Gnoll - Kurve Wacht - Örtlic
 he Bauleitung Bau (Phasen 41\, 52 und 53) (ID 11856)\, Einreichen von Ange
 boten bis 05.06.2026 - 05.06.2026
DESCRIPTION:Link zum Verfahren: https://konkurado.ch/en/n0864-mp-080145-bru
 nig-gnoll-kurve-wacht-ortliche-bauleitung-bau-phasen-41-52-und-53-id-11856
X-MICROSOFT-CDO-ALLDAYEVENT:TRUE
DTSTART;TZID=Europe/Zurich;VALUE=DATE:20260605
END:VEVENT
BEGIN:VEVENT
UID:69e9f1febd305
DTSTAMP:20260423T101838Z
SUMMARY:KONKURADO: N08.64 MP-080145 - Brünig Gnoll - Kurve Wacht - Örtlic
 he Bauleitung Bau (Phasen 41\, 52 und 53) (ID 11856)\, Einreichen von Ange
 boten bis 05.06.2026 - 05.06.2026
DESCRIPTION:Link zum Verfahren: https://konkurado.ch/en/n0864-mp-080145-bru
 nig-gnoll-kurve-wacht-ortliche-bauleitung-bau-phasen-41-52-und-53-id-11856
X-MICROSOFT-CDO-ALLDAYEVENT:TRUE
DTSTART;TZID=Europe/Zurich;VALUE=DATE:20260605
END:VEVENT
BEGIN:VEVENT
UID:69e9f1febd362
DTSTAMP:20260423T101838Z
SUMMARY:KONKURADO: N08.64 MP-080145 - Brünig Gnoll - Kurve Wacht - Örtlic
 he Bauleitung Bau (Phasen 41\, 52 und 53) (ID 11856)\, Offertöffnung 10.0
 6.2026 - 10.06.2026
DESCRIPTION:Link zum Verfahren: https://konkurado.ch/en/n0864-mp-080145-bru
 nig-gnoll-kurve-wacht-ortliche-bauleitung-bau-phasen-41-52-und-53-id-11856
X-MICROSOFT-CDO-ALLDAYEVENT:TRUE
DTSTART;TZID=Europe/Zurich;VALUE=DATE:20260610
END:VEVENT
BEGIN:VEVENT
UID:69e9f1febd38c
DTSTAMP:20260423T101838Z
SUMMARY:KONKURADO: N08.64 MP-080145 - Brünig Gnoll - Kurve Wacht - Örtlic
 he Bauleitung Bau (Phasen 41\, 52 und 53) (ID 11856)\, Offertöffnung 10.0
 6.2026 - 10.06.2026
DESCRIPTION:Link zum Verfahren: https://konkurado.ch/en/n0864-mp-080145-bru
 nig-gnoll-kurve-wacht-ortliche-bauleitung-bau-phasen-41-52-und-53-id-11856
X-MICROSOFT-CDO-ALLDAYEVENT:TRUE
DTSTART;TZID=Europe/Zurich;VALUE=DATE:20260610
END:VEVENT
END:VCALENDAR