BEGIN:VCALENDAR
VERSION:2.0
PRODID:spatie/icalendar-generator
NAME:N01.12 MP-190067 - BSA Réf signal. surv. Bardonnex-Coppet – APR et 
 DLT trafic phases 41 à 53 (ID 11673)
X-WR-CALNAME:N01.12 MP-190067 - BSA Réf signal. surv. Bardonnex-Coppet –
  APR et DLT trafic phases 41 à 53 (ID 11673)
BEGIN:VTIMEZONE
TZID:Europe/Zurich
BEGIN:STANDARD
DTSTART:20251026T030000
TZOFFSETFROM:+0200
TZOFFSETTO:+0100
END:STANDARD
BEGIN:DAYLIGHT
DTSTART:20260329T010000
TZOFFSETFROM:+0100
TZOFFSETTO:+0200
END:DAYLIGHT
BEGIN:STANDARD
DTSTART:20261025T030000
TZOFFSETFROM:+0200
TZOFFSETTO:+0100
END:STANDARD
END:VTIMEZONE
BEGIN:VTIMEZONE
TZID:UTC
BEGIN:STANDARD
DTSTART:20250727T101806
TZOFFSETFROM:+0000
TZOFFSETTO:+0000
END:STANDARD
END:VTIMEZONE
BEGIN:VEVENT
UID:69e9f1dea0551
DTSTAMP:20260423T101806Z
SUMMARY:KONKURADO: N01.12 MP-190067 - BSA Réf signal. surv. Bardonnex-Copp
 et – APR et DLT trafic phases 41 à 53 (ID 11673)\, Session de questions
 \, soumettre avant 24.04.2026 - 24.04.2026
DESCRIPTION:Link zum Verfahren: https://konkurado.ch/en/n0112-mp-190067-bsa
 -ref-signal-surv-bardonnex-coppet-apr-et-dlt-trafic-phases-41-a-53-id-1167
 3
X-MICROSOFT-CDO-ALLDAYEVENT:TRUE
DTSTART;TZID=Europe/Zurich;VALUE=DATE:20260424
END:VEVENT
BEGIN:VEVENT
UID:69e9f1dea05bc
DTSTAMP:20260423T101806Z
SUMMARY:KONKURADO: N01.12 MP-190067 - BSA Réf signal. surv. Bardonnex-Copp
 et – APR et DLT trafic phases 41 à 53 (ID 11673)\, Session de questions
 \, soumettre avant 24.04.2026 - 24.04.2026
DESCRIPTION:Link zum Verfahren: https://konkurado.ch/en/n0112-mp-190067-bsa
 -ref-signal-surv-bardonnex-coppet-apr-et-dlt-trafic-phases-41-a-53-id-1167
 3
X-MICROSOFT-CDO-ALLDAYEVENT:TRUE
DTSTART;TZID=Europe/Zurich;VALUE=DATE:20260424
END:VEVENT
BEGIN:VEVENT
UID:69e9f1dea062e
DTSTAMP:20260423T101806Z
SUMMARY:KONKURADO: N01.12 MP-190067 - BSA Réf signal. surv. Bardonnex-Copp
 et – APR et DLT trafic phases 41 à 53 (ID 11673)\, Soumission des offre
 s 21.05.2026 - 21.05.2026
DESCRIPTION:Link zum Verfahren: https://konkurado.ch/en/n0112-mp-190067-bsa
 -ref-signal-surv-bardonnex-coppet-apr-et-dlt-trafic-phases-41-a-53-id-1167
 3
X-MICROSOFT-CDO-ALLDAYEVENT:TRUE
DTSTART;TZID=Europe/Zurich;VALUE=DATE:20260521
END:VEVENT
BEGIN:VEVENT
UID:69e9f1dea0656
DTSTAMP:20260423T101806Z
SUMMARY:KONKURADO: N01.12 MP-190067 - BSA Réf signal. surv. Bardonnex-Copp
 et – APR et DLT trafic phases 41 à 53 (ID 11673)\, Soumission des offre
 s 21.05.2026 - 21.05.2026
DESCRIPTION:Link zum Verfahren: https://konkurado.ch/en/n0112-mp-190067-bsa
 -ref-signal-surv-bardonnex-coppet-apr-et-dlt-trafic-phases-41-a-53-id-1167
 3
X-MICROSOFT-CDO-ALLDAYEVENT:TRUE
DTSTART;TZID=Europe/Zurich;VALUE=DATE:20260521
END:VEVENT
BEGIN:VEVENT
UID:69e9f1dea06ae
DTSTAMP:20260423T101806Z
SUMMARY:KONKURADO: N01.12 MP-190067 - BSA Réf signal. surv. Bardonnex-Copp
 et – APR et DLT trafic phases 41 à 53 (ID 11673)\, Ouverture des offres
  27.05.2026 - 27.05.2026
DESCRIPTION:Link zum Verfahren: https://konkurado.ch/en/n0112-mp-190067-bsa
 -ref-signal-surv-bardonnex-coppet-apr-et-dlt-trafic-phases-41-a-53-id-1167
 3
X-MICROSOFT-CDO-ALLDAYEVENT:TRUE
DTSTART;TZID=Europe/Zurich;VALUE=DATE:20260527
END:VEVENT
BEGIN:VEVENT
UID:69e9f1dea06d7
DTSTAMP:20260423T101806Z
SUMMARY:KONKURADO: N01.12 MP-190067 - BSA Réf signal. surv. Bardonnex-Copp
 et – APR et DLT trafic phases 41 à 53 (ID 11673)\, Ouverture des offres
  27.05.2026 - 27.05.2026
DESCRIPTION:Link zum Verfahren: https://konkurado.ch/en/n0112-mp-190067-bsa
 -ref-signal-surv-bardonnex-coppet-apr-et-dlt-trafic-phases-41-a-53-id-1167
 3
X-MICROSOFT-CDO-ALLDAYEVENT:TRUE
DTSTART;TZID=Europe/Zurich;VALUE=DATE:20260527
END:VEVENT
BEGIN:VEVENT
UID:69e9f1dea072c
DTSTAMP:20260423T101806Z
SUMMARY:KONKURADO: N01.12 MP-190067 - BSA Réf signal. surv. Bardonnex-Copp
 et – APR et DLT trafic phases 41 à 53 (ID 11673)\, Disponibilité des d
 ocuments d’appel d’offres 10.04.2026 - 21.05.2026
DESCRIPTION:Link zum Verfahren: https://konkurado.ch/en/n0112-mp-190067-bsa
 -ref-signal-surv-bardonnex-coppet-apr-et-dlt-trafic-phases-41-a-53-id-1167
 3
X-MICROSOFT-CDO-ALLDAYEVENT:TRUE
DTSTART;TZID=Europe/Zurich;VALUE=DATE:20260410
END:VEVENT
BEGIN:VEVENT
UID:69e9f1dea0753
DTSTAMP:20260423T101806Z
SUMMARY:KONKURADO: N01.12 MP-190067 - BSA Réf signal. surv. Bardonnex-Copp
 et – APR et DLT trafic phases 41 à 53 (ID 11673)\, Disponibilité des d
 ocuments d’appel d’offres 10.04.2026 - 21.05.2026
DESCRIPTION:Link zum Verfahren: https://konkurado.ch/en/n0112-mp-190067-bsa
 -ref-signal-surv-bardonnex-coppet-apr-et-dlt-trafic-phases-41-a-53-id-1167
 3
X-MICROSOFT-CDO-ALLDAYEVENT:TRUE
DTSTART;TZID=Europe/Zurich;VALUE=DATE:20260521
END:VEVENT
END:VCALENDAR