BEGIN:VCALENDAR
VERSION:2.0
PRODID:spatie/icalendar-generator
NAME:N01.12 MP-080159 - Upn.Bernex-Ferney – APR+DLT BSA Tranchée couvert
 e de Chèvres (ID 11791)
X-WR-CALNAME:N01.12 MP-080159 - Upn.Bernex-Ferney – APR+DLT BSA Tranchée
  couverte de Chèvres (ID 11791)
BEGIN:VTIMEZONE
TZID:Europe/Zurich
BEGIN:STANDARD
DTSTART:20251026T030000
TZOFFSETFROM:+0200
TZOFFSETTO:+0100
END:STANDARD
BEGIN:DAYLIGHT
DTSTART:20260329T010000
TZOFFSETFROM:+0100
TZOFFSETTO:+0200
END:DAYLIGHT
BEGIN:STANDARD
DTSTART:20261025T030000
TZOFFSETFROM:+0200
TZOFFSETTO:+0100
END:STANDARD
END:VTIMEZONE
BEGIN:VTIMEZONE
TZID:UTC
BEGIN:STANDARD
DTSTART:20250727T101806
TZOFFSETFROM:+0000
TZOFFSETTO:+0000
END:STANDARD
END:VTIMEZONE
BEGIN:VEVENT
UID:69e9f1de9a507
DTSTAMP:20260423T101806Z
SUMMARY:KONKURADO: N01.12 MP-080159 - Upn.Bernex-Ferney – APR+DLT BSA Tra
 nchée couverte de Chèvres (ID 11791)\, Soumission de questions jusqu’a
 u 30.04.2026 - 30.04.2026
DESCRIPTION:Link zum Verfahren: https://konkurado.ch/en/n0112-mp-080159-upn
 bernex-ferney-aprdlt-bsa-tranchee-couverte-de-chevres-id-11791
X-MICROSOFT-CDO-ALLDAYEVENT:TRUE
DTSTART;TZID=Europe/Zurich;VALUE=DATE:20260430
END:VEVENT
BEGIN:VEVENT
UID:69e9f1de9a595
DTSTAMP:20260423T101806Z
SUMMARY:KONKURADO: N01.12 MP-080159 - Upn.Bernex-Ferney – APR+DLT BSA Tra
 nchée couverte de Chèvres (ID 11791)\, Soumission de questions jusqu’a
 u 30.04.2026 - 30.04.2026
DESCRIPTION:Link zum Verfahren: https://konkurado.ch/en/n0112-mp-080159-upn
 bernex-ferney-aprdlt-bsa-tranchee-couverte-de-chevres-id-11791
X-MICROSOFT-CDO-ALLDAYEVENT:TRUE
DTSTART;TZID=Europe/Zurich;VALUE=DATE:20260430
END:VEVENT
BEGIN:VEVENT
UID:69e9f1de9a62e
DTSTAMP:20260423T101806Z
SUMMARY:KONKURADO: N01.12 MP-080159 - Upn.Bernex-Ferney – APR+DLT BSA Tra
 nchée couverte de Chèvres (ID 11791)\, Soumission des offres jusqu’au 
 28.05.2026 - 28.05.2026
DESCRIPTION:Link zum Verfahren: https://konkurado.ch/en/n0112-mp-080159-upn
 bernex-ferney-aprdlt-bsa-tranchee-couverte-de-chevres-id-11791
X-MICROSOFT-CDO-ALLDAYEVENT:TRUE
DTSTART;TZID=Europe/Zurich;VALUE=DATE:20260528
END:VEVENT
BEGIN:VEVENT
UID:69e9f1de9a658
DTSTAMP:20260423T101806Z
SUMMARY:KONKURADO: N01.12 MP-080159 - Upn.Bernex-Ferney – APR+DLT BSA Tra
 nchée couverte de Chèvres (ID 11791)\, Soumission des offres jusqu’au 
 28.05.2026 - 28.05.2026
DESCRIPTION:Link zum Verfahren: https://konkurado.ch/en/n0112-mp-080159-upn
 bernex-ferney-aprdlt-bsa-tranchee-couverte-de-chevres-id-11791
X-MICROSOFT-CDO-ALLDAYEVENT:TRUE
DTSTART;TZID=Europe/Zurich;VALUE=DATE:20260528
END:VEVENT
BEGIN:VEVENT
UID:69e9f1de9a6b3
DTSTAMP:20260423T101806Z
SUMMARY:KONKURADO: N01.12 MP-080159 - Upn.Bernex-Ferney – APR+DLT BSA Tra
 nchée couverte de Chèvres (ID 11791)\, Ouverture des offres 01.06.2026 -
  01.06.2026
DESCRIPTION:Link zum Verfahren: https://konkurado.ch/en/n0112-mp-080159-upn
 bernex-ferney-aprdlt-bsa-tranchee-couverte-de-chevres-id-11791
X-MICROSOFT-CDO-ALLDAYEVENT:TRUE
DTSTART;TZID=Europe/Zurich;VALUE=DATE:20260601
END:VEVENT
BEGIN:VEVENT
UID:69e9f1de9a6dc
DTSTAMP:20260423T101806Z
SUMMARY:KONKURADO: N01.12 MP-080159 - Upn.Bernex-Ferney – APR+DLT BSA Tra
 nchée couverte de Chèvres (ID 11791)\, Ouverture des offres 01.06.2026 -
  01.06.2026
DESCRIPTION:Link zum Verfahren: https://konkurado.ch/en/n0112-mp-080159-upn
 bernex-ferney-aprdlt-bsa-tranchee-couverte-de-chevres-id-11791
X-MICROSOFT-CDO-ALLDAYEVENT:TRUE
DTSTART;TZID=Europe/Zurich;VALUE=DATE:20260601
END:VEVENT
BEGIN:VEVENT
UID:69e9f1de9a732
DTSTAMP:20260423T101806Z
SUMMARY:KONKURADO: N01.12 MP-080159 - Upn.Bernex-Ferney – APR+DLT BSA Tra
 nchée couverte de Chèvres (ID 11791)\, Disponibilité des documents d’
 appel d’offres 08.04.2026 - 28.05.2026
DESCRIPTION:Link zum Verfahren: https://konkurado.ch/en/n0112-mp-080159-upn
 bernex-ferney-aprdlt-bsa-tranchee-couverte-de-chevres-id-11791
X-MICROSOFT-CDO-ALLDAYEVENT:TRUE
DTSTART;TZID=Europe/Zurich;VALUE=DATE:20260408
END:VEVENT
BEGIN:VEVENT
UID:69e9f1de9a759
DTSTAMP:20260423T101806Z
SUMMARY:KONKURADO: N01.12 MP-080159 - Upn.Bernex-Ferney – APR+DLT BSA Tra
 nchée couverte de Chèvres (ID 11791)\, Disponibilité des documents d’
 appel d’offres 08.04.2026 - 28.05.2026
DESCRIPTION:Link zum Verfahren: https://konkurado.ch/en/n0112-mp-080159-upn
 bernex-ferney-aprdlt-bsa-tranchee-couverte-de-chevres-id-11791
X-MICROSOFT-CDO-ALLDAYEVENT:TRUE
DTSTART;TZID=Europe/Zurich;VALUE=DATE:20260528
END:VEVENT
END:VCALENDAR