BEGIN:VCALENDAR
VERSION:2.0
PRODID:spatie/icalendar-generator
NAME:N00.24 MP-230010 - BSA UeLs UT IX – APR et DLT phases 32 à 53 (ID 1
 1596)
X-WR-CALNAME:N00.24 MP-230010 - BSA UeLs UT IX – APR et DLT phases 32 à 
 53 (ID 11596)
BEGIN:VTIMEZONE
TZID:Europe/Zurich
BEGIN:STANDARD
DTSTART:20251026T030000
TZOFFSETFROM:+0200
TZOFFSETTO:+0100
END:STANDARD
BEGIN:DAYLIGHT
DTSTART:20260329T010000
TZOFFSETFROM:+0100
TZOFFSETTO:+0200
END:DAYLIGHT
BEGIN:STANDARD
DTSTART:20261025T030000
TZOFFSETFROM:+0200
TZOFFSETTO:+0100
END:STANDARD
END:VTIMEZONE
BEGIN:VTIMEZONE
TZID:UTC
BEGIN:STANDARD
DTSTART:20250727T101711
TZOFFSETFROM:+0000
TZOFFSETTO:+0000
END:STANDARD
END:VTIMEZONE
BEGIN:VEVENT
UID:69e9f1a77d6c8
DTSTAMP:20260423T101711Z
SUMMARY:KONKURADO: N00.24 MP-230010 - BSA UeLs UT IX – APR et DLT phases 
 32 à 53 (ID 11596)\, Session de questions\, soumettre avant 20.04.2026 - 
 20.04.2026
DESCRIPTION:Link zum Verfahren: https://konkurado.ch/en/n0024-mp-230010-bsa
 -uels-ut-ix-apr-et-dlt-phases-32-a-53-id-11596
X-MICROSOFT-CDO-ALLDAYEVENT:TRUE
DTSTART;TZID=Europe/Zurich;VALUE=DATE:20260420
END:VEVENT
BEGIN:VEVENT
UID:69e9f1a77d735
DTSTAMP:20260423T101711Z
SUMMARY:KONKURADO: N00.24 MP-230010 - BSA UeLs UT IX – APR et DLT phases 
 32 à 53 (ID 11596)\, Session de questions\, soumettre avant 20.04.2026 - 
 20.04.2026
DESCRIPTION:Link zum Verfahren: https://konkurado.ch/en/n0024-mp-230010-bsa
 -uels-ut-ix-apr-et-dlt-phases-32-a-53-id-11596
X-MICROSOFT-CDO-ALLDAYEVENT:TRUE
DTSTART;TZID=Europe/Zurich;VALUE=DATE:20260420
END:VEVENT
BEGIN:VEVENT
UID:69e9f1a77d7a5
DTSTAMP:20260423T101711Z
SUMMARY:KONKURADO: N00.24 MP-230010 - BSA UeLs UT IX – APR et DLT phases 
 32 à 53 (ID 11596)\, Soumission des offres jusqu’au 21.05.2026 - 21.05.
 2026
DESCRIPTION:Link zum Verfahren: https://konkurado.ch/en/n0024-mp-230010-bsa
 -uels-ut-ix-apr-et-dlt-phases-32-a-53-id-11596
X-MICROSOFT-CDO-ALLDAYEVENT:TRUE
DTSTART;TZID=Europe/Zurich;VALUE=DATE:20260521
END:VEVENT
BEGIN:VEVENT
UID:69e9f1a77d7cd
DTSTAMP:20260423T101711Z
SUMMARY:KONKURADO: N00.24 MP-230010 - BSA UeLs UT IX – APR et DLT phases 
 32 à 53 (ID 11596)\, Soumission des offres jusqu’au 21.05.2026 - 21.05.
 2026
DESCRIPTION:Link zum Verfahren: https://konkurado.ch/en/n0024-mp-230010-bsa
 -uels-ut-ix-apr-et-dlt-phases-32-a-53-id-11596
X-MICROSOFT-CDO-ALLDAYEVENT:TRUE
DTSTART;TZID=Europe/Zurich;VALUE=DATE:20260521
END:VEVENT
BEGIN:VEVENT
UID:69e9f1a77d822
DTSTAMP:20260423T101711Z
SUMMARY:KONKURADO: N00.24 MP-230010 - BSA UeLs UT IX – APR et DLT phases 
 32 à 53 (ID 11596)\, Ouverture des offres 26.05.2026 - 26.05.2026
DESCRIPTION:Link zum Verfahren: https://konkurado.ch/en/n0024-mp-230010-bsa
 -uels-ut-ix-apr-et-dlt-phases-32-a-53-id-11596
X-MICROSOFT-CDO-ALLDAYEVENT:TRUE
DTSTART;TZID=Europe/Zurich;VALUE=DATE:20260526
END:VEVENT
BEGIN:VEVENT
UID:69e9f1a77d84b
DTSTAMP:20260423T101711Z
SUMMARY:KONKURADO: N00.24 MP-230010 - BSA UeLs UT IX – APR et DLT phases 
 32 à 53 (ID 11596)\, Ouverture des offres 26.05.2026 - 26.05.2026
DESCRIPTION:Link zum Verfahren: https://konkurado.ch/en/n0024-mp-230010-bsa
 -uels-ut-ix-apr-et-dlt-phases-32-a-53-id-11596
X-MICROSOFT-CDO-ALLDAYEVENT:TRUE
DTSTART;TZID=Europe/Zurich;VALUE=DATE:20260526
END:VEVENT
BEGIN:VEVENT
UID:69e9f1a77d8a0
DTSTAMP:20260423T101711Z
SUMMARY:KONKURADO: N00.24 MP-230010 - BSA UeLs UT IX – APR et DLT phases 
 32 à 53 (ID 11596)\, Disponibilité des documents d’appel d’offres 30
 .03.2026 - 21.05.2026
DESCRIPTION:Link zum Verfahren: https://konkurado.ch/en/n0024-mp-230010-bsa
 -uels-ut-ix-apr-et-dlt-phases-32-a-53-id-11596
X-MICROSOFT-CDO-ALLDAYEVENT:TRUE
DTSTART;TZID=Europe/Zurich;VALUE=DATE:20260330
END:VEVENT
BEGIN:VEVENT
UID:69e9f1a77d8c6
DTSTAMP:20260423T101711Z
SUMMARY:KONKURADO: N00.24 MP-230010 - BSA UeLs UT IX – APR et DLT phases 
 32 à 53 (ID 11596)\, Disponibilité des documents d’appel d’offres 30
 .03.2026 - 21.05.2026
DESCRIPTION:Link zum Verfahren: https://konkurado.ch/en/n0024-mp-230010-bsa
 -uels-ut-ix-apr-et-dlt-phases-32-a-53-id-11596
X-MICROSOFT-CDO-ALLDAYEVENT:TRUE
DTSTART;TZID=Europe/Zurich;VALUE=DATE:20260521
END:VEVENT
END:VCALENDAR