BEGIN:VCALENDAR
VERSION:2.0
PRODID:spatie/icalendar-generator
NAME:MP-210067\, UKS\, PV Bau
X-WR-CALNAME:MP-210067\, UKS\, PV Bau
BEGIN:VTIMEZONE
TZID:Europe/Zurich
BEGIN:STANDARD
DTSTART:20251026T030000
TZOFFSETFROM:+0200
TZOFFSETTO:+0100
END:STANDARD
BEGIN:DAYLIGHT
DTSTART:20260329T010000
TZOFFSETFROM:+0100
TZOFFSETTO:+0200
END:DAYLIGHT
BEGIN:STANDARD
DTSTART:20261025T030000
TZOFFSETFROM:+0200
TZOFFSETTO:+0100
END:STANDARD
END:VTIMEZONE
BEGIN:VTIMEZONE
TZID:UTC
BEGIN:STANDARD
DTSTART:20250727T101616
TZOFFSETFROM:+0000
TZOFFSETTO:+0000
END:STANDARD
END:VTIMEZONE
BEGIN:VEVENT
UID:69e9f1702d26e
DTSTAMP:20260423T101616Z
SUMMARY:KONKURADO: MP-210067\, UKS\, PV Bau\, Fragerunde\, einreichen bis 3
 0.04.2026 - 30.04.2026
DESCRIPTION:Link zum Verfahren: https://konkurado.ch/en/mp-210067-uks-pv-ba
 u
X-MICROSOFT-CDO-ALLDAYEVENT:TRUE
DTSTART;TZID=Europe/Zurich;VALUE=DATE:20260430
END:VEVENT
BEGIN:VEVENT
UID:69e9f1702d332
DTSTAMP:20260423T101616Z
SUMMARY:KONKURADO: MP-210067\, UKS\, PV Bau\, Fragerunde\, einreichen bis 3
 0.04.2026 - 30.04.2026
DESCRIPTION:Link zum Verfahren: https://konkurado.ch/en/mp-210067-uks-pv-ba
 u
X-MICROSOFT-CDO-ALLDAYEVENT:TRUE
DTSTART;TZID=Europe/Zurich;VALUE=DATE:20260430
END:VEVENT
BEGIN:VEVENT
UID:69e9f1702d3ea
DTSTAMP:20260423T101616Z
SUMMARY:KONKURADO: MP-210067\, UKS\, PV Bau\, Einreichen des Angebots 01.06
 .2026 - 01.06.2026
DESCRIPTION:Link zum Verfahren: https://konkurado.ch/en/mp-210067-uks-pv-ba
 u
X-MICROSOFT-CDO-ALLDAYEVENT:TRUE
DTSTART;TZID=Europe/Zurich;VALUE=DATE:20260601
END:VEVENT
BEGIN:VEVENT
UID:69e9f1702d430
DTSTAMP:20260423T101616Z
SUMMARY:KONKURADO: MP-210067\, UKS\, PV Bau\, Einreichen des Angebots 01.06
 .2026 - 01.06.2026
DESCRIPTION:Link zum Verfahren: https://konkurado.ch/en/mp-210067-uks-pv-ba
 u
X-MICROSOFT-CDO-ALLDAYEVENT:TRUE
DTSTART;TZID=Europe/Zurich;VALUE=DATE:20260601
END:VEVENT
BEGIN:VEVENT
UID:69e9f1702d4df
DTSTAMP:20260423T101616Z
SUMMARY:KONKURADO: MP-210067\, UKS\, PV Bau\, Offertöffnung 03.06.2026 - 0
 3.06.2026
DESCRIPTION:Link zum Verfahren: https://konkurado.ch/en/mp-210067-uks-pv-ba
 u
X-MICROSOFT-CDO-ALLDAYEVENT:TRUE
DTSTART;TZID=Europe/Zurich;VALUE=DATE:20260603
END:VEVENT
BEGIN:VEVENT
UID:69e9f1702d521
DTSTAMP:20260423T101616Z
SUMMARY:KONKURADO: MP-210067\, UKS\, PV Bau\, Offertöffnung 03.06.2026 - 0
 3.06.2026
DESCRIPTION:Link zum Verfahren: https://konkurado.ch/en/mp-210067-uks-pv-ba
 u
X-MICROSOFT-CDO-ALLDAYEVENT:TRUE
DTSTART;TZID=Europe/Zurich;VALUE=DATE:20260603
END:VEVENT
END:VCALENDAR