BEGIN:VCALENDAR
VERSION:2.0
PRODID:spatie/icalendar-generator
NAME:Modernisierung Sportzentrum Gstaad
X-WR-CALNAME:Modernisierung Sportzentrum Gstaad
BEGIN:VTIMEZONE
TZID:Europe/Zurich
BEGIN:STANDARD
DTSTART:20241027T030000
TZOFFSETFROM:+0200
TZOFFSETTO:+0100
END:STANDARD
BEGIN:DAYLIGHT
DTSTART:20250330T010000
TZOFFSETFROM:+0100
TZOFFSETTO:+0200
END:DAYLIGHT
BEGIN:STANDARD
DTSTART:20251026T030000
TZOFFSETFROM:+0200
TZOFFSETTO:+0100
END:STANDARD
END:VTIMEZONE
BEGIN:VTIMEZONE
TZID:UTC
BEGIN:STANDARD
DTSTART:20250727T120112
TZOFFSETFROM:+0000
TZOFFSETTO:+0000
END:STANDARD
END:VTIMEZONE
BEGIN:VEVENT
UID:69ea0a0871c40
DTSTAMP:20260423T120112Z
SUMMARY:KONKURADO: Modernisierung Sportzentrum Gstaad\, Eingabefrist der Be
 werbungen um Teilnahme bis 11.01.2025 - 21.02.2025
DESCRIPTION:Link zum Verfahren: https://konkurado.ch/en/modernisierung-spor
 tzentrum-gstaad
X-MICROSOFT-CDO-ALLDAYEVENT:TRUE
DTSTART;TZID=Europe/Zurich;VALUE=DATE:20250111
END:VEVENT
BEGIN:VEVENT
UID:69ea0a0871d14
DTSTAMP:20260423T120112Z
SUMMARY:KONKURADO: Modernisierung Sportzentrum Gstaad\, Eingabefrist der Be
 werbungen um Teilnahme bis 11.01.2025 - 21.02.2025
DESCRIPTION:Link zum Verfahren: https://konkurado.ch/en/modernisierung-spor
 tzentrum-gstaad
X-MICROSOFT-CDO-ALLDAYEVENT:TRUE
DTSTART;TZID=Europe/Zurich;VALUE=DATE:20250221
END:VEVENT
BEGIN:VEVENT
UID:69ea0a0871f48
DTSTAMP:20260423T120112Z
SUMMARY:KONKURADO: Modernisierung Sportzentrum Gstaad\, Fragebeantwortung b
 is 21.01.2025 - 29.01.2025
DESCRIPTION:Link zum Verfahren: https://konkurado.ch/en/modernisierung-spor
 tzentrum-gstaad
X-MICROSOFT-CDO-ALLDAYEVENT:TRUE
DTSTART;TZID=Europe/Zurich;VALUE=DATE:20250121
END:VEVENT
BEGIN:VEVENT
UID:69ea0a0871f9d
DTSTAMP:20260423T120112Z
SUMMARY:KONKURADO: Modernisierung Sportzentrum Gstaad\, Fragebeantwortung b
 is 21.01.2025 - 29.01.2025
DESCRIPTION:Link zum Verfahren: https://konkurado.ch/en/modernisierung-spor
 tzentrum-gstaad
X-MICROSOFT-CDO-ALLDAYEVENT:TRUE
DTSTART;TZID=Europe/Zurich;VALUE=DATE:20250129
END:VEVENT
BEGIN:VEVENT
UID:69ea0a0872008
DTSTAMP:20260423T120112Z
SUMMARY:KONKURADO: Modernisierung Sportzentrum Gstaad\, Fragestellung 11.01
 .2025 - 20.01.2025
DESCRIPTION:Link zum Verfahren: https://konkurado.ch/en/modernisierung-spor
 tzentrum-gstaad
X-MICROSOFT-CDO-ALLDAYEVENT:TRUE
DTSTART;TZID=Europe/Zurich;VALUE=DATE:20250111
END:VEVENT
BEGIN:VEVENT
UID:69ea0a0872050
DTSTAMP:20260423T120112Z
SUMMARY:KONKURADO: Modernisierung Sportzentrum Gstaad\, Fragestellung 11.01
 .2025 - 20.01.2025
DESCRIPTION:Link zum Verfahren: https://konkurado.ch/en/modernisierung-spor
 tzentrum-gstaad
X-MICROSOFT-CDO-ALLDAYEVENT:TRUE
DTSTART;TZID=Europe/Zurich;VALUE=DATE:20250120
END:VEVENT
BEGIN:VEVENT
UID:69ea0a08720b2
DTSTAMP:20260423T120112Z
SUMMARY:KONKURADO: Modernisierung Sportzentrum Gstaad\, Angebotseingabe bis
  11.04.2025 - 06.06.2025
DESCRIPTION:Link zum Verfahren: https://konkurado.ch/en/modernisierung-spor
 tzentrum-gstaad
X-MICROSOFT-CDO-ALLDAYEVENT:TRUE
DTSTART;TZID=Europe/Zurich;VALUE=DATE:20250411
END:VEVENT
BEGIN:VEVENT
UID:69ea0a08720f9
DTSTAMP:20260423T120112Z
SUMMARY:KONKURADO: Modernisierung Sportzentrum Gstaad\, Angebotseingabe bis
  11.04.2025 - 06.06.2025
DESCRIPTION:Link zum Verfahren: https://konkurado.ch/en/modernisierung-spor
 tzentrum-gstaad
X-MICROSOFT-CDO-ALLDAYEVENT:TRUE
DTSTART;TZID=Europe/Zurich;VALUE=DATE:20250606
END:VEVENT
BEGIN:VEVENT
UID:69ea0a087216d
DTSTAMP:20260423T120112Z
SUMMARY:KONKURADO: Modernisierung Sportzentrum Gstaad\, Bewertung der Teiln
 ahmeanträge durch das Bewertungsgremium am 22.02.2025 - 03.03.2025
DESCRIPTION:Link zum Verfahren: https://konkurado.ch/en/modernisierung-spor
 tzentrum-gstaad
X-MICROSOFT-CDO-ALLDAYEVENT:TRUE
DTSTART;TZID=Europe/Zurich;VALUE=DATE:20250222
END:VEVENT
BEGIN:VEVENT
UID:69ea0a08721ac
DTSTAMP:20260423T120112Z
SUMMARY:KONKURADO: Modernisierung Sportzentrum Gstaad\, Bewertung der Teiln
 ahmeanträge durch das Bewertungsgremium am 22.02.2025 - 03.03.2025
DESCRIPTION:Link zum Verfahren: https://konkurado.ch/en/modernisierung-spor
 tzentrum-gstaad
X-MICROSOFT-CDO-ALLDAYEVENT:TRUE
DTSTART;TZID=Europe/Zurich;VALUE=DATE:20250303
END:VEVENT
BEGIN:VEVENT
UID:69ea0a087225b
DTSTAMP:20260423T120112Z
SUMMARY:KONKURADO: Modernisierung Sportzentrum Gstaad\, Mitteilung des Resu
 ltats der Präqualifikation (Verfügung) durch Bauherrschaft bis 04.03.202
 5 - 21.03.2025
DESCRIPTION:Link zum Verfahren: https://konkurado.ch/en/modernisierung-spor
 tzentrum-gstaad
X-MICROSOFT-CDO-ALLDAYEVENT:TRUE
DTSTART;TZID=Europe/Zurich;VALUE=DATE:20250304
END:VEVENT
BEGIN:VEVENT
UID:69ea0a087229f
DTSTAMP:20260423T120112Z
SUMMARY:KONKURADO: Modernisierung Sportzentrum Gstaad\, Mitteilung des Resu
 ltats der Präqualifikation (Verfügung) durch Bauherrschaft bis 04.03.202
 5 - 21.03.2025
DESCRIPTION:Link zum Verfahren: https://konkurado.ch/en/modernisierung-spor
 tzentrum-gstaad
X-MICROSOFT-CDO-ALLDAYEVENT:TRUE
DTSTART;TZID=Europe/Zurich;VALUE=DATE:20250321
END:VEVENT
BEGIN:VEVENT
UID:69ea0a087234d
DTSTAMP:20260423T120112Z
SUMMARY:KONKURADO: Modernisierung Sportzentrum Gstaad\, Beschwerdefrist geg
 en Verfügung von 20 Tagen 21.03.2025 - 10.04.2025
DESCRIPTION:Link zum Verfahren: https://konkurado.ch/en/modernisierung-spor
 tzentrum-gstaad
X-MICROSOFT-CDO-ALLDAYEVENT:TRUE
DTSTART;TZID=Europe/Zurich;VALUE=DATE:20250321
END:VEVENT
BEGIN:VEVENT
UID:69ea0a0872391
DTSTAMP:20260423T120112Z
SUMMARY:KONKURADO: Modernisierung Sportzentrum Gstaad\, Beschwerdefrist geg
 en Verfügung von 20 Tagen 21.03.2025 - 10.04.2025
DESCRIPTION:Link zum Verfahren: https://konkurado.ch/en/modernisierung-spor
 tzentrum-gstaad
X-MICROSOFT-CDO-ALLDAYEVENT:TRUE
DTSTART;TZID=Europe/Zurich;VALUE=DATE:20250410
END:VEVENT
BEGIN:VEVENT
UID:69ea0a0872436
DTSTAMP:20260423T120112Z
SUMMARY:KONKURADO: Modernisierung Sportzentrum Gstaad\, Verfügbarkeit weit
 erer Dokumente 11.04.2025 - 11.04.2025
DESCRIPTION:Link zum Verfahren: https://konkurado.ch/en/modernisierung-spor
 tzentrum-gstaad
X-MICROSOFT-CDO-ALLDAYEVENT:TRUE
DTSTART;TZID=Europe/Zurich;VALUE=DATE:20250411
END:VEVENT
BEGIN:VEVENT
UID:69ea0a0872470
DTSTAMP:20260423T120112Z
SUMMARY:KONKURADO: Modernisierung Sportzentrum Gstaad\, Verfügbarkeit weit
 erer Dokumente 11.04.2025 - 11.04.2025
DESCRIPTION:Link zum Verfahren: https://konkurado.ch/en/modernisierung-spor
 tzentrum-gstaad
X-MICROSOFT-CDO-ALLDAYEVENT:TRUE
DTSTART;TZID=Europe/Zurich;VALUE=DATE:20250411
END:VEVENT
BEGIN:VEVENT
UID:69ea0a08724c2
DTSTAMP:20260423T120112Z
SUMMARY:KONKURADO: Modernisierung Sportzentrum Gstaad\, Fragestellung 11.04
 .2025 - 21.04.2025
DESCRIPTION:Link zum Verfahren: https://konkurado.ch/en/modernisierung-spor
 tzentrum-gstaad
X-MICROSOFT-CDO-ALLDAYEVENT:TRUE
DTSTART;TZID=Europe/Zurich;VALUE=DATE:20250411
END:VEVENT
BEGIN:VEVENT
UID:69ea0a08724ff
DTSTAMP:20260423T120112Z
SUMMARY:KONKURADO: Modernisierung Sportzentrum Gstaad\, Fragestellung 11.04
 .2025 - 21.04.2025
DESCRIPTION:Link zum Verfahren: https://konkurado.ch/en/modernisierung-spor
 tzentrum-gstaad
X-MICROSOFT-CDO-ALLDAYEVENT:TRUE
DTSTART;TZID=Europe/Zurich;VALUE=DATE:20250421
END:VEVENT
BEGIN:VEVENT
UID:69ea0a08725c1
DTSTAMP:20260423T120112Z
SUMMARY:KONKURADO: Modernisierung Sportzentrum Gstaad\, Fragebeantwortung 2
 2.04.2025 - 02.05.2025
DESCRIPTION:Link zum Verfahren: https://konkurado.ch/en/modernisierung-spor
 tzentrum-gstaad
X-MICROSOFT-CDO-ALLDAYEVENT:TRUE
DTSTART;TZID=Europe/Zurich;VALUE=DATE:20250422
END:VEVENT
BEGIN:VEVENT
UID:69ea0a08725fd
DTSTAMP:20260423T120112Z
SUMMARY:KONKURADO: Modernisierung Sportzentrum Gstaad\, Fragebeantwortung 2
 2.04.2025 - 02.05.2025
DESCRIPTION:Link zum Verfahren: https://konkurado.ch/en/modernisierung-spor
 tzentrum-gstaad
X-MICROSOFT-CDO-ALLDAYEVENT:TRUE
DTSTART;TZID=Europe/Zurich;VALUE=DATE:20250502
END:VEVENT
BEGIN:VEVENT
UID:69ea0a08726a6
DTSTAMP:20260423T120112Z
SUMMARY:KONKURADO: Modernisierung Sportzentrum Gstaad\, Datum der Angebots
 öffnung 16.06.2025 - 16.06.2025
DESCRIPTION:Link zum Verfahren: https://konkurado.ch/en/modernisierung-spor
 tzentrum-gstaad
X-MICROSOFT-CDO-ALLDAYEVENT:TRUE
DTSTART;TZID=Europe/Zurich;VALUE=DATE:20250616
END:VEVENT
BEGIN:VEVENT
UID:69ea0a08726e3
DTSTAMP:20260423T120112Z
SUMMARY:KONKURADO: Modernisierung Sportzentrum Gstaad\, Datum der Angebots
 öffnung 16.06.2025 - 16.06.2025
DESCRIPTION:Link zum Verfahren: https://konkurado.ch/en/modernisierung-spor
 tzentrum-gstaad
X-MICROSOFT-CDO-ALLDAYEVENT:TRUE
DTSTART;TZID=Europe/Zurich;VALUE=DATE:20250616
END:VEVENT
BEGIN:VEVENT
UID:69ea0a0872774
DTSTAMP:20260423T120112Z
SUMMARY:KONKURADO: Modernisierung Sportzentrum Gstaad\, Präsentationen der
  Angebote 27.06.2025 - 27.06.2025
DESCRIPTION:Link zum Verfahren: https://konkurado.ch/en/modernisierung-spor
 tzentrum-gstaad
X-MICROSOFT-CDO-ALLDAYEVENT:TRUE
DTSTART;TZID=Europe/Zurich;VALUE=DATE:20250627
END:VEVENT
BEGIN:VEVENT
UID:69ea0a08727ab
DTSTAMP:20260423T120112Z
SUMMARY:KONKURADO: Modernisierung Sportzentrum Gstaad\, Präsentationen der
  Angebote 27.06.2025 - 27.06.2025
DESCRIPTION:Link zum Verfahren: https://konkurado.ch/en/modernisierung-spor
 tzentrum-gstaad
X-MICROSOFT-CDO-ALLDAYEVENT:TRUE
DTSTART;TZID=Europe/Zurich;VALUE=DATE:20250627
END:VEVENT
BEGIN:VEVENT
UID:69ea0a0872806
DTSTAMP:20260423T120112Z
SUMMARY:KONKURADO: Modernisierung Sportzentrum Gstaad\, Bewertung 27.06.202
 5 - 27.06.2025
DESCRIPTION:Link zum Verfahren: https://konkurado.ch/en/modernisierung-spor
 tzentrum-gstaad
X-MICROSOFT-CDO-ALLDAYEVENT:TRUE
DTSTART;TZID=Europe/Zurich;VALUE=DATE:20250627
END:VEVENT
BEGIN:VEVENT
UID:69ea0a0872839
DTSTAMP:20260423T120112Z
SUMMARY:KONKURADO: Modernisierung Sportzentrum Gstaad\, Bewertung 27.06.202
 5 - 27.06.2025
DESCRIPTION:Link zum Verfahren: https://konkurado.ch/en/modernisierung-spor
 tzentrum-gstaad
X-MICROSOFT-CDO-ALLDAYEVENT:TRUE
DTSTART;TZID=Europe/Zurich;VALUE=DATE:20250627
END:VEVENT
BEGIN:VEVENT
UID:69ea0a08728ef
DTSTAMP:20260423T120112Z
SUMMARY:KONKURADO: Modernisierung Sportzentrum Gstaad\, Zustellung Zuschlag
 sverfügung (beschwerdefähig) durch Bauherrschaft bis 28.06.2025 - 30.06.
 2025
DESCRIPTION:Link zum Verfahren: https://konkurado.ch/en/modernisierung-spor
 tzentrum-gstaad
X-MICROSOFT-CDO-ALLDAYEVENT:TRUE
DTSTART;TZID=Europe/Zurich;VALUE=DATE:20250628
END:VEVENT
BEGIN:VEVENT
UID:69ea0a0872927
DTSTAMP:20260423T120112Z
SUMMARY:KONKURADO: Modernisierung Sportzentrum Gstaad\, Zustellung Zuschlag
 sverfügung (beschwerdefähig) durch Bauherrschaft bis 28.06.2025 - 30.06.
 2025
DESCRIPTION:Link zum Verfahren: https://konkurado.ch/en/modernisierung-spor
 tzentrum-gstaad
X-MICROSOFT-CDO-ALLDAYEVENT:TRUE
DTSTART;TZID=Europe/Zurich;VALUE=DATE:20250630
END:VEVENT
BEGIN:VEVENT
UID:69ea0a08729a4
DTSTAMP:20260423T120112Z
SUMMARY:KONKURADO: Modernisierung Sportzentrum Gstaad\, Publikation des Res
 ultats 30.06.2025 - 30.06.2025
DESCRIPTION:Link zum Verfahren: https://konkurado.ch/en/modernisierung-spor
 tzentrum-gstaad
X-MICROSOFT-CDO-ALLDAYEVENT:TRUE
DTSTART;TZID=Europe/Zurich;VALUE=DATE:20250630
END:VEVENT
BEGIN:VEVENT
UID:69ea0a08729da
DTSTAMP:20260423T120112Z
SUMMARY:KONKURADO: Modernisierung Sportzentrum Gstaad\, Publikation des Res
 ultats 30.06.2025 - 30.06.2025
DESCRIPTION:Link zum Verfahren: https://konkurado.ch/en/modernisierung-spor
 tzentrum-gstaad
X-MICROSOFT-CDO-ALLDAYEVENT:TRUE
DTSTART;TZID=Europe/Zurich;VALUE=DATE:20250630
END:VEVENT
END:VCALENDAR