BEGIN:VCALENDAR
VERSION:2.0
PRODID:spatie/icalendar-generator
NAME:Mandataire BIM Management - Contrat-cadre
X-WR-CALNAME:Mandataire BIM Management - Contrat-cadre
BEGIN:VTIMEZONE
TZID:Europe/Zurich
BEGIN:STANDARD
DTSTART:20251026T030000
TZOFFSETFROM:+0200
TZOFFSETTO:+0100
END:STANDARD
BEGIN:DAYLIGHT
DTSTART:20260329T010000
TZOFFSETFROM:+0100
TZOFFSETTO:+0200
END:DAYLIGHT
BEGIN:STANDARD
DTSTART:20261025T030000
TZOFFSETFROM:+0200
TZOFFSETTO:+0100
END:STANDARD
END:VTIMEZONE
BEGIN:VTIMEZONE
TZID:UTC
BEGIN:STANDARD
DTSTART:20250727T101633
TZOFFSETFROM:+0000
TZOFFSETTO:+0000
END:STANDARD
END:VTIMEZONE
BEGIN:VEVENT
UID:69e9f181c7e9d
DTSTAMP:20260423T101633Z
SUMMARY:KONKURADO: Mandataire BIM Management - Contrat-cadre\, Session de q
 uestions\, soumettre avant 08.05.2026 - 08.05.2026
DESCRIPTION:Link zum Verfahren: https://konkurado.ch/en/mandataire-bim-mana
 gement-contrat-cadre
X-MICROSOFT-CDO-ALLDAYEVENT:TRUE
DTSTART;TZID=Europe/Zurich;VALUE=DATE:20260508
END:VEVENT
BEGIN:VEVENT
UID:69e9f181c7f6e
DTSTAMP:20260423T101633Z
SUMMARY:KONKURADO: Mandataire BIM Management - Contrat-cadre\, Session de q
 uestions\, soumettre avant 08.05.2026 - 08.05.2026
DESCRIPTION:Link zum Verfahren: https://konkurado.ch/en/mandataire-bim-mana
 gement-contrat-cadre
X-MICROSOFT-CDO-ALLDAYEVENT:TRUE
DTSTART;TZID=Europe/Zurich;VALUE=DATE:20260508
END:VEVENT
BEGIN:VEVENT
UID:69e9f181c8034
DTSTAMP:20260423T101633Z
SUMMARY:KONKURADO: Mandataire BIM Management - Contrat-cadre\, Soumission d
 e la demande de participation 04.06.2026 - 04.06.2026
DESCRIPTION:Link zum Verfahren: https://konkurado.ch/en/mandataire-bim-mana
 gement-contrat-cadre
X-MICROSOFT-CDO-ALLDAYEVENT:TRUE
DTSTART;TZID=Europe/Zurich;VALUE=DATE:20260604
END:VEVENT
BEGIN:VEVENT
UID:69e9f181c8080
DTSTAMP:20260423T101633Z
SUMMARY:KONKURADO: Mandataire BIM Management - Contrat-cadre\, Soumission d
 e la demande de participation 04.06.2026 - 04.06.2026
DESCRIPTION:Link zum Verfahren: https://konkurado.ch/en/mandataire-bim-mana
 gement-contrat-cadre
X-MICROSOFT-CDO-ALLDAYEVENT:TRUE
DTSTART;TZID=Europe/Zurich;VALUE=DATE:20260604
END:VEVENT
END:VCALENDAR