BEGIN:VCALENDAR
VERSION:2.0
PRODID:spatie/icalendar-generator
NAME:Maison de la Culture et de la Musique_MCM
X-WR-CALNAME:Maison de la Culture et de la Musique_MCM
BEGIN:VTIMEZONE
TZID:Europe/Zurich
BEGIN:DAYLIGHT
DTSTART:20240331T010000
TZOFFSETFROM:+0100
TZOFFSETTO:+0200
END:DAYLIGHT
BEGIN:STANDARD
DTSTART:20241027T030000
TZOFFSETFROM:+0200
TZOFFSETTO:+0100
END:STANDARD
BEGIN:DAYLIGHT
DTSTART:20250330T010000
TZOFFSETFROM:+0100
TZOFFSETTO:+0200
END:DAYLIGHT
BEGIN:STANDARD
DTSTART:20251026T030000
TZOFFSETFROM:+0200
TZOFFSETTO:+0100
END:STANDARD
END:VTIMEZONE
BEGIN:VTIMEZONE
TZID:UTC
BEGIN:STANDARD
DTSTART:20250727T120348
TZOFFSETFROM:+0000
TZOFFSETTO:+0000
END:STANDARD
END:VTIMEZONE
BEGIN:VEVENT
UID:69ea0aa405900
DTSTAMP:20260423T120348Z
SUMMARY:KONKURADO: Maison de la Culture et de la Musique_MCM\, Einreichung 
 der Teilnahmeanträge bis 19.12.2024 - 20.01.2025
DESCRIPTION:Link zum Verfahren: https://konkurado.ch/en/maison-de-la-cultur
 e-et-de-la-musique%20mcm
X-MICROSOFT-CDO-ALLDAYEVENT:TRUE
DTSTART;TZID=Europe/Zurich;VALUE=DATE:20241219
END:VEVENT
BEGIN:VEVENT
UID:69ea0aa405984
DTSTAMP:20260423T120348Z
SUMMARY:KONKURADO: Maison de la Culture et de la Musique_MCM\, Einreichung 
 der Teilnahmeanträge bis 19.12.2024 - 20.01.2025
DESCRIPTION:Link zum Verfahren: https://konkurado.ch/en/maison-de-la-cultur
 e-et-de-la-musique%20mcm
X-MICROSOFT-CDO-ALLDAYEVENT:TRUE
DTSTART;TZID=Europe/Zurich;VALUE=DATE:20250120
END:VEVENT
BEGIN:VEVENT
UID:69ea0aa4059cd
DTSTAMP:20260423T120348Z
SUMMARY:KONKURADO: Maison de la Culture et de la Musique_MCM\, Einreichung 
 von Fragen bis 27.01.2025 - 10.02.2025
DESCRIPTION:Link zum Verfahren: https://konkurado.ch/en/maison-de-la-cultur
 e-et-de-la-musique%20mcm
X-MICROSOFT-CDO-ALLDAYEVENT:TRUE
DTSTART;TZID=Europe/Zurich;VALUE=DATE:20250127
END:VEVENT
BEGIN:VEVENT
UID:69ea0aa4059f4
DTSTAMP:20260423T120348Z
SUMMARY:KONKURADO: Maison de la Culture et de la Musique_MCM\, Einreichung 
 von Fragen bis 27.01.2025 - 10.02.2025
DESCRIPTION:Link zum Verfahren: https://konkurado.ch/en/maison-de-la-cultur
 e-et-de-la-musique%20mcm
X-MICROSOFT-CDO-ALLDAYEVENT:TRUE
DTSTART;TZID=Europe/Zurich;VALUE=DATE:20250210
END:VEVENT
BEGIN:VEVENT
UID:69ea0aa405a26
DTSTAMP:20260423T120348Z
SUMMARY:KONKURADO: Maison de la Culture et de la Musique_MCM\, Abgabe der W
 ettbewerbsarbeiten 27.01.2025 - 28.04.2025
DESCRIPTION:Link zum Verfahren: https://konkurado.ch/en/maison-de-la-cultur
 e-et-de-la-musique%20mcm
X-MICROSOFT-CDO-ALLDAYEVENT:TRUE
DTSTART;TZID=Europe/Zurich;VALUE=DATE:20250127
END:VEVENT
BEGIN:VEVENT
UID:69ea0aa405a4a
DTSTAMP:20260423T120348Z
SUMMARY:KONKURADO: Maison de la Culture et de la Musique_MCM\, Abgabe der W
 ettbewerbsarbeiten 27.01.2025 - 28.04.2025
DESCRIPTION:Link zum Verfahren: https://konkurado.ch/en/maison-de-la-cultur
 e-et-de-la-musique%20mcm
X-MICROSOFT-CDO-ALLDAYEVENT:TRUE
DTSTART;TZID=Europe/Zurich;VALUE=DATE:20250428
END:VEVENT
BEGIN:VEVENT
UID:69ea0aa405a91
DTSTAMP:20260423T120348Z
SUMMARY:KONKURADO: Maison de la Culture et de la Musique_MCM\, Jurysitzung 
 zur Auswahl von 10 Kandidaten 20.01.2025 - 20.02.2025
DESCRIPTION:Link zum Verfahren: https://konkurado.ch/en/maison-de-la-cultur
 e-et-de-la-musique%20mcm
X-MICROSOFT-CDO-ALLDAYEVENT:TRUE
DTSTART;TZID=Europe/Zurich;VALUE=DATE:20250120
END:VEVENT
BEGIN:VEVENT
UID:69ea0aa405ab6
DTSTAMP:20260423T120348Z
SUMMARY:KONKURADO: Maison de la Culture et de la Musique_MCM\, Jurysitzung 
 zur Auswahl von 10 Kandidaten 20.01.2025 - 20.02.2025
DESCRIPTION:Link zum Verfahren: https://konkurado.ch/en/maison-de-la-cultur
 e-et-de-la-musique%20mcm
X-MICROSOFT-CDO-ALLDAYEVENT:TRUE
DTSTART;TZID=Europe/Zurich;VALUE=DATE:20250220
END:VEVENT
BEGIN:VEVENT
UID:69ea0aa405bd9
DTSTAMP:20260423T120348Z
SUMMARY:KONKURADO: Maison de la Culture et de la Musique_MCM\, Ausgabe Wett
 bewerbsunterlagen 27.01.2025 - 27.01.2025
DESCRIPTION:Link zum Verfahren: https://konkurado.ch/en/maison-de-la-cultur
 e-et-de-la-musique%20mcm
X-MICROSOFT-CDO-ALLDAYEVENT:TRUE
DTSTART;TZID=Europe/Zurich;VALUE=DATE:20250127
END:VEVENT
BEGIN:VEVENT
UID:69ea0aa405c02
DTSTAMP:20260423T120348Z
SUMMARY:KONKURADO: Maison de la Culture et de la Musique_MCM\, Ausgabe Wett
 bewerbsunterlagen 27.01.2025 - 27.01.2025
DESCRIPTION:Link zum Verfahren: https://konkurado.ch/en/maison-de-la-cultur
 e-et-de-la-musique%20mcm
X-MICROSOFT-CDO-ALLDAYEVENT:TRUE
DTSTART;TZID=Europe/Zurich;VALUE=DATE:20250127
END:VEVENT
BEGIN:VEVENT
UID:69ea0aa405c5e
DTSTAMP:20260423T120348Z
SUMMARY:KONKURADO: Maison de la Culture et de la Musique_MCM\, Modellausgab
 e 24.02.2025 - 24.02.2025
DESCRIPTION:Link zum Verfahren: https://konkurado.ch/en/maison-de-la-cultur
 e-et-de-la-musique%20mcm
X-MICROSOFT-CDO-ALLDAYEVENT:TRUE
DTSTART;TZID=Europe/Zurich;VALUE=DATE:20250224
END:VEVENT
BEGIN:VEVENT
UID:69ea0aa405c85
DTSTAMP:20260423T120348Z
SUMMARY:KONKURADO: Maison de la Culture et de la Musique_MCM\, Modellausgab
 e 24.02.2025 - 24.02.2025
DESCRIPTION:Link zum Verfahren: https://konkurado.ch/en/maison-de-la-cultur
 e-et-de-la-musique%20mcm
X-MICROSOFT-CDO-ALLDAYEVENT:TRUE
DTSTART;TZID=Europe/Zurich;VALUE=DATE:20250224
END:VEVENT
BEGIN:VEVENT
UID:69ea0aa405cda
DTSTAMP:20260423T120348Z
SUMMARY:KONKURADO: Maison de la Culture et de la Musique_MCM\, Beantwortung
  der Fragen bis 14.02.2025 - 14.02.2025
DESCRIPTION:Link zum Verfahren: https://konkurado.ch/en/maison-de-la-cultur
 e-et-de-la-musique%20mcm
X-MICROSOFT-CDO-ALLDAYEVENT:TRUE
DTSTART;TZID=Europe/Zurich;VALUE=DATE:20250214
END:VEVENT
BEGIN:VEVENT
UID:69ea0aa405d00
DTSTAMP:20260423T120348Z
SUMMARY:KONKURADO: Maison de la Culture et de la Musique_MCM\, Beantwortung
  der Fragen bis 14.02.2025 - 14.02.2025
DESCRIPTION:Link zum Verfahren: https://konkurado.ch/en/maison-de-la-cultur
 e-et-de-la-musique%20mcm
X-MICROSOFT-CDO-ALLDAYEVENT:TRUE
DTSTART;TZID=Europe/Zurich;VALUE=DATE:20250214
END:VEVENT
BEGIN:VEVENT
UID:69ea0aa405d51
DTSTAMP:20260423T120348Z
SUMMARY:KONKURADO: Maison de la Culture et de la Musique_MCM\, Vorprüfung 
 duch Expertinnen und Experten 29.04.2025 - 29.04.2025
DESCRIPTION:Link zum Verfahren: https://konkurado.ch/en/maison-de-la-cultur
 e-et-de-la-musique%20mcm
X-MICROSOFT-CDO-ALLDAYEVENT:TRUE
DTSTART;TZID=Europe/Zurich;VALUE=DATE:20250429
END:VEVENT
BEGIN:VEVENT
UID:69ea0aa405d76
DTSTAMP:20260423T120348Z
SUMMARY:KONKURADO: Maison de la Culture et de la Musique_MCM\, Vorprüfung 
 duch Expertinnen und Experten 29.04.2025 - 29.04.2025
DESCRIPTION:Link zum Verfahren: https://konkurado.ch/en/maison-de-la-cultur
 e-et-de-la-musique%20mcm
X-MICROSOFT-CDO-ALLDAYEVENT:TRUE
DTSTART;TZID=Europe/Zurich;VALUE=DATE:20250429
END:VEVENT
BEGIN:VEVENT
UID:69ea0aa405dec
DTSTAMP:20260423T120348Z
SUMMARY:KONKURADO: Maison de la Culture et de la Musique_MCM\, Modellabgabe
  24.02.2025 - 12.05.2025
DESCRIPTION:Link zum Verfahren: https://konkurado.ch/en/maison-de-la-cultur
 e-et-de-la-musique%20mcm
X-MICROSOFT-CDO-ALLDAYEVENT:TRUE
DTSTART;TZID=Europe/Zurich;VALUE=DATE:20250224
END:VEVENT
BEGIN:VEVENT
UID:69ea0aa405e15
DTSTAMP:20260423T120348Z
SUMMARY:KONKURADO: Maison de la Culture et de la Musique_MCM\, Modellabgabe
  24.02.2025 - 12.05.2025
DESCRIPTION:Link zum Verfahren: https://konkurado.ch/en/maison-de-la-cultur
 e-et-de-la-musique%20mcm
X-MICROSOFT-CDO-ALLDAYEVENT:TRUE
DTSTART;TZID=Europe/Zurich;VALUE=DATE:20250512
END:VEVENT
BEGIN:VEVENT
UID:69ea0aa405e72
DTSTAMP:20260423T120348Z
SUMMARY:KONKURADO: Maison de la Culture et de la Musique_MCM\, 1. Jurierung
 stag 14.05.2025 - 14.05.2025
DESCRIPTION:Link zum Verfahren: https://konkurado.ch/en/maison-de-la-cultur
 e-et-de-la-musique%20mcm
X-MICROSOFT-CDO-ALLDAYEVENT:TRUE
DTSTART;TZID=Europe/Zurich;VALUE=DATE:20250514
END:VEVENT
BEGIN:VEVENT
UID:69ea0aa405e99
DTSTAMP:20260423T120348Z
SUMMARY:KONKURADO: Maison de la Culture et de la Musique_MCM\, 1. Jurierung
 stag 14.05.2025 - 14.05.2025
DESCRIPTION:Link zum Verfahren: https://konkurado.ch/en/maison-de-la-cultur
 e-et-de-la-musique%20mcm
X-MICROSOFT-CDO-ALLDAYEVENT:TRUE
DTSTART;TZID=Europe/Zurich;VALUE=DATE:20250514
END:VEVENT
BEGIN:VEVENT
UID:69ea0aa405ed1
DTSTAMP:20260423T120348Z
SUMMARY:KONKURADO: Maison de la Culture et de la Musique_MCM\, 2. Jurierung
 stag 28.05.2025 - 28.05.2025
DESCRIPTION:Link zum Verfahren: https://konkurado.ch/en/maison-de-la-cultur
 e-et-de-la-musique%20mcm
X-MICROSOFT-CDO-ALLDAYEVENT:TRUE
DTSTART;TZID=Europe/Zurich;VALUE=DATE:20250528
END:VEVENT
BEGIN:VEVENT
UID:69ea0aa405ef5
DTSTAMP:20260423T120348Z
SUMMARY:KONKURADO: Maison de la Culture et de la Musique_MCM\, 2. Jurierung
 stag 28.05.2025 - 28.05.2025
DESCRIPTION:Link zum Verfahren: https://konkurado.ch/en/maison-de-la-cultur
 e-et-de-la-musique%20mcm
X-MICROSOFT-CDO-ALLDAYEVENT:TRUE
DTSTART;TZID=Europe/Zurich;VALUE=DATE:20250528
END:VEVENT
END:VCALENDAR