BEGIN:VCALENDAR
VERSION:2.0
PRODID:spatie/icalendar-generator
NAME:Lycée Blaise Cendrars\, Assainissement du bâtiment
X-WR-CALNAME:Lycée Blaise Cendrars\, Assainissement du bâtiment
BEGIN:VTIMEZONE
TZID:Europe/Zurich
BEGIN:STANDARD
DTSTART:20241027T030000
TZOFFSETFROM:+0200
TZOFFSETTO:+0100
END:STANDARD
BEGIN:DAYLIGHT
DTSTART:20250330T010000
TZOFFSETFROM:+0100
TZOFFSETTO:+0200
END:DAYLIGHT
BEGIN:STANDARD
DTSTART:20251026T030000
TZOFFSETFROM:+0200
TZOFFSETTO:+0100
END:STANDARD
BEGIN:DAYLIGHT
DTSTART:20260329T010000
TZOFFSETFROM:+0100
TZOFFSETTO:+0200
END:DAYLIGHT
END:VTIMEZONE
BEGIN:VTIMEZONE
TZID:UTC
BEGIN:STANDARD
DTSTART:20250727T115413
TZOFFSETFROM:+0000
TZOFFSETTO:+0000
END:STANDARD
END:VTIMEZONE
BEGIN:VEVENT
UID:69ea0865d5c73
DTSTAMP:20260423T115413Z
SUMMARY:KONKURADO: Lycée Blaise Cendrars\, Assainissement du bâtiment\, E
 inreichung der Selektionsdossiers 07.05.2025 - 16.06.2025
DESCRIPTION:Link zum Verfahren: https://konkurado.ch/en/lycee-blaise-cendra
 rs-assainissement-du-batiment
X-MICROSOFT-CDO-ALLDAYEVENT:TRUE
DTSTART;TZID=Europe/Zurich;VALUE=DATE:20250507
END:VEVENT
BEGIN:VEVENT
UID:69ea0865d5d42
DTSTAMP:20260423T115413Z
SUMMARY:KONKURADO: Lycée Blaise Cendrars\, Assainissement du bâtiment\, E
 inreichung der Selektionsdossiers 07.05.2025 - 16.06.2025
DESCRIPTION:Link zum Verfahren: https://konkurado.ch/en/lycee-blaise-cendra
 rs-assainissement-du-batiment
X-MICROSOFT-CDO-ALLDAYEVENT:TRUE
DTSTART;TZID=Europe/Zurich;VALUE=DATE:20250616
END:VEVENT
BEGIN:VEVENT
UID:69ea0865d5da4
DTSTAMP:20260423T115413Z
SUMMARY:KONKURADO: Lycée Blaise Cendrars\, Assainissement du bâtiment\, E
 inreichung von Fragen bis 20.08.2025 - 01.09.2025
DESCRIPTION:Link zum Verfahren: https://konkurado.ch/en/lycee-blaise-cendra
 rs-assainissement-du-batiment
X-MICROSOFT-CDO-ALLDAYEVENT:TRUE
DTSTART;TZID=Europe/Zurich;VALUE=DATE:20250820
END:VEVENT
BEGIN:VEVENT
UID:69ea0865d5de4
DTSTAMP:20260423T115413Z
SUMMARY:KONKURADO: Lycée Blaise Cendrars\, Assainissement du bâtiment\, E
 inreichung von Fragen bis 20.08.2025 - 01.09.2025
DESCRIPTION:Link zum Verfahren: https://konkurado.ch/en/lycee-blaise-cendra
 rs-assainissement-du-batiment
X-MICROSOFT-CDO-ALLDAYEVENT:TRUE
DTSTART;TZID=Europe/Zurich;VALUE=DATE:20250901
END:VEVENT
BEGIN:VEVENT
UID:69ea0865d5e35
DTSTAMP:20260423T115413Z
SUMMARY:KONKURADO: Lycée Blaise Cendrars\, Assainissement du bâtiment\, E
 inreichung der Dossiers zur Zwischenbesprechung 20.08.2025 - 03.11.2025
DESCRIPTION:Link zum Verfahren: https://konkurado.ch/en/lycee-blaise-cendra
 rs-assainissement-du-batiment
X-MICROSOFT-CDO-ALLDAYEVENT:TRUE
DTSTART;TZID=Europe/Zurich;VALUE=DATE:20250820
END:VEVENT
BEGIN:VEVENT
UID:69ea0865d5e71
DTSTAMP:20260423T115413Z
SUMMARY:KONKURADO: Lycée Blaise Cendrars\, Assainissement du bâtiment\, E
 inreichung der Dossiers zur Zwischenbesprechung 20.08.2025 - 03.11.2025
DESCRIPTION:Link zum Verfahren: https://konkurado.ch/en/lycee-blaise-cendra
 rs-assainissement-du-batiment
X-MICROSOFT-CDO-ALLDAYEVENT:TRUE
DTSTART;TZID=Europe/Zurich;VALUE=DATE:20251103
END:VEVENT
BEGIN:VEVENT
UID:69ea0865d5ee8
DTSTAMP:20260423T115413Z
SUMMARY:KONKURADO: Lycée Blaise Cendrars\, Assainissement du bâtiment\, S
 chlussbesprechung 04.02.2026 - 04.02.2026
DESCRIPTION:Link zum Verfahren: https://konkurado.ch/en/lycee-blaise-cendra
 rs-assainissement-du-batiment
X-MICROSOFT-CDO-ALLDAYEVENT:TRUE
DTSTART;TZID=Europe/Zurich;VALUE=DATE:20260204
END:VEVENT
BEGIN:VEVENT
UID:69ea0865d5f25
DTSTAMP:20260423T115413Z
SUMMARY:KONKURADO: Lycée Blaise Cendrars\, Assainissement du bâtiment\, S
 chlussbesprechung 04.02.2026 - 04.02.2026
DESCRIPTION:Link zum Verfahren: https://konkurado.ch/en/lycee-blaise-cendra
 rs-assainissement-du-batiment
X-MICROSOFT-CDO-ALLDAYEVENT:TRUE
DTSTART;TZID=Europe/Zurich;VALUE=DATE:20260204
END:VEVENT
BEGIN:VEVENT
UID:69ea0865d617c
DTSTAMP:20260423T115413Z
SUMMARY:KONKURADO: Lycée Blaise Cendrars\, Assainissement du bâtiment\, B
 egehung 04.06.2025 - 04.06.2025
DESCRIPTION:Link zum Verfahren: https://konkurado.ch/en/lycee-blaise-cendra
 rs-assainissement-du-batiment
X-MICROSOFT-CDO-ALLDAYEVENT:TRUE
DTSTART;TZID=Europe/Zurich;VALUE=DATE:20250604
END:VEVENT
BEGIN:VEVENT
UID:69ea0865d61c1
DTSTAMP:20260423T115413Z
SUMMARY:KONKURADO: Lycée Blaise Cendrars\, Assainissement du bâtiment\, B
 egehung 04.06.2025 - 04.06.2025
DESCRIPTION:Link zum Verfahren: https://konkurado.ch/en/lycee-blaise-cendra
 rs-assainissement-du-batiment
X-MICROSOFT-CDO-ALLDAYEVENT:TRUE
DTSTART;TZID=Europe/Zurich;VALUE=DATE:20250604
END:VEVENT
BEGIN:VEVENT
UID:69ea0865d6279
DTSTAMP:20260423T115413Z
SUMMARY:KONKURADO: Lycée Blaise Cendrars\, Assainissement du bâtiment\, S
 elektion 17.06.2025 - 25.06.2025
DESCRIPTION:Link zum Verfahren: https://konkurado.ch/en/lycee-blaise-cendra
 rs-assainissement-du-batiment
X-MICROSOFT-CDO-ALLDAYEVENT:TRUE
DTSTART;TZID=Europe/Zurich;VALUE=DATE:20250617
END:VEVENT
BEGIN:VEVENT
UID:69ea0865d62bb
DTSTAMP:20260423T115413Z
SUMMARY:KONKURADO: Lycée Blaise Cendrars\, Assainissement du bâtiment\, S
 elektion 17.06.2025 - 25.06.2025
DESCRIPTION:Link zum Verfahren: https://konkurado.ch/en/lycee-blaise-cendra
 rs-assainissement-du-batiment
X-MICROSOFT-CDO-ALLDAYEVENT:TRUE
DTSTART;TZID=Europe/Zurich;VALUE=DATE:20250625
END:VEVENT
BEGIN:VEVENT
UID:69ea0865d6363
DTSTAMP:20260423T115413Z
SUMMARY:KONKURADO: Lycée Blaise Cendrars\, Assainissement du bâtiment\, B
 ekanntgabe Selektionsentscheid 07.07.2025 - 07.07.2025
DESCRIPTION:Link zum Verfahren: https://konkurado.ch/en/lycee-blaise-cendra
 rs-assainissement-du-batiment
X-MICROSOFT-CDO-ALLDAYEVENT:TRUE
DTSTART;TZID=Europe/Zurich;VALUE=DATE:20250707
END:VEVENT
BEGIN:VEVENT
UID:69ea0865d639e
DTSTAMP:20260423T115413Z
SUMMARY:KONKURADO: Lycée Blaise Cendrars\, Assainissement du bâtiment\, B
 ekanntgabe Selektionsentscheid 07.07.2025 - 07.07.2025
DESCRIPTION:Link zum Verfahren: https://konkurado.ch/en/lycee-blaise-cendra
 rs-assainissement-du-batiment
X-MICROSOFT-CDO-ALLDAYEVENT:TRUE
DTSTART;TZID=Europe/Zurich;VALUE=DATE:20250707
END:VEVENT
BEGIN:VEVENT
UID:69ea0865d6441
DTSTAMP:20260423T115413Z
SUMMARY:KONKURADO: Lycée Blaise Cendrars\, Assainissement du bâtiment\, R
 ekursfrist 07.07.2025 - 11.08.2025
DESCRIPTION:Link zum Verfahren: https://konkurado.ch/en/lycee-blaise-cendra
 rs-assainissement-du-batiment
X-MICROSOFT-CDO-ALLDAYEVENT:TRUE
DTSTART;TZID=Europe/Zurich;VALUE=DATE:20250707
END:VEVENT
BEGIN:VEVENT
UID:69ea0865d6482
DTSTAMP:20260423T115413Z
SUMMARY:KONKURADO: Lycée Blaise Cendrars\, Assainissement du bâtiment\, R
 ekursfrist 07.07.2025 - 11.08.2025
DESCRIPTION:Link zum Verfahren: https://konkurado.ch/en/lycee-blaise-cendra
 rs-assainissement-du-batiment
X-MICROSOFT-CDO-ALLDAYEVENT:TRUE
DTSTART;TZID=Europe/Zurich;VALUE=DATE:20250811
END:VEVENT
BEGIN:VEVENT
UID:69ea0865d651c
DTSTAMP:20260423T115413Z
SUMMARY:KONKURADO: Lycée Blaise Cendrars\, Assainissement du bâtiment\, L
 ancierung Studienauftrag 20.08.2025 - 20.08.2025
DESCRIPTION:Link zum Verfahren: https://konkurado.ch/en/lycee-blaise-cendra
 rs-assainissement-du-batiment
X-MICROSOFT-CDO-ALLDAYEVENT:TRUE
DTSTART;TZID=Europe/Zurich;VALUE=DATE:20250820
END:VEVENT
BEGIN:VEVENT
UID:69ea0865d655f
DTSTAMP:20260423T115413Z
SUMMARY:KONKURADO: Lycée Blaise Cendrars\, Assainissement du bâtiment\, L
 ancierung Studienauftrag 20.08.2025 - 20.08.2025
DESCRIPTION:Link zum Verfahren: https://konkurado.ch/en/lycee-blaise-cendra
 rs-assainissement-du-batiment
X-MICROSOFT-CDO-ALLDAYEVENT:TRUE
DTSTART;TZID=Europe/Zurich;VALUE=DATE:20250820
END:VEVENT
BEGIN:VEVENT
UID:69ea0865d65f4
DTSTAMP:20260423T115413Z
SUMMARY:KONKURADO: Lycée Blaise Cendrars\, Assainissement du bâtiment\, F
 ragenbeantwortung ab 15.09.2025 - 03.11.2025
DESCRIPTION:Link zum Verfahren: https://konkurado.ch/en/lycee-blaise-cendra
 rs-assainissement-du-batiment
X-MICROSOFT-CDO-ALLDAYEVENT:TRUE
DTSTART;TZID=Europe/Zurich;VALUE=DATE:20250915
END:VEVENT
BEGIN:VEVENT
UID:69ea0865d6636
DTSTAMP:20260423T115413Z
SUMMARY:KONKURADO: Lycée Blaise Cendrars\, Assainissement du bâtiment\, F
 ragenbeantwortung ab 15.09.2025 - 03.11.2025
DESCRIPTION:Link zum Verfahren: https://konkurado.ch/en/lycee-blaise-cendra
 rs-assainissement-du-batiment
X-MICROSOFT-CDO-ALLDAYEVENT:TRUE
DTSTART;TZID=Europe/Zurich;VALUE=DATE:20251103
END:VEVENT
BEGIN:VEVENT
UID:69ea0865d66c7
DTSTAMP:20260423T115413Z
SUMMARY:KONKURADO: Lycée Blaise Cendrars\, Assainissement du bâtiment\, Z
 wischenbesprechung 12.11.2025 - 12.11.2025
DESCRIPTION:Link zum Verfahren: https://konkurado.ch/en/lycee-blaise-cendra
 rs-assainissement-du-batiment
X-MICROSOFT-CDO-ALLDAYEVENT:TRUE
DTSTART;TZID=Europe/Zurich;VALUE=DATE:20251112
END:VEVENT
BEGIN:VEVENT
UID:69ea0865d6703
DTSTAMP:20260423T115413Z
SUMMARY:KONKURADO: Lycée Blaise Cendrars\, Assainissement du bâtiment\, Z
 wischenbesprechung 12.11.2025 - 12.11.2025
DESCRIPTION:Link zum Verfahren: https://konkurado.ch/en/lycee-blaise-cendra
 rs-assainissement-du-batiment
X-MICROSOFT-CDO-ALLDAYEVENT:TRUE
DTSTART;TZID=Europe/Zurich;VALUE=DATE:20251112
END:VEVENT
BEGIN:VEVENT
UID:69ea0865d6795
DTSTAMP:20260423T115413Z
SUMMARY:KONKURADO: Lycée Blaise Cendrars\, Assainissement du bâtiment\, E
 mpfehlungen und Beantwortung der Fragen aus Zwischenbesprechung 24.11.2025
  - 24.11.2025
DESCRIPTION:Link zum Verfahren: https://konkurado.ch/en/lycee-blaise-cendra
 rs-assainissement-du-batiment
X-MICROSOFT-CDO-ALLDAYEVENT:TRUE
DTSTART;TZID=Europe/Zurich;VALUE=DATE:20251124
END:VEVENT
BEGIN:VEVENT
UID:69ea0865d67d7
DTSTAMP:20260423T115413Z
SUMMARY:KONKURADO: Lycée Blaise Cendrars\, Assainissement du bâtiment\, E
 mpfehlungen und Beantwortung der Fragen aus Zwischenbesprechung 24.11.2025
  - 24.11.2025
DESCRIPTION:Link zum Verfahren: https://konkurado.ch/en/lycee-blaise-cendra
 rs-assainissement-du-batiment
X-MICROSOFT-CDO-ALLDAYEVENT:TRUE
DTSTART;TZID=Europe/Zurich;VALUE=DATE:20251124
END:VEVENT
BEGIN:VEVENT
UID:69ea0865d683a
DTSTAMP:20260423T115413Z
SUMMARY:KONKURADO: Lycée Blaise Cendrars\, Assainissement du bâtiment\, E
 inreichung der Dossiers zur Schlussbesprechung 24.11.2025 - 26.01.2026
DESCRIPTION:Link zum Verfahren: https://konkurado.ch/en/lycee-blaise-cendra
 rs-assainissement-du-batiment
X-MICROSOFT-CDO-ALLDAYEVENT:TRUE
DTSTART;TZID=Europe/Zurich;VALUE=DATE:20251124
END:VEVENT
BEGIN:VEVENT
UID:69ea0865d6877
DTSTAMP:20260423T115413Z
SUMMARY:KONKURADO: Lycée Blaise Cendrars\, Assainissement du bâtiment\, E
 inreichung der Dossiers zur Schlussbesprechung 24.11.2025 - 26.01.2026
DESCRIPTION:Link zum Verfahren: https://konkurado.ch/en/lycee-blaise-cendra
 rs-assainissement-du-batiment
X-MICROSOFT-CDO-ALLDAYEVENT:TRUE
DTSTART;TZID=Europe/Zurich;VALUE=DATE:20260126
END:VEVENT
END:VCALENDAR