BEGIN:VCALENDAR
VERSION:2.0
PRODID:spatie/icalendar-generator
NAME:Littau West
X-WR-CALNAME:Littau West
BEGIN:VTIMEZONE
TZID:Europe/Zurich
BEGIN:DAYLIGHT
DTSTART:20240331T010000
TZOFFSETFROM:+0100
TZOFFSETTO:+0200
END:DAYLIGHT
BEGIN:STANDARD
DTSTART:20241027T030000
TZOFFSETFROM:+0200
TZOFFSETTO:+0100
END:STANDARD
BEGIN:DAYLIGHT
DTSTART:20250330T010000
TZOFFSETFROM:+0100
TZOFFSETTO:+0200
END:DAYLIGHT
BEGIN:STANDARD
DTSTART:20251026T030000
TZOFFSETFROM:+0200
TZOFFSETTO:+0100
END:STANDARD
END:VTIMEZONE
BEGIN:VTIMEZONE
TZID:UTC
BEGIN:STANDARD
DTSTART:20250727T154202
TZOFFSETFROM:+0000
TZOFFSETTO:+0000
END:STANDARD
END:VTIMEZONE
BEGIN:VEVENT
UID:69ea3dcae1bc5
DTSTAMP:20260423T154202Z
SUMMARY:KONKURADO: Littau West\, Anmeldung 24.10.2024 - 31.12.2024
DESCRIPTION:Link zum Verfahren: https://konkurado.ch/en/littau-west
X-MICROSOFT-CDO-ALLDAYEVENT:TRUE
DTSTART;TZID=Europe/Zurich;VALUE=DATE:20241024
END:VEVENT
BEGIN:VEVENT
UID:69ea3dcae1c6a
DTSTAMP:20260423T154202Z
SUMMARY:KONKURADO: Littau West\, Anmeldung 24.10.2024 - 31.12.2024
DESCRIPTION:Link zum Verfahren: https://konkurado.ch/en/littau-west
X-MICROSOFT-CDO-ALLDAYEVENT:TRUE
DTSTART;TZID=Europe/Zurich;VALUE=DATE:20241231
END:VEVENT
BEGIN:VEVENT
UID:69ea3dcae1deb
DTSTAMP:20260423T154202Z
SUMMARY:KONKURADO: Littau West\, Publikation der Unterlagen 01.01.2025 - 30
 .04.2025
DESCRIPTION:Link zum Verfahren: https://konkurado.ch/en/littau-west
X-MICROSOFT-CDO-ALLDAYEVENT:TRUE
DTSTART;TZID=Europe/Zurich;VALUE=DATE:20250101
END:VEVENT
BEGIN:VEVENT
UID:69ea3dcae1e1d
DTSTAMP:20260423T154202Z
SUMMARY:KONKURADO: Littau West\, Publikation der Unterlagen 01.01.2025 - 30
 .04.2025
DESCRIPTION:Link zum Verfahren: https://konkurado.ch/en/littau-west
X-MICROSOFT-CDO-ALLDAYEVENT:TRUE
DTSTART;TZID=Europe/Zurich;VALUE=DATE:20250430
END:VEVENT
BEGIN:VEVENT
UID:69ea3dcae1e5a
DTSTAMP:20260423T154202Z
SUMMARY:KONKURADO: Littau West\, Fragerunde 01.01.2025 - 16.01.2025
DESCRIPTION:Link zum Verfahren: https://konkurado.ch/en/littau-west
X-MICROSOFT-CDO-ALLDAYEVENT:TRUE
DTSTART;TZID=Europe/Zurich;VALUE=DATE:20250101
END:VEVENT
BEGIN:VEVENT
UID:69ea3dcae1e80
DTSTAMP:20260423T154202Z
SUMMARY:KONKURADO: Littau West\, Fragerunde 01.01.2025 - 16.01.2025
DESCRIPTION:Link zum Verfahren: https://konkurado.ch/en/littau-west
X-MICROSOFT-CDO-ALLDAYEVENT:TRUE
DTSTART;TZID=Europe/Zurich;VALUE=DATE:20250116
END:VEVENT
BEGIN:VEVENT
UID:69ea3dcae1eb2
DTSTAMP:20260423T154202Z
SUMMARY:KONKURADO: Littau West\, Abgabe Angebot 31.01.2025 - 30.04.2025
DESCRIPTION:Link zum Verfahren: https://konkurado.ch/en/littau-west
X-MICROSOFT-CDO-ALLDAYEVENT:TRUE
DTSTART;TZID=Europe/Zurich;VALUE=DATE:20250131
END:VEVENT
BEGIN:VEVENT
UID:69ea3dcae1edc
DTSTAMP:20260423T154202Z
SUMMARY:KONKURADO: Littau West\, Abgabe Angebot 31.01.2025 - 30.04.2025
DESCRIPTION:Link zum Verfahren: https://konkurado.ch/en/littau-west
X-MICROSOFT-CDO-ALLDAYEVENT:TRUE
DTSTART;TZID=Europe/Zurich;VALUE=DATE:20250430
END:VEVENT
BEGIN:VEVENT
UID:69ea3dcae1f40
DTSTAMP:20260423T154202Z
SUMMARY:KONKURADO: Littau West\, Begehung 10.12.2024 - 08.01.2025
DESCRIPTION:Link zum Verfahren: https://konkurado.ch/en/littau-west
X-MICROSOFT-CDO-ALLDAYEVENT:TRUE
DTSTART;TZID=Europe/Zurich;VALUE=DATE:20241210
END:VEVENT
BEGIN:VEVENT
UID:69ea3dcae1f6b
DTSTAMP:20260423T154202Z
SUMMARY:KONKURADO: Littau West\, Begehung 10.12.2024 - 08.01.2025
DESCRIPTION:Link zum Verfahren: https://konkurado.ch/en/littau-west
X-MICROSOFT-CDO-ALLDAYEVENT:TRUE
DTSTART;TZID=Europe/Zurich;VALUE=DATE:20250108
END:VEVENT
BEGIN:VEVENT
UID:69ea3dcae1fc3
DTSTAMP:20260423T154202Z
SUMMARY:KONKURADO: Littau West\, Präsentation 01.05.2025 - 27.05.2025
DESCRIPTION:Link zum Verfahren: https://konkurado.ch/en/littau-west
X-MICROSOFT-CDO-ALLDAYEVENT:TRUE
DTSTART;TZID=Europe/Zurich;VALUE=DATE:20250501
END:VEVENT
BEGIN:VEVENT
UID:69ea3dcae1feb
DTSTAMP:20260423T154202Z
SUMMARY:KONKURADO: Littau West\, Präsentation 01.05.2025 - 27.05.2025
DESCRIPTION:Link zum Verfahren: https://konkurado.ch/en/littau-west
X-MICROSOFT-CDO-ALLDAYEVENT:TRUE
DTSTART;TZID=Europe/Zurich;VALUE=DATE:20250527
END:VEVENT
END:VCALENDAR