BEGIN:VCALENDAR
VERSION:2.0
PRODID:spatie/icalendar-generator
NAME:INTERIOR DESIGN CONCEPT FOR Limmathaus in Zurich (CH)
X-WR-CALNAME:INTERIOR DESIGN CONCEPT FOR Limmathaus in Zurich (CH)
BEGIN:VTIMEZONE
TZID:Europe/Zurich
BEGIN:STANDARD
DTSTART:20241027T030000
TZOFFSETFROM:+0200
TZOFFSETTO:+0100
END:STANDARD
BEGIN:DAYLIGHT
DTSTART:20250330T010000
TZOFFSETFROM:+0100
TZOFFSETTO:+0200
END:DAYLIGHT
BEGIN:STANDARD
DTSTART:20251026T030000
TZOFFSETFROM:+0200
TZOFFSETTO:+0100
END:STANDARD
BEGIN:DAYLIGHT
DTSTART:20260329T010000
TZOFFSETFROM:+0100
TZOFFSETTO:+0200
END:DAYLIGHT
END:VTIMEZONE
BEGIN:VTIMEZONE
TZID:UTC
BEGIN:STANDARD
DTSTART:20250727T114917
TZOFFSETFROM:+0000
TZOFFSETTO:+0000
END:STANDARD
END:VTIMEZONE
BEGIN:VEVENT
UID:69ea073d3eae8
DTSTAMP:20260423T114917Z
SUMMARY:KONKURADO: INTERIOR DESIGN CONCEPT FOR Limmathaus in Zurich (CH)\, 
 Call For Portfolios 17.04.2025 - 11.05.2025
DESCRIPTION:Link zum Verfahren: https://konkurado.ch/en/limmathaus
X-MICROSOFT-CDO-ALLDAYEVENT:TRUE
DTSTART;TZID=Europe/Zurich;VALUE=DATE:20250417
END:VEVENT
BEGIN:VEVENT
UID:69ea073d3ebba
DTSTAMP:20260423T114917Z
SUMMARY:KONKURADO: INTERIOR DESIGN CONCEPT FOR Limmathaus in Zurich (CH)\, 
 Call For Portfolios 17.04.2025 - 11.05.2025
DESCRIPTION:Link zum Verfahren: https://konkurado.ch/en/limmathaus
X-MICROSOFT-CDO-ALLDAYEVENT:TRUE
DTSTART;TZID=Europe/Zurich;VALUE=DATE:20250511
END:VEVENT
BEGIN:VEVENT
UID:69ea073d3ee1d
DTSTAMP:20260423T114917Z
SUMMARY:KONKURADO: INTERIOR DESIGN CONCEPT FOR Limmathaus in Zurich (CH)\, 
 Publikation der Unterlagen 17.04.2025 - 11.05.2025
DESCRIPTION:Link zum Verfahren: https://konkurado.ch/en/limmathaus
X-MICROSOFT-CDO-ALLDAYEVENT:TRUE
DTSTART;TZID=Europe/Zurich;VALUE=DATE:20250417
END:VEVENT
BEGIN:VEVENT
UID:69ea073d3ee63
DTSTAMP:20260423T114917Z
SUMMARY:KONKURADO: INTERIOR DESIGN CONCEPT FOR Limmathaus in Zurich (CH)\, 
 Publikation der Unterlagen 17.04.2025 - 11.05.2025
DESCRIPTION:Link zum Verfahren: https://konkurado.ch/en/limmathaus
X-MICROSOFT-CDO-ALLDAYEVENT:TRUE
DTSTART;TZID=Europe/Zurich;VALUE=DATE:20250511
END:VEVENT
BEGIN:VEVENT
UID:69ea073d3eebf
DTSTAMP:20260423T114917Z
SUMMARY:KONKURADO: INTERIOR DESIGN CONCEPT FOR Limmathaus in Zurich (CH)\, 
 Paid Mini Concept Proposal & Cost Estimate 15.05.2025 - 30.06.2025
DESCRIPTION:Link zum Verfahren: https://konkurado.ch/en/limmathaus
X-MICROSOFT-CDO-ALLDAYEVENT:TRUE
DTSTART;TZID=Europe/Zurich;VALUE=DATE:20250515
END:VEVENT
BEGIN:VEVENT
UID:69ea073d3eeed
DTSTAMP:20260423T114917Z
SUMMARY:KONKURADO: INTERIOR DESIGN CONCEPT FOR Limmathaus in Zurich (CH)\, 
 Paid Mini Concept Proposal & Cost Estimate 15.05.2025 - 30.06.2025
DESCRIPTION:Link zum Verfahren: https://konkurado.ch/en/limmathaus
X-MICROSOFT-CDO-ALLDAYEVENT:TRUE
DTSTART;TZID=Europe/Zurich;VALUE=DATE:20250630
END:VEVENT
BEGIN:VEVENT
UID:69ea073d3ef1d
DTSTAMP:20260423T114917Z
SUMMARY:KONKURADO: INTERIOR DESIGN CONCEPT FOR Limmathaus in Zurich (CH)\, 
 Social Fit in Zurich 01.07.2025 - 31.08.2025
DESCRIPTION:Link zum Verfahren: https://konkurado.ch/en/limmathaus
X-MICROSOFT-CDO-ALLDAYEVENT:TRUE
DTSTART;TZID=Europe/Zurich;VALUE=DATE:20250701
END:VEVENT
BEGIN:VEVENT
UID:69ea073d3ef42
DTSTAMP:20260423T114917Z
SUMMARY:KONKURADO: INTERIOR DESIGN CONCEPT FOR Limmathaus in Zurich (CH)\, 
 Social Fit in Zurich 01.07.2025 - 31.08.2025
DESCRIPTION:Link zum Verfahren: https://konkurado.ch/en/limmathaus
X-MICROSOFT-CDO-ALLDAYEVENT:TRUE
DTSTART;TZID=Europe/Zurich;VALUE=DATE:20250831
END:VEVENT
BEGIN:VEVENT
UID:69ea073d3ef6e
DTSTAMP:20260423T114917Z
SUMMARY:KONKURADO: INTERIOR DESIGN CONCEPT FOR Limmathaus in Zurich (CH)\, 
 Paid Concept development 01.09.2025 - 31.03.2026
DESCRIPTION:Link zum Verfahren: https://konkurado.ch/en/limmathaus
X-MICROSOFT-CDO-ALLDAYEVENT:TRUE
DTSTART;TZID=Europe/Zurich;VALUE=DATE:20250901
END:VEVENT
BEGIN:VEVENT
UID:69ea073d3ef91
DTSTAMP:20260423T114917Z
SUMMARY:KONKURADO: INTERIOR DESIGN CONCEPT FOR Limmathaus in Zurich (CH)\, 
 Paid Concept development 01.09.2025 - 31.03.2026
DESCRIPTION:Link zum Verfahren: https://konkurado.ch/en/limmathaus
X-MICROSOFT-CDO-ALLDAYEVENT:TRUE
DTSTART;TZID=Europe/Zurich;VALUE=DATE:20260331
END:VEVENT
END:VCALENDAR