BEGIN:VCALENDAR
VERSION:2.0
PRODID:spatie/icalendar-generator
NAME:Licht- und Elektroplanung für Kleinprojekte
X-WR-CALNAME:Licht- und Elektroplanung für Kleinprojekte
BEGIN:VTIMEZONE
TZID:Europe/Zurich
BEGIN:STANDARD
DTSTART:20251026T030000
TZOFFSETFROM:+0200
TZOFFSETTO:+0100
END:STANDARD
BEGIN:DAYLIGHT
DTSTART:20260329T010000
TZOFFSETFROM:+0100
TZOFFSETTO:+0200
END:DAYLIGHT
BEGIN:STANDARD
DTSTART:20261025T030000
TZOFFSETFROM:+0200
TZOFFSETTO:+0100
END:STANDARD
END:VTIMEZONE
BEGIN:VTIMEZONE
TZID:UTC
BEGIN:STANDARD
DTSTART:20250727T101659
TZOFFSETFROM:+0000
TZOFFSETTO:+0000
END:STANDARD
END:VTIMEZONE
BEGIN:VEVENT
UID:69e9f19bba41c
DTSTAMP:20260423T101659Z
SUMMARY:KONKURADO: Licht- und Elektroplanung für Kleinprojekte\, Fragerund
 e\, einreichen bis 20.04.2026 - 20.04.2026
DESCRIPTION:Link zum Verfahren: https://konkurado.ch/en/licht-und-elektropl
 anung-fur-kleinprojekte
X-MICROSOFT-CDO-ALLDAYEVENT:TRUE
DTSTART;TZID=Europe/Zurich;VALUE=DATE:20260420
END:VEVENT
BEGIN:VEVENT
UID:69e9f19bba4ac
DTSTAMP:20260423T101659Z
SUMMARY:KONKURADO: Licht- und Elektroplanung für Kleinprojekte\, Fragerund
 e\, einreichen bis 20.04.2026 - 20.04.2026
DESCRIPTION:Link zum Verfahren: https://konkurado.ch/en/licht-und-elektropl
 anung-fur-kleinprojekte
X-MICROSOFT-CDO-ALLDAYEVENT:TRUE
DTSTART;TZID=Europe/Zurich;VALUE=DATE:20260420
END:VEVENT
BEGIN:VEVENT
UID:69e9f19bba51e
DTSTAMP:20260423T101659Z
SUMMARY:KONKURADO: Licht- und Elektroplanung für Kleinprojekte\, Einreiche
 n von Angeboten bis 11.05.2026 - 11.05.2026
DESCRIPTION:Link zum Verfahren: https://konkurado.ch/en/licht-und-elektropl
 anung-fur-kleinprojekte
X-MICROSOFT-CDO-ALLDAYEVENT:TRUE
DTSTART;TZID=Europe/Zurich;VALUE=DATE:20260511
END:VEVENT
BEGIN:VEVENT
UID:69e9f19bba553
DTSTAMP:20260423T101659Z
SUMMARY:KONKURADO: Licht- und Elektroplanung für Kleinprojekte\, Einreiche
 n von Angeboten bis 11.05.2026 - 11.05.2026
DESCRIPTION:Link zum Verfahren: https://konkurado.ch/en/licht-und-elektropl
 anung-fur-kleinprojekte
X-MICROSOFT-CDO-ALLDAYEVENT:TRUE
DTSTART;TZID=Europe/Zurich;VALUE=DATE:20260511
END:VEVENT
BEGIN:VEVENT
UID:69e9f19bba5ad
DTSTAMP:20260423T101659Z
SUMMARY:KONKURADO: Licht- und Elektroplanung für Kleinprojekte\, Offertöf
 fnung 12.05.2026 - 12.05.2026
DESCRIPTION:Link zum Verfahren: https://konkurado.ch/en/licht-und-elektropl
 anung-fur-kleinprojekte
X-MICROSOFT-CDO-ALLDAYEVENT:TRUE
DTSTART;TZID=Europe/Zurich;VALUE=DATE:20260512
END:VEVENT
BEGIN:VEVENT
UID:69e9f19bba5d4
DTSTAMP:20260423T101659Z
SUMMARY:KONKURADO: Licht- und Elektroplanung für Kleinprojekte\, Offertöf
 fnung 12.05.2026 - 12.05.2026
DESCRIPTION:Link zum Verfahren: https://konkurado.ch/en/licht-und-elektropl
 anung-fur-kleinprojekte
X-MICROSOFT-CDO-ALLDAYEVENT:TRUE
DTSTART;TZID=Europe/Zurich;VALUE=DATE:20260512
END:VEVENT
END:VCALENDAR