BEGIN:VCALENDAR
VERSION:2.0
PRODID:spatie/icalendar-generator
NAME:Les Dailles - l'Arzillier
X-WR-CALNAME:Les Dailles - l'Arzillier
BEGIN:VTIMEZONE
TZID:Europe/Zurich
BEGIN:STANDARD
DTSTART:20241027T030000
TZOFFSETFROM:+0200
TZOFFSETTO:+0100
END:STANDARD
BEGIN:DAYLIGHT
DTSTART:20250330T010000
TZOFFSETFROM:+0100
TZOFFSETTO:+0200
END:DAYLIGHT
BEGIN:STANDARD
DTSTART:20251026T030000
TZOFFSETFROM:+0200
TZOFFSETTO:+0100
END:STANDARD
BEGIN:DAYLIGHT
DTSTART:20260329T010000
TZOFFSETFROM:+0100
TZOFFSETTO:+0200
END:DAYLIGHT
BEGIN:STANDARD
DTSTART:20261025T030000
TZOFFSETFROM:+0200
TZOFFSETTO:+0100
END:STANDARD
END:VTIMEZONE
BEGIN:VTIMEZONE
TZID:UTC
BEGIN:STANDARD
DTSTART:20250727T115315
TZOFFSETFROM:+0000
TZOFFSETTO:+0000
END:STANDARD
END:VTIMEZONE
BEGIN:VEVENT
UID:69ea082b09ae5
DTSTAMP:20260423T115315Z
SUMMARY:KONKURADO: Les Dailles - l'Arzillier\, Délai d’inscription jusqu
 ’au 23.06.2025 - 28.08.2025
DESCRIPTION:Link zum Verfahren: https://konkurado.ch/en/les-dailles-larzill
 ier
X-MICROSOFT-CDO-ALLDAYEVENT:TRUE
DTSTART;TZID=Europe/Zurich;VALUE=DATE:20250623
END:VEVENT
BEGIN:VEVENT
UID:69ea082b09b71
DTSTAMP:20260423T115315Z
SUMMARY:KONKURADO: Les Dailles - l'Arzillier\, Délai d’inscription jusqu
 ’au 23.06.2025 - 28.08.2025
DESCRIPTION:Link zum Verfahren: https://konkurado.ch/en/les-dailles-larzill
 ier
X-MICROSOFT-CDO-ALLDAYEVENT:TRUE
DTSTART;TZID=Europe/Zurich;VALUE=DATE:20250828
END:VEVENT
BEGIN:VEVENT
UID:69ea082b09ca4
DTSTAMP:20260423T115315Z
SUMMARY:KONKURADO: Les Dailles - l'Arzillier\, Réponses aux questions – 
 1er degré (délai indicatif) 10.07.2025 - 18.07.2025
DESCRIPTION:Link zum Verfahren: https://konkurado.ch/en/les-dailles-larzill
 ier
X-MICROSOFT-CDO-ALLDAYEVENT:TRUE
DTSTART;TZID=Europe/Zurich;VALUE=DATE:20250710
END:VEVENT
BEGIN:VEVENT
UID:69ea082b09ccf
DTSTAMP:20260423T115315Z
SUMMARY:KONKURADO: Les Dailles - l'Arzillier\, Réponses aux questions – 
 1er degré (délai indicatif) 10.07.2025 - 18.07.2025
DESCRIPTION:Link zum Verfahren: https://konkurado.ch/en/les-dailles-larzill
 ier
X-MICROSOFT-CDO-ALLDAYEVENT:TRUE
DTSTART;TZID=Europe/Zurich;VALUE=DATE:20250718
END:VEVENT
BEGIN:VEVENT
UID:69ea082b09d08
DTSTAMP:20260423T115315Z
SUMMARY:KONKURADO: Les Dailles - l'Arzillier\, Soumission des questions –
  1er degré 23.06.2025 - 09.07.2025
DESCRIPTION:Link zum Verfahren: https://konkurado.ch/en/les-dailles-larzill
 ier
X-MICROSOFT-CDO-ALLDAYEVENT:TRUE
DTSTART;TZID=Europe/Zurich;VALUE=DATE:20250623
END:VEVENT
BEGIN:VEVENT
UID:69ea082b09d2e
DTSTAMP:20260423T115315Z
SUMMARY:KONKURADO: Les Dailles - l'Arzillier\, Soumission des questions –
  1er degré 23.06.2025 - 09.07.2025
DESCRIPTION:Link zum Verfahren: https://konkurado.ch/en/les-dailles-larzill
 ier
X-MICROSOFT-CDO-ALLDAYEVENT:TRUE
DTSTART;TZID=Europe/Zurich;VALUE=DATE:20250709
END:VEVENT
BEGIN:VEVENT
UID:69ea082b09d60
DTSTAMP:20260423T115315Z
SUMMARY:KONKURADO: Les Dailles - l'Arzillier\, Rendu des projets - 1er degr
 é 23.06.2025 - 20.10.2025
DESCRIPTION:Link zum Verfahren: https://konkurado.ch/en/les-dailles-larzill
 ier
X-MICROSOFT-CDO-ALLDAYEVENT:TRUE
DTSTART;TZID=Europe/Zurich;VALUE=DATE:20250623
END:VEVENT
BEGIN:VEVENT
UID:69ea082b09d84
DTSTAMP:20260423T115315Z
SUMMARY:KONKURADO: Les Dailles - l'Arzillier\, Rendu des projets - 1er degr
 é 23.06.2025 - 20.10.2025
DESCRIPTION:Link zum Verfahren: https://konkurado.ch/en/les-dailles-larzill
 ier
X-MICROSOFT-CDO-ALLDAYEVENT:TRUE
DTSTART;TZID=Europe/Zurich;VALUE=DATE:20251020
END:VEVENT
BEGIN:VEVENT
UID:69ea082b09df9
DTSTAMP:20260423T115315Z
SUMMARY:KONKURADO: Les Dailles - l'Arzillier\, Retrait des fonds de maquett
 es dès le 18.07.2025 - 20.10.2025
DESCRIPTION:Link zum Verfahren: https://konkurado.ch/en/les-dailles-larzill
 ier
X-MICROSOFT-CDO-ALLDAYEVENT:TRUE
DTSTART;TZID=Europe/Zurich;VALUE=DATE:20250718
END:VEVENT
BEGIN:VEVENT
UID:69ea082b09e20
DTSTAMP:20260423T115315Z
SUMMARY:KONKURADO: Les Dailles - l'Arzillier\, Retrait des fonds de maquett
 es dès le 18.07.2025 - 20.10.2025
DESCRIPTION:Link zum Verfahren: https://konkurado.ch/en/les-dailles-larzill
 ier
X-MICROSOFT-CDO-ALLDAYEVENT:TRUE
DTSTART;TZID=Europe/Zurich;VALUE=DATE:20251020
END:VEVENT
BEGIN:VEVENT
UID:69ea082b09e78
DTSTAMP:20260423T115315Z
SUMMARY:KONKURADO: Les Dailles - l'Arzillier\, Rendu des maquettes - 1er de
 gré 18.07.2025 - 20.10.2025
DESCRIPTION:Link zum Verfahren: https://konkurado.ch/en/les-dailles-larzill
 ier
X-MICROSOFT-CDO-ALLDAYEVENT:TRUE
DTSTART;TZID=Europe/Zurich;VALUE=DATE:20250718
END:VEVENT
BEGIN:VEVENT
UID:69ea082b09e9e
DTSTAMP:20260423T115315Z
SUMMARY:KONKURADO: Les Dailles - l'Arzillier\, Rendu des maquettes - 1er de
 gré 18.07.2025 - 20.10.2025
DESCRIPTION:Link zum Verfahren: https://konkurado.ch/en/les-dailles-larzill
 ier
X-MICROSOFT-CDO-ALLDAYEVENT:TRUE
DTSTART;TZID=Europe/Zurich;VALUE=DATE:20251020
END:VEVENT
BEGIN:VEVENT
UID:69ea082b09ef1
DTSTAMP:20260423T115315Z
SUMMARY:KONKURADO: Les Dailles - l'Arzillier\, Lancement du 2ème degré 01
 .12.2025 - 01.12.2025
DESCRIPTION:Link zum Verfahren: https://konkurado.ch/en/les-dailles-larzill
 ier
X-MICROSOFT-CDO-ALLDAYEVENT:TRUE
DTSTART;TZID=Europe/Zurich;VALUE=DATE:20251201
END:VEVENT
BEGIN:VEVENT
UID:69ea082b09f17
DTSTAMP:20260423T115315Z
SUMMARY:KONKURADO: Les Dailles - l'Arzillier\, Lancement du 2ème degré 01
 .12.2025 - 01.12.2025
DESCRIPTION:Link zum Verfahren: https://konkurado.ch/en/les-dailles-larzill
 ier
X-MICROSOFT-CDO-ALLDAYEVENT:TRUE
DTSTART;TZID=Europe/Zurich;VALUE=DATE:20251201
END:VEVENT
BEGIN:VEVENT
UID:69ea082b09f69
DTSTAMP:20260423T115315Z
SUMMARY:KONKURADO: Les Dailles - l'Arzillier\, Réponses aux questions – 
 2ème degré (délai indicatif) 08.01.2026 - 21.01.2026
DESCRIPTION:Link zum Verfahren: https://konkurado.ch/en/les-dailles-larzill
 ier
X-MICROSOFT-CDO-ALLDAYEVENT:TRUE
DTSTART;TZID=Europe/Zurich;VALUE=DATE:20260108
END:VEVENT
BEGIN:VEVENT
UID:69ea082b09f8f
DTSTAMP:20260423T115315Z
SUMMARY:KONKURADO: Les Dailles - l'Arzillier\, Réponses aux questions – 
 2ème degré (délai indicatif) 08.01.2026 - 21.01.2026
DESCRIPTION:Link zum Verfahren: https://konkurado.ch/en/les-dailles-larzill
 ier
X-MICROSOFT-CDO-ALLDAYEVENT:TRUE
DTSTART;TZID=Europe/Zurich;VALUE=DATE:20260121
END:VEVENT
BEGIN:VEVENT
UID:69ea082b09fbe
DTSTAMP:20260423T115315Z
SUMMARY:KONKURADO: Les Dailles - l'Arzillier\, Soumission des questions –
  2ème degré 07.01.2026 - 07.01.2026
DESCRIPTION:Link zum Verfahren: https://konkurado.ch/en/les-dailles-larzill
 ier
X-MICROSOFT-CDO-ALLDAYEVENT:TRUE
DTSTART;TZID=Europe/Zurich;VALUE=DATE:20260107
END:VEVENT
BEGIN:VEVENT
UID:69ea082b09fe2
DTSTAMP:20260423T115315Z
SUMMARY:KONKURADO: Les Dailles - l'Arzillier\, Soumission des questions –
  2ème degré 07.01.2026 - 07.01.2026
DESCRIPTION:Link zum Verfahren: https://konkurado.ch/en/les-dailles-larzill
 ier
X-MICROSOFT-CDO-ALLDAYEVENT:TRUE
DTSTART;TZID=Europe/Zurich;VALUE=DATE:20260107
END:VEVENT
BEGIN:VEVENT
UID:69ea082b0a034
DTSTAMP:20260423T115315Z
SUMMARY:KONKURADO: Les Dailles - l'Arzillier\, Dialogue intermédiaire 24.0
 2.2026 - 24.02.2025
DESCRIPTION:Link zum Verfahren: https://konkurado.ch/en/les-dailles-larzill
 ier
X-MICROSOFT-CDO-ALLDAYEVENT:TRUE
DTSTART;TZID=Europe/Zurich;VALUE=DATE:20260224
END:VEVENT
BEGIN:VEVENT
UID:69ea082b0a05a
DTSTAMP:20260423T115315Z
SUMMARY:KONKURADO: Les Dailles - l'Arzillier\, Dialogue intermédiaire 24.0
 2.2026 - 24.02.2025
DESCRIPTION:Link zum Verfahren: https://konkurado.ch/en/les-dailles-larzill
 ier
X-MICROSOFT-CDO-ALLDAYEVENT:TRUE
DTSTART;TZID=Europe/Zurich;VALUE=DATE:20250224
END:VEVENT
BEGIN:VEVENT
UID:69ea082b0a0aa
DTSTAMP:20260423T115315Z
SUMMARY:KONKURADO: Les Dailles - l'Arzillier\, Transmission des recommandat
 ions 09.03.2026 - 09.03.2025
DESCRIPTION:Link zum Verfahren: https://konkurado.ch/en/les-dailles-larzill
 ier
X-MICROSOFT-CDO-ALLDAYEVENT:TRUE
DTSTART;TZID=Europe/Zurich;VALUE=DATE:20260309
END:VEVENT
BEGIN:VEVENT
UID:69ea082b0a0d0
DTSTAMP:20260423T115315Z
SUMMARY:KONKURADO: Les Dailles - l'Arzillier\, Transmission des recommandat
 ions 09.03.2026 - 09.03.2025
DESCRIPTION:Link zum Verfahren: https://konkurado.ch/en/les-dailles-larzill
 ier
X-MICROSOFT-CDO-ALLDAYEVENT:TRUE
DTSTART;TZID=Europe/Zurich;VALUE=DATE:20250309
END:VEVENT
BEGIN:VEVENT
UID:69ea082b0a0fe
DTSTAMP:20260423T115315Z
SUMMARY:KONKURADO: Les Dailles - l'Arzillier\, Rendu final des projets 01.1
 2.2025 - 13.05.2026
DESCRIPTION:Link zum Verfahren: https://konkurado.ch/en/les-dailles-larzill
 ier
X-MICROSOFT-CDO-ALLDAYEVENT:TRUE
DTSTART;TZID=Europe/Zurich;VALUE=DATE:20251201
END:VEVENT
BEGIN:VEVENT
UID:69ea082b0a122
DTSTAMP:20260423T115315Z
SUMMARY:KONKURADO: Les Dailles - l'Arzillier\, Rendu final des projets 01.1
 2.2025 - 13.05.2026
DESCRIPTION:Link zum Verfahren: https://konkurado.ch/en/les-dailles-larzill
 ier
X-MICROSOFT-CDO-ALLDAYEVENT:TRUE
DTSTART;TZID=Europe/Zurich;VALUE=DATE:20260513
END:VEVENT
BEGIN:VEVENT
UID:69ea082b0a174
DTSTAMP:20260423T115315Z
SUMMARY:KONKURADO: Les Dailles - l'Arzillier\, Dialogue final et rendu des 
 maquettes – 2ème degré 01.12.2025 - 29.05.2026
DESCRIPTION:Link zum Verfahren: https://konkurado.ch/en/les-dailles-larzill
 ier
X-MICROSOFT-CDO-ALLDAYEVENT:TRUE
DTSTART;TZID=Europe/Zurich;VALUE=DATE:20251201
END:VEVENT
BEGIN:VEVENT
UID:69ea082b0a19a
DTSTAMP:20260423T115315Z
SUMMARY:KONKURADO: Les Dailles - l'Arzillier\, Dialogue final et rendu des 
 maquettes – 2ème degré 01.12.2025 - 29.05.2026
DESCRIPTION:Link zum Verfahren: https://konkurado.ch/en/les-dailles-larzill
 ier
X-MICROSOFT-CDO-ALLDAYEVENT:TRUE
DTSTART;TZID=Europe/Zurich;VALUE=DATE:20260529
END:VEVENT
END:VCALENDAR