BEGIN:VCALENDAR
VERSION:2.0
PRODID:spatie/icalendar-generator
NAME:Kooperation Leimbach Mitte
X-WR-CALNAME:Kooperation Leimbach Mitte
BEGIN:VTIMEZONE
TZID:Europe/Zurich
BEGIN:STANDARD
DTSTART:20251026T030000
TZOFFSETFROM:+0200
TZOFFSETTO:+0100
END:STANDARD
BEGIN:DAYLIGHT
DTSTART:20260329T010000
TZOFFSETFROM:+0100
TZOFFSETTO:+0200
END:DAYLIGHT
BEGIN:STANDARD
DTSTART:20261025T030000
TZOFFSETFROM:+0200
TZOFFSETTO:+0100
END:STANDARD
BEGIN:DAYLIGHT
DTSTART:20270328T010000
TZOFFSETFROM:+0100
TZOFFSETTO:+0200
END:DAYLIGHT
END:VTIMEZONE
BEGIN:VTIMEZONE
TZID:UTC
BEGIN:STANDARD
DTSTART:20250727T084701
TZOFFSETFROM:+0000
TZOFFSETTO:+0000
END:STANDARD
END:VTIMEZONE
BEGIN:VEVENT
UID:69e9dc85b5579
DTSTAMP:20260423T084701Z
SUMMARY:KONKURADO: Kooperation Leimbach Mitte\, Ausgabe Präqualifikationsu
 nterlagen 20.03.2026 - 20.03.2026
DESCRIPTION:Link zum Verfahren: https://konkurado.ch/en/kooperation-leimbac
 h-mitte
X-MICROSOFT-CDO-ALLDAYEVENT:TRUE
DTSTART;TZID=Europe/Zurich;VALUE=DATE:20260320
END:VEVENT
BEGIN:VEVENT
UID:69e9dc85b55fd
DTSTAMP:20260423T084701Z
SUMMARY:KONKURADO: Kooperation Leimbach Mitte\, Ausgabe Präqualifikationsu
 nterlagen 20.03.2026 - 20.03.2026
DESCRIPTION:Link zum Verfahren: https://konkurado.ch/en/kooperation-leimbac
 h-mitte
X-MICROSOFT-CDO-ALLDAYEVENT:TRUE
DTSTART;TZID=Europe/Zurich;VALUE=DATE:20260320
END:VEVENT
BEGIN:VEVENT
UID:69e9dc85b5642
DTSTAMP:20260423T084701Z
SUMMARY:KONKURADO: Kooperation Leimbach Mitte\, Upload Unterlagen (digital)
  inkl. Verfasserdaten 03.08.2026 - 09.11.2026
DESCRIPTION:Link zum Verfahren: https://konkurado.ch/en/kooperation-leimbac
 h-mitte
X-MICROSOFT-CDO-ALLDAYEVENT:TRUE
DTSTART;TZID=Europe/Zurich;VALUE=DATE:20260803
END:VEVENT
BEGIN:VEVENT
UID:69e9dc85b5679
DTSTAMP:20260423T084701Z
SUMMARY:KONKURADO: Kooperation Leimbach Mitte\, Upload Unterlagen (digital)
  inkl. Verfasserdaten 03.08.2026 - 09.11.2026
DESCRIPTION:Link zum Verfahren: https://konkurado.ch/en/kooperation-leimbac
 h-mitte
X-MICROSOFT-CDO-ALLDAYEVENT:TRUE
DTSTART;TZID=Europe/Zurich;VALUE=DATE:20261109
END:VEVENT
BEGIN:VEVENT
UID:69e9dc85b56c1
DTSTAMP:20260423T084701Z
SUMMARY:KONKURADO: Kooperation Leimbach Mitte\, Jurierung 01.12.2026 - 28.0
 2.2027
DESCRIPTION:Link zum Verfahren: https://konkurado.ch/en/kooperation-leimbac
 h-mitte
X-MICROSOFT-CDO-ALLDAYEVENT:TRUE
DTSTART;TZID=Europe/Zurich;VALUE=DATE:20261201
END:VEVENT
BEGIN:VEVENT
UID:69e9dc85b56e7
DTSTAMP:20260423T084701Z
SUMMARY:KONKURADO: Kooperation Leimbach Mitte\, Jurierung 01.12.2026 - 28.0
 2.2027
DESCRIPTION:Link zum Verfahren: https://konkurado.ch/en/kooperation-leimbac
 h-mitte
X-MICROSOFT-CDO-ALLDAYEVENT:TRUE
DTSTART;TZID=Europe/Zurich;VALUE=DATE:20270228
END:VEVENT
BEGIN:VEVENT
UID:69e9dc85b572d
DTSTAMP:20260423T084701Z
SUMMARY:KONKURADO: Kooperation Leimbach Mitte\, Upload Bewerbungsunterlagen
  (digital) 20.03.2026 - 21.04.2026
DESCRIPTION:Link zum Verfahren: https://konkurado.ch/en/kooperation-leimbac
 h-mitte
X-MICROSOFT-CDO-ALLDAYEVENT:TRUE
DTSTART;TZID=Europe/Zurich;VALUE=DATE:20260320
END:VEVENT
BEGIN:VEVENT
UID:69e9dc85b578d
DTSTAMP:20260423T084701Z
SUMMARY:KONKURADO: Kooperation Leimbach Mitte\, Upload Bewerbungsunterlagen
  (digital) 20.03.2026 - 21.04.2026
DESCRIPTION:Link zum Verfahren: https://konkurado.ch/en/kooperation-leimbac
 h-mitte
X-MICROSOFT-CDO-ALLDAYEVENT:TRUE
DTSTART;TZID=Europe/Zurich;VALUE=DATE:20260421
END:VEVENT
BEGIN:VEVENT
UID:69e9dc85b582f
DTSTAMP:20260423T084701Z
SUMMARY:KONKURADO: Kooperation Leimbach Mitte\, Versand Bewerbungsunterlage
 n (Papierform) bis 20.03.2026 - 22.04.2026
DESCRIPTION:Link zum Verfahren: https://konkurado.ch/en/kooperation-leimbac
 h-mitte
X-MICROSOFT-CDO-ALLDAYEVENT:TRUE
DTSTART;TZID=Europe/Zurich;VALUE=DATE:20260320
END:VEVENT
BEGIN:VEVENT
UID:69e9dc85b5873
DTSTAMP:20260423T084701Z
SUMMARY:KONKURADO: Kooperation Leimbach Mitte\, Versand Bewerbungsunterlage
 n (Papierform) bis 20.03.2026 - 22.04.2026
DESCRIPTION:Link zum Verfahren: https://konkurado.ch/en/kooperation-leimbac
 h-mitte
X-MICROSOFT-CDO-ALLDAYEVENT:TRUE
DTSTART;TZID=Europe/Zurich;VALUE=DATE:20260422
END:VEVENT
BEGIN:VEVENT
UID:69e9dc85b58dd
DTSTAMP:20260423T084701Z
SUMMARY:KONKURADO: Kooperation Leimbach Mitte\, Wettbewerbsausgabe 03.08.20
 26 - 09.11.2026
DESCRIPTION:Link zum Verfahren: https://konkurado.ch/en/kooperation-leimbac
 h-mitte
X-MICROSOFT-CDO-ALLDAYEVENT:TRUE
DTSTART;TZID=Europe/Zurich;VALUE=DATE:20260803
END:VEVENT
BEGIN:VEVENT
UID:69e9dc85b5907
DTSTAMP:20260423T084701Z
SUMMARY:KONKURADO: Kooperation Leimbach Mitte\, Wettbewerbsausgabe 03.08.20
 26 - 09.11.2026
DESCRIPTION:Link zum Verfahren: https://konkurado.ch/en/kooperation-leimbac
 h-mitte
X-MICROSOFT-CDO-ALLDAYEVENT:TRUE
DTSTART;TZID=Europe/Zurich;VALUE=DATE:20261109
END:VEVENT
BEGIN:VEVENT
UID:69e9dc85b5961
DTSTAMP:20260423T084701Z
SUMMARY:KONKURADO: Kooperation Leimbach Mitte\, Fragebeantwortung 22.08.202
 6 - 04.09.2026
DESCRIPTION:Link zum Verfahren: https://konkurado.ch/en/kooperation-leimbac
 h-mitte
X-MICROSOFT-CDO-ALLDAYEVENT:TRUE
DTSTART;TZID=Europe/Zurich;VALUE=DATE:20260822
END:VEVENT
BEGIN:VEVENT
UID:69e9dc85b59a5
DTSTAMP:20260423T084701Z
SUMMARY:KONKURADO: Kooperation Leimbach Mitte\, Fragebeantwortung 22.08.202
 6 - 04.09.2026
DESCRIPTION:Link zum Verfahren: https://konkurado.ch/en/kooperation-leimbac
 h-mitte
X-MICROSOFT-CDO-ALLDAYEVENT:TRUE
DTSTART;TZID=Europe/Zurich;VALUE=DATE:20260904
END:VEVENT
BEGIN:VEVENT
UID:69e9dc85b5a20
DTSTAMP:20260423T084701Z
SUMMARY:KONKURADO: Kooperation Leimbach Mitte\, Abgabe Unterlagen (Papierfo
 rm) 03.08.2026 - 10.11.2026
DESCRIPTION:Link zum Verfahren: https://konkurado.ch/en/kooperation-leimbac
 h-mitte
X-MICROSOFT-CDO-ALLDAYEVENT:TRUE
DTSTART;TZID=Europe/Zurich;VALUE=DATE:20260803
END:VEVENT
BEGIN:VEVENT
UID:69e9dc85b5a4c
DTSTAMP:20260423T084701Z
SUMMARY:KONKURADO: Kooperation Leimbach Mitte\, Abgabe Unterlagen (Papierfo
 rm) 03.08.2026 - 10.11.2026
DESCRIPTION:Link zum Verfahren: https://konkurado.ch/en/kooperation-leimbac
 h-mitte
X-MICROSOFT-CDO-ALLDAYEVENT:TRUE
DTSTART;TZID=Europe/Zurich;VALUE=DATE:20261110
END:VEVENT
BEGIN:VEVENT
UID:69e9dc85b5aa6
DTSTAMP:20260423T084701Z
SUMMARY:KONKURADO: Kooperation Leimbach Mitte\, Abgabe Modell 03.08.2026 - 
 24.11.2026
DESCRIPTION:Link zum Verfahren: https://konkurado.ch/en/kooperation-leimbac
 h-mitte
X-MICROSOFT-CDO-ALLDAYEVENT:TRUE
DTSTART;TZID=Europe/Zurich;VALUE=DATE:20260803
END:VEVENT
BEGIN:VEVENT
UID:69e9dc85b5acf
DTSTAMP:20260423T084701Z
SUMMARY:KONKURADO: Kooperation Leimbach Mitte\, Abgabe Modell 03.08.2026 - 
 24.11.2026
DESCRIPTION:Link zum Verfahren: https://konkurado.ch/en/kooperation-leimbac
 h-mitte
X-MICROSOFT-CDO-ALLDAYEVENT:TRUE
DTSTART;TZID=Europe/Zurich;VALUE=DATE:20261124
END:VEVENT
BEGIN:VEVENT
UID:69e9dc85b5b23
DTSTAMP:20260423T084701Z
SUMMARY:KONKURADO: Kooperation Leimbach Mitte\, Modellausgabe 03.08.2026 - 
 09.11.2026
DESCRIPTION:Link zum Verfahren: https://konkurado.ch/en/kooperation-leimbac
 h-mitte
X-MICROSOFT-CDO-ALLDAYEVENT:TRUE
DTSTART;TZID=Europe/Zurich;VALUE=DATE:20260803
END:VEVENT
BEGIN:VEVENT
UID:69e9dc85b5b4c
DTSTAMP:20260423T084701Z
SUMMARY:KONKURADO: Kooperation Leimbach Mitte\, Modellausgabe 03.08.2026 - 
 09.11.2026
DESCRIPTION:Link zum Verfahren: https://konkurado.ch/en/kooperation-leimbac
 h-mitte
X-MICROSOFT-CDO-ALLDAYEVENT:TRUE
DTSTART;TZID=Europe/Zurich;VALUE=DATE:20261109
END:VEVENT
BEGIN:VEVENT
UID:69e9dc85b5b89
DTSTAMP:20260423T084701Z
SUMMARY:KONKURADO: Kooperation Leimbach Mitte\, Fragestellung bis 03.08.202
 6 - 21.08.2026
DESCRIPTION:Link zum Verfahren: https://konkurado.ch/en/kooperation-leimbac
 h-mitte
X-MICROSOFT-CDO-ALLDAYEVENT:TRUE
DTSTART;TZID=Europe/Zurich;VALUE=DATE:20260803
END:VEVENT
BEGIN:VEVENT
UID:69e9dc85b5bed
DTSTAMP:20260423T084701Z
SUMMARY:KONKURADO: Kooperation Leimbach Mitte\, Fragestellung bis 03.08.202
 6 - 21.08.2026
DESCRIPTION:Link zum Verfahren: https://konkurado.ch/en/kooperation-leimbac
 h-mitte
X-MICROSOFT-CDO-ALLDAYEVENT:TRUE
DTSTART;TZID=Europe/Zurich;VALUE=DATE:20260821
END:VEVENT
END:VCALENDAR