BEGIN:VCALENDAR
VERSION:2.0
PRODID:spatie/icalendar-generator
NAME:Instandsetzung Kirche St. Arbogast\, Oberwinterthur
X-WR-CALNAME:Instandsetzung Kirche St. Arbogast\, Oberwinterthur
BEGIN:VTIMEZONE
TZID:Europe/Zurich
BEGIN:STANDARD
DTSTART:20241027T030000
TZOFFSETFROM:+0200
TZOFFSETTO:+0100
END:STANDARD
BEGIN:DAYLIGHT
DTSTART:20250330T010000
TZOFFSETFROM:+0100
TZOFFSETTO:+0200
END:DAYLIGHT
BEGIN:STANDARD
DTSTART:20251026T030000
TZOFFSETFROM:+0200
TZOFFSETTO:+0100
END:STANDARD
END:VTIMEZONE
BEGIN:VTIMEZONE
TZID:UTC
BEGIN:STANDARD
DTSTART:20250727T120150
TZOFFSETFROM:+0000
TZOFFSETTO:+0000
END:STANDARD
END:VTIMEZONE
BEGIN:VEVENT
UID:69ea0a2e058af
DTSTAMP:20260423T120150Z
SUMMARY:KONKURADO: Instandsetzung Kirche St. Arbogast\, Oberwinterthur\, Ei
 nreichen des Teilnahmeantrags 07.03.2025 - 03.04.2025
DESCRIPTION:Link zum Verfahren: https://konkurado.ch/en/instandsetzung-kirc
 he-st-arbogast-oberwinterthur
X-MICROSOFT-CDO-ALLDAYEVENT:TRUE
DTSTART;TZID=Europe/Zurich;VALUE=DATE:20250307
END:VEVENT
BEGIN:VEVENT
UID:69ea0a2e0593c
DTSTAMP:20260423T120150Z
SUMMARY:KONKURADO: Instandsetzung Kirche St. Arbogast\, Oberwinterthur\, Ei
 nreichen des Teilnahmeantrags 07.03.2025 - 03.04.2025
DESCRIPTION:Link zum Verfahren: https://konkurado.ch/en/instandsetzung-kirc
 he-st-arbogast-oberwinterthur
X-MICROSOFT-CDO-ALLDAYEVENT:TRUE
DTSTART;TZID=Europe/Zurich;VALUE=DATE:20250403
END:VEVENT
BEGIN:VEVENT
UID:69ea0a2e05977
DTSTAMP:20260423T120150Z
SUMMARY:KONKURADO: Instandsetzung Kirche St. Arbogast\, Oberwinterthur\, Ei
 nreichung des Angebots bis 15.04.2025 - 23.06.2025
DESCRIPTION:Link zum Verfahren: https://konkurado.ch/en/instandsetzung-kirc
 he-st-arbogast-oberwinterthur
X-MICROSOFT-CDO-ALLDAYEVENT:TRUE
DTSTART;TZID=Europe/Zurich;VALUE=DATE:20250415
END:VEVENT
BEGIN:VEVENT
UID:69ea0a2e0599e
DTSTAMP:20260423T120150Z
SUMMARY:KONKURADO: Instandsetzung Kirche St. Arbogast\, Oberwinterthur\, Ei
 nreichung des Angebots bis 15.04.2025 - 23.06.2025
DESCRIPTION:Link zum Verfahren: https://konkurado.ch/en/instandsetzung-kirc
 he-st-arbogast-oberwinterthur
X-MICROSOFT-CDO-ALLDAYEVENT:TRUE
DTSTART;TZID=Europe/Zurich;VALUE=DATE:20250623
END:VEVENT
END:VCALENDAR