BEGIN:VCALENDAR
VERSION:2.0
PRODID:spatie/icalendar-generator
NAME:Infrastructures de la mobilité douce secteur Ste-Marguerite\, Sion
X-WR-CALNAME:Infrastructures de la mobilité douce secteur Ste-Marguerite\,
  Sion
BEGIN:VTIMEZONE
TZID:Europe/Zurich
BEGIN:STANDARD
DTSTART:20241027T030000
TZOFFSETFROM:+0200
TZOFFSETTO:+0100
END:STANDARD
BEGIN:DAYLIGHT
DTSTART:20250330T010000
TZOFFSETFROM:+0100
TZOFFSETTO:+0200
END:DAYLIGHT
BEGIN:STANDARD
DTSTART:20251026T030000
TZOFFSETFROM:+0200
TZOFFSETTO:+0100
END:STANDARD
END:VTIMEZONE
BEGIN:VTIMEZONE
TZID:UTC
BEGIN:STANDARD
DTSTART:20250727T120347
TZOFFSETFROM:+0000
TZOFFSETTO:+0000
END:STANDARD
END:VTIMEZONE
BEGIN:VEVENT
UID:69ea0aa381b8d
DTSTAMP:20260423T120347Z
SUMMARY:KONKURADO: Infrastructures de la mobilité douce secteur Ste-Margue
 rite\, Sion\, Fragenbeantwortung bis 08.02.2025 - 21.02.2025
DESCRIPTION:Link zum Verfahren: https://konkurado.ch/en/infrastructures-de-
 la-mobilite-douce-secteur-ste-marguerite-sion
X-MICROSOFT-CDO-ALLDAYEVENT:TRUE
DTSTART;TZID=Europe/Zurich;VALUE=DATE:20250208
END:VEVENT
BEGIN:VEVENT
UID:69ea0aa381c36
DTSTAMP:20260423T120347Z
SUMMARY:KONKURADO: Infrastructures de la mobilité douce secteur Ste-Margue
 rite\, Sion\, Fragenbeantwortung bis 08.02.2025 - 21.02.2025
DESCRIPTION:Link zum Verfahren: https://konkurado.ch/en/infrastructures-de-
 la-mobilite-douce-secteur-ste-marguerite-sion
X-MICROSOFT-CDO-ALLDAYEVENT:TRUE
DTSTART;TZID=Europe/Zurich;VALUE=DATE:20250221
END:VEVENT
BEGIN:VEVENT
UID:69ea0aa381c93
DTSTAMP:20260423T120347Z
SUMMARY:KONKURADO: Infrastructures de la mobilité douce secteur Ste-Margue
 rite\, Sion\, Einreichung von Fragen bis 24.01.2025 - 07.02.2025
DESCRIPTION:Link zum Verfahren: https://konkurado.ch/en/infrastructures-de-
 la-mobilite-douce-secteur-ste-marguerite-sion
X-MICROSOFT-CDO-ALLDAYEVENT:TRUE
DTSTART;TZID=Europe/Zurich;VALUE=DATE:20250124
END:VEVENT
BEGIN:VEVENT
UID:69ea0aa381cd1
DTSTAMP:20260423T120347Z
SUMMARY:KONKURADO: Infrastructures de la mobilité douce secteur Ste-Margue
 rite\, Sion\, Einreichung von Fragen bis 24.01.2025 - 07.02.2025
DESCRIPTION:Link zum Verfahren: https://konkurado.ch/en/infrastructures-de-
 la-mobilite-douce-secteur-ste-marguerite-sion
X-MICROSOFT-CDO-ALLDAYEVENT:TRUE
DTSTART;TZID=Europe/Zurich;VALUE=DATE:20250207
END:VEVENT
BEGIN:VEVENT
UID:69ea0aa381d21
DTSTAMP:20260423T120347Z
SUMMARY:KONKURADO: Infrastructures de la mobilité douce secteur Ste-Margue
 rite\, Sion\, Wettbewerbsabgabe bis 24.01.2025 - 16.05.2025
DESCRIPTION:Link zum Verfahren: https://konkurado.ch/en/infrastructures-de-
 la-mobilite-douce-secteur-ste-marguerite-sion
X-MICROSOFT-CDO-ALLDAYEVENT:TRUE
DTSTART;TZID=Europe/Zurich;VALUE=DATE:20250124
END:VEVENT
BEGIN:VEVENT
UID:69ea0aa381d55
DTSTAMP:20260423T120347Z
SUMMARY:KONKURADO: Infrastructures de la mobilité douce secteur Ste-Margue
 rite\, Sion\, Wettbewerbsabgabe bis 24.01.2025 - 16.05.2025
DESCRIPTION:Link zum Verfahren: https://konkurado.ch/en/infrastructures-de-
 la-mobilite-douce-secteur-ste-marguerite-sion
X-MICROSOFT-CDO-ALLDAYEVENT:TRUE
DTSTART;TZID=Europe/Zurich;VALUE=DATE:20250516
END:VEVENT
END:VCALENDAR