BEGIN:VCALENDAR
VERSION:2.0
PRODID:spatie/icalendar-generator
NAME:«Hauptsitz Altdorf» Raiffeisenbank Urnerland
X-WR-CALNAME:«Hauptsitz Altdorf» Raiffeisenbank Urnerland
BEGIN:VTIMEZONE
TZID:Europe/Zurich
BEGIN:STANDARD
DTSTART:20241027T030000
TZOFFSETFROM:+0200
TZOFFSETTO:+0100
END:STANDARD
BEGIN:DAYLIGHT
DTSTART:20250330T010000
TZOFFSETFROM:+0100
TZOFFSETTO:+0200
END:DAYLIGHT
BEGIN:STANDARD
DTSTART:20251026T030000
TZOFFSETFROM:+0200
TZOFFSETTO:+0100
END:STANDARD
BEGIN:DAYLIGHT
DTSTART:20260329T010000
TZOFFSETFROM:+0100
TZOFFSETTO:+0200
END:DAYLIGHT
END:VTIMEZONE
BEGIN:VTIMEZONE
TZID:UTC
BEGIN:STANDARD
DTSTART:20250727T120231
TZOFFSETFROM:+0000
TZOFFSETTO:+0000
END:STANDARD
END:VTIMEZONE
BEGIN:VEVENT
UID:69ea0a57491f8
DTSTAMP:20260423T120231Z
SUMMARY:KONKURADO: «Hauptsitz Altdorf» Raiffeisenbank Urnerland\, Anmeldu
 ng/Abgabe Präqualifikationsunterlagen 27.06.2025 - 27.06.2025
DESCRIPTION:Link zum Verfahren: https://konkurado.ch/en/hauptsitz-altdorf-r
 aiffeisenbank-urnerland
X-MICROSOFT-CDO-ALLDAYEVENT:TRUE
DTSTART;TZID=Europe/Zurich;VALUE=DATE:20250627
END:VEVENT
BEGIN:VEVENT
UID:69ea0a5749286
DTSTAMP:20260423T120231Z
SUMMARY:KONKURADO: «Hauptsitz Altdorf» Raiffeisenbank Urnerland\, Anmeldu
 ng/Abgabe Präqualifikationsunterlagen 27.06.2025 - 27.06.2025
DESCRIPTION:Link zum Verfahren: https://konkurado.ch/en/hauptsitz-altdorf-r
 aiffeisenbank-urnerland
X-MICROSOFT-CDO-ALLDAYEVENT:TRUE
DTSTART;TZID=Europe/Zurich;VALUE=DATE:20250627
END:VEVENT
BEGIN:VEVENT
UID:69ea0a57492c7
DTSTAMP:20260423T120231Z
SUMMARY:KONKURADO: «Hauptsitz Altdorf» Raiffeisenbank Urnerland\, Frageru
 nde 13.06.2025 - 25.07.2025
DESCRIPTION:Link zum Verfahren: https://konkurado.ch/en/hauptsitz-altdorf-r
 aiffeisenbank-urnerland
X-MICROSOFT-CDO-ALLDAYEVENT:TRUE
DTSTART;TZID=Europe/Zurich;VALUE=DATE:20250613
END:VEVENT
BEGIN:VEVENT
UID:69ea0a57492f6
DTSTAMP:20260423T120231Z
SUMMARY:KONKURADO: «Hauptsitz Altdorf» Raiffeisenbank Urnerland\, Frageru
 nde 13.06.2025 - 25.07.2025
DESCRIPTION:Link zum Verfahren: https://konkurado.ch/en/hauptsitz-altdorf-r
 aiffeisenbank-urnerland
X-MICROSOFT-CDO-ALLDAYEVENT:TRUE
DTSTART;TZID=Europe/Zurich;VALUE=DATE:20250725
END:VEVENT
BEGIN:VEVENT
UID:69ea0a5749331
DTSTAMP:20260423T120231Z
SUMMARY:KONKURADO: «Hauptsitz Altdorf» Raiffeisenbank Urnerland\, Wettbew
 erbsabgabe/ Deadline Abgabe der Projektlösung 13.06.2025 - 03.10.2025
DESCRIPTION:Link zum Verfahren: https://konkurado.ch/en/hauptsitz-altdorf-r
 aiffeisenbank-urnerland
X-MICROSOFT-CDO-ALLDAYEVENT:TRUE
DTSTART;TZID=Europe/Zurich;VALUE=DATE:20250613
END:VEVENT
BEGIN:VEVENT
UID:69ea0a5749368
DTSTAMP:20260423T120231Z
SUMMARY:KONKURADO: «Hauptsitz Altdorf» Raiffeisenbank Urnerland\, Wettbew
 erbsabgabe/ Deadline Abgabe der Projektlösung 13.06.2025 - 03.10.2025
DESCRIPTION:Link zum Verfahren: https://konkurado.ch/en/hauptsitz-altdorf-r
 aiffeisenbank-urnerland
X-MICROSOFT-CDO-ALLDAYEVENT:TRUE
DTSTART;TZID=Europe/Zurich;VALUE=DATE:20251003
END:VEVENT
BEGIN:VEVENT
UID:69ea0a57493be
DTSTAMP:20260423T120231Z
SUMMARY:KONKURADO: «Hauptsitz Altdorf» Raiffeisenbank Urnerland\, Jurieru
 ng 01.11.2025 - 30.11.2025
DESCRIPTION:Link zum Verfahren: https://konkurado.ch/en/hauptsitz-altdorf-r
 aiffeisenbank-urnerland
X-MICROSOFT-CDO-ALLDAYEVENT:TRUE
DTSTART;TZID=Europe/Zurich;VALUE=DATE:20251101
END:VEVENT
BEGIN:VEVENT
UID:69ea0a57493e8
DTSTAMP:20260423T120231Z
SUMMARY:KONKURADO: «Hauptsitz Altdorf» Raiffeisenbank Urnerland\, Jurieru
 ng 01.11.2025 - 30.11.2025
DESCRIPTION:Link zum Verfahren: https://konkurado.ch/en/hauptsitz-altdorf-r
 aiffeisenbank-urnerland
X-MICROSOFT-CDO-ALLDAYEVENT:TRUE
DTSTART;TZID=Europe/Zurich;VALUE=DATE:20251130
END:VEVENT
BEGIN:VEVENT
UID:69ea0a5749598
DTSTAMP:20260423T120231Z
SUMMARY:KONKURADO: «Hauptsitz Altdorf» Raiffeisenbank Urnerland\, Auswahl
  der Teilnehmer 03.07.2025 - 03.07.2025
DESCRIPTION:Link zum Verfahren: https://konkurado.ch/en/hauptsitz-altdorf-r
 aiffeisenbank-urnerland
X-MICROSOFT-CDO-ALLDAYEVENT:TRUE
DTSTART;TZID=Europe/Zurich;VALUE=DATE:20250703
END:VEVENT
BEGIN:VEVENT
UID:69ea0a57495cf
DTSTAMP:20260423T120231Z
SUMMARY:KONKURADO: «Hauptsitz Altdorf» Raiffeisenbank Urnerland\, Auswahl
  der Teilnehmer 03.07.2025 - 03.07.2025
DESCRIPTION:Link zum Verfahren: https://konkurado.ch/en/hauptsitz-altdorf-r
 aiffeisenbank-urnerland
X-MICROSOFT-CDO-ALLDAYEVENT:TRUE
DTSTART;TZID=Europe/Zurich;VALUE=DATE:20250703
END:VEVENT
BEGIN:VEVENT
UID:69ea0a5749652
DTSTAMP:20260423T120231Z
SUMMARY:KONKURADO: «Hauptsitz Altdorf» Raiffeisenbank Urnerland\, Ausgabe
  Wettbewerb 11.07.2025 - 11.07.2025
DESCRIPTION:Link zum Verfahren: https://konkurado.ch/en/hauptsitz-altdorf-r
 aiffeisenbank-urnerland
X-MICROSOFT-CDO-ALLDAYEVENT:TRUE
DTSTART;TZID=Europe/Zurich;VALUE=DATE:20250711
END:VEVENT
BEGIN:VEVENT
UID:69ea0a574967a
DTSTAMP:20260423T120231Z
SUMMARY:KONKURADO: «Hauptsitz Altdorf» Raiffeisenbank Urnerland\, Ausgabe
  Wettbewerb 11.07.2025 - 11.07.2025
DESCRIPTION:Link zum Verfahren: https://konkurado.ch/en/hauptsitz-altdorf-r
 aiffeisenbank-urnerland
X-MICROSOFT-CDO-ALLDAYEVENT:TRUE
DTSTART;TZID=Europe/Zurich;VALUE=DATE:20250711
END:VEVENT
BEGIN:VEVENT
UID:69ea0a57496df
DTSTAMP:20260423T120231Z
SUMMARY:KONKURADO: «Hauptsitz Altdorf» Raiffeisenbank Urnerland\, Beantwo
 rtung der Fragen 01.08.2025 - 01.08.2025
DESCRIPTION:Link zum Verfahren: https://konkurado.ch/en/hauptsitz-altdorf-r
 aiffeisenbank-urnerland
X-MICROSOFT-CDO-ALLDAYEVENT:TRUE
DTSTART;TZID=Europe/Zurich;VALUE=DATE:20250801
END:VEVENT
BEGIN:VEVENT
UID:69ea0a5749706
DTSTAMP:20260423T120231Z
SUMMARY:KONKURADO: «Hauptsitz Altdorf» Raiffeisenbank Urnerland\, Beantwo
 rtung der Fragen 01.08.2025 - 01.08.2025
DESCRIPTION:Link zum Verfahren: https://konkurado.ch/en/hauptsitz-altdorf-r
 aiffeisenbank-urnerland
X-MICROSOFT-CDO-ALLDAYEVENT:TRUE
DTSTART;TZID=Europe/Zurich;VALUE=DATE:20250801
END:VEVENT
END:VCALENDAR