BEGIN:VCALENDAR
VERSION:2.0
PRODID:spatie/icalendar-generator
NAME:Gesamtsanierung und Erweiterung Schulanlage Zweien\, Deitingen
X-WR-CALNAME:Gesamtsanierung und Erweiterung Schulanlage Zweien\, Deitingen
BEGIN:VTIMEZONE
TZID:Europe/Zurich
BEGIN:STANDARD
DTSTART:20241027T030000
TZOFFSETFROM:+0200
TZOFFSETTO:+0100
END:STANDARD
BEGIN:DAYLIGHT
DTSTART:20250330T010000
TZOFFSETFROM:+0100
TZOFFSETTO:+0200
END:DAYLIGHT
BEGIN:STANDARD
DTSTART:20251026T030000
TZOFFSETFROM:+0200
TZOFFSETTO:+0100
END:STANDARD
BEGIN:DAYLIGHT
DTSTART:20260329T010000
TZOFFSETFROM:+0100
TZOFFSETTO:+0200
END:DAYLIGHT
END:VTIMEZONE
BEGIN:VTIMEZONE
TZID:UTC
BEGIN:STANDARD
DTSTART:20250727T120522
TZOFFSETFROM:+0000
TZOFFSETTO:+0000
END:STANDARD
END:VTIMEZONE
BEGIN:VEVENT
UID:69ea0b02a2823
DTSTAMP:20260423T120522Z
SUMMARY:KONKURADO: Gesamtsanierung und Erweiterung Schulanlage Zweien\, Dei
 tingen\, Einreichung der Teilnahmeanträge / Bewerbungen 04.04.2025 - 05.0
 5.2025
DESCRIPTION:Link zum Verfahren: https://konkurado.ch/en/gesamtsanierung-und
 -erweiterung-schulanlage-zweien-deitingen
X-MICROSOFT-CDO-ALLDAYEVENT:TRUE
DTSTART;TZID=Europe/Zurich;VALUE=DATE:20250404
END:VEVENT
BEGIN:VEVENT
UID:69ea0b02a288e
DTSTAMP:20260423T120522Z
SUMMARY:KONKURADO: Gesamtsanierung und Erweiterung Schulanlage Zweien\, Dei
 tingen\, Einreichung der Teilnahmeanträge / Bewerbungen 04.04.2025 - 05.0
 5.2025
DESCRIPTION:Link zum Verfahren: https://konkurado.ch/en/gesamtsanierung-und
 -erweiterung-schulanlage-zweien-deitingen
X-MICROSOFT-CDO-ALLDAYEVENT:TRUE
DTSTART;TZID=Europe/Zurich;VALUE=DATE:20250505
END:VEVENT
BEGIN:VEVENT
UID:69ea0b02a28ca
DTSTAMP:20260423T120522Z
SUMMARY:KONKURADO: Gesamtsanierung und Erweiterung Schulanlage Zweien\, Dei
 tingen\, Frist für Eingang schriftlicher Fragen 10.06.2025 - 25.06.2025
DESCRIPTION:Link zum Verfahren: https://konkurado.ch/en/gesamtsanierung-und
 -erweiterung-schulanlage-zweien-deitingen
X-MICROSOFT-CDO-ALLDAYEVENT:TRUE
DTSTART;TZID=Europe/Zurich;VALUE=DATE:20250610
END:VEVENT
BEGIN:VEVENT
UID:69ea0b02a28f0
DTSTAMP:20260423T120522Z
SUMMARY:KONKURADO: Gesamtsanierung und Erweiterung Schulanlage Zweien\, Dei
 tingen\, Frist für Eingang schriftlicher Fragen 10.06.2025 - 25.06.2025
DESCRIPTION:Link zum Verfahren: https://konkurado.ch/en/gesamtsanierung-und
 -erweiterung-schulanlage-zweien-deitingen
X-MICROSOFT-CDO-ALLDAYEVENT:TRUE
DTSTART;TZID=Europe/Zurich;VALUE=DATE:20250625
END:VEVENT
BEGIN:VEVENT
UID:69ea0b02a2921
DTSTAMP:20260423T120522Z
SUMMARY:KONKURADO: Gesamtsanierung und Erweiterung Schulanlage Zweien\, Dei
 tingen\, Frist für Eingang Projektvorschlag (Dokumente / Pläne) 10.06.20
 25 - 10.10.2025
DESCRIPTION:Link zum Verfahren: https://konkurado.ch/en/gesamtsanierung-und
 -erweiterung-schulanlage-zweien-deitingen
X-MICROSOFT-CDO-ALLDAYEVENT:TRUE
DTSTART;TZID=Europe/Zurich;VALUE=DATE:20250610
END:VEVENT
BEGIN:VEVENT
UID:69ea0b02a2950
DTSTAMP:20260423T120522Z
SUMMARY:KONKURADO: Gesamtsanierung und Erweiterung Schulanlage Zweien\, Dei
 tingen\, Frist für Eingang Projektvorschlag (Dokumente / Pläne) 10.06.20
 25 - 10.10.2025
DESCRIPTION:Link zum Verfahren: https://konkurado.ch/en/gesamtsanierung-und
 -erweiterung-schulanlage-zweien-deitingen
X-MICROSOFT-CDO-ALLDAYEVENT:TRUE
DTSTART;TZID=Europe/Zurich;VALUE=DATE:20251010
END:VEVENT
BEGIN:VEVENT
UID:69ea0b02a2a60
DTSTAMP:20260423T120522Z
SUMMARY:KONKURADO: Gesamtsanierung und Erweiterung Schulanlage Zweien\, Dei
 tingen\, Einreichung Teilnahmebestätigung 01.07.2025 - 10.06.2025
DESCRIPTION:Link zum Verfahren: https://konkurado.ch/en/gesamtsanierung-und
 -erweiterung-schulanlage-zweien-deitingen
X-MICROSOFT-CDO-ALLDAYEVENT:TRUE
DTSTART;TZID=Europe/Zurich;VALUE=DATE:20250701
END:VEVENT
BEGIN:VEVENT
UID:69ea0b02a2a98
DTSTAMP:20260423T120522Z
SUMMARY:KONKURADO: Gesamtsanierung und Erweiterung Schulanlage Zweien\, Dei
 tingen\, Einreichung Teilnahmebestätigung 01.07.2025 - 10.06.2025
DESCRIPTION:Link zum Verfahren: https://konkurado.ch/en/gesamtsanierung-und
 -erweiterung-schulanlage-zweien-deitingen
X-MICROSOFT-CDO-ALLDAYEVENT:TRUE
DTSTART;TZID=Europe/Zurich;VALUE=DATE:20250610
END:VEVENT
BEGIN:VEVENT
UID:69ea0b02a2b02
DTSTAMP:20260423T120522Z
SUMMARY:KONKURADO: Gesamtsanierung und Erweiterung Schulanlage Zweien\, Dei
 tingen\, Ausgabe Planungsgrundlagen 10.06.2025 - 11.06.2025
DESCRIPTION:Link zum Verfahren: https://konkurado.ch/en/gesamtsanierung-und
 -erweiterung-schulanlage-zweien-deitingen
X-MICROSOFT-CDO-ALLDAYEVENT:TRUE
DTSTART;TZID=Europe/Zurich;VALUE=DATE:20250610
END:VEVENT
BEGIN:VEVENT
UID:69ea0b02a2b28
DTSTAMP:20260423T120522Z
SUMMARY:KONKURADO: Gesamtsanierung und Erweiterung Schulanlage Zweien\, Dei
 tingen\, Ausgabe Planungsgrundlagen 10.06.2025 - 11.06.2025
DESCRIPTION:Link zum Verfahren: https://konkurado.ch/en/gesamtsanierung-und
 -erweiterung-schulanlage-zweien-deitingen
X-MICROSOFT-CDO-ALLDAYEVENT:TRUE
DTSTART;TZID=Europe/Zurich;VALUE=DATE:20250611
END:VEVENT
BEGIN:VEVENT
UID:69ea0b02a2b7e
DTSTAMP:20260423T120522Z
SUMMARY:KONKURADO: Gesamtsanierung und Erweiterung Schulanlage Zweien\, Dei
 tingen\, Ausgabe Modellgrundlage ab 11.06.2025 - 24.10.2025
DESCRIPTION:Link zum Verfahren: https://konkurado.ch/en/gesamtsanierung-und
 -erweiterung-schulanlage-zweien-deitingen
X-MICROSOFT-CDO-ALLDAYEVENT:TRUE
DTSTART;TZID=Europe/Zurich;VALUE=DATE:20250611
END:VEVENT
BEGIN:VEVENT
UID:69ea0b02a2ba4
DTSTAMP:20260423T120522Z
SUMMARY:KONKURADO: Gesamtsanierung und Erweiterung Schulanlage Zweien\, Dei
 tingen\, Ausgabe Modellgrundlage ab 11.06.2025 - 24.10.2025
DESCRIPTION:Link zum Verfahren: https://konkurado.ch/en/gesamtsanierung-und
 -erweiterung-schulanlage-zweien-deitingen
X-MICROSOFT-CDO-ALLDAYEVENT:TRUE
DTSTART;TZID=Europe/Zurich;VALUE=DATE:20251024
END:VEVENT
BEGIN:VEVENT
UID:69ea0b02a2bf8
DTSTAMP:20260423T120522Z
SUMMARY:KONKURADO: Gesamtsanierung und Erweiterung Schulanlage Zweien\, Dei
 tingen\, Begehung 18.06.2025 - 18.06.2025
DESCRIPTION:Link zum Verfahren: https://konkurado.ch/en/gesamtsanierung-und
 -erweiterung-schulanlage-zweien-deitingen
X-MICROSOFT-CDO-ALLDAYEVENT:TRUE
DTSTART;TZID=Europe/Zurich;VALUE=DATE:20250618
END:VEVENT
BEGIN:VEVENT
UID:69ea0b02a2c1e
DTSTAMP:20260423T120522Z
SUMMARY:KONKURADO: Gesamtsanierung und Erweiterung Schulanlage Zweien\, Dei
 tingen\, Begehung 18.06.2025 - 18.06.2025
DESCRIPTION:Link zum Verfahren: https://konkurado.ch/en/gesamtsanierung-und
 -erweiterung-schulanlage-zweien-deitingen
X-MICROSOFT-CDO-ALLDAYEVENT:TRUE
DTSTART;TZID=Europe/Zurich;VALUE=DATE:20250618
END:VEVENT
BEGIN:VEVENT
UID:69ea0b02a2c6f
DTSTAMP:20260423T120522Z
SUMMARY:KONKURADO: Gesamtsanierung und Erweiterung Schulanlage Zweien\, Dei
 tingen\, Versand der Beantwortung aller gesammelten Fragen 10.06.2025 - 07
 .07.2025
DESCRIPTION:Link zum Verfahren: https://konkurado.ch/en/gesamtsanierung-und
 -erweiterung-schulanlage-zweien-deitingen
X-MICROSOFT-CDO-ALLDAYEVENT:TRUE
DTSTART;TZID=Europe/Zurich;VALUE=DATE:20250610
END:VEVENT
BEGIN:VEVENT
UID:69ea0b02a2c94
DTSTAMP:20260423T120522Z
SUMMARY:KONKURADO: Gesamtsanierung und Erweiterung Schulanlage Zweien\, Dei
 tingen\, Versand der Beantwortung aller gesammelten Fragen 10.06.2025 - 07
 .07.2025
DESCRIPTION:Link zum Verfahren: https://konkurado.ch/en/gesamtsanierung-und
 -erweiterung-schulanlage-zweien-deitingen
X-MICROSOFT-CDO-ALLDAYEVENT:TRUE
DTSTART;TZID=Europe/Zurich;VALUE=DATE:20250707
END:VEVENT
BEGIN:VEVENT
UID:69ea0b02a2ce5
DTSTAMP:20260423T120522Z
SUMMARY:KONKURADO: Gesamtsanierung und Erweiterung Schulanlage Zweien\, Dei
 tingen\, Frist für Eingang Modelle 11.06.2025 - 24.10.2025
DESCRIPTION:Link zum Verfahren: https://konkurado.ch/en/gesamtsanierung-und
 -erweiterung-schulanlage-zweien-deitingen
X-MICROSOFT-CDO-ALLDAYEVENT:TRUE
DTSTART;TZID=Europe/Zurich;VALUE=DATE:20250611
END:VEVENT
BEGIN:VEVENT
UID:69ea0b02a2d0b
DTSTAMP:20260423T120522Z
SUMMARY:KONKURADO: Gesamtsanierung und Erweiterung Schulanlage Zweien\, Dei
 tingen\, Frist für Eingang Modelle 11.06.2025 - 24.10.2025
DESCRIPTION:Link zum Verfahren: https://konkurado.ch/en/gesamtsanierung-und
 -erweiterung-schulanlage-zweien-deitingen
X-MICROSOFT-CDO-ALLDAYEVENT:TRUE
DTSTART;TZID=Europe/Zurich;VALUE=DATE:20251024
END:VEVENT
END:VCALENDAR