BEGIN:VCALENDAR
VERSION:2.0
PRODID:spatie/icalendar-generator
NAME:Gesamtsanierung Gemeindehaus Fällanden
X-WR-CALNAME:Gesamtsanierung Gemeindehaus Fällanden
BEGIN:VTIMEZONE
TZID:Europe/Zurich
BEGIN:DAYLIGHT
DTSTART:20240331T010000
TZOFFSETFROM:+0100
TZOFFSETTO:+0200
END:DAYLIGHT
BEGIN:STANDARD
DTSTART:20241027T030000
TZOFFSETFROM:+0200
TZOFFSETTO:+0100
END:STANDARD
BEGIN:DAYLIGHT
DTSTART:20250330T010000
TZOFFSETFROM:+0100
TZOFFSETTO:+0200
END:DAYLIGHT
BEGIN:STANDARD
DTSTART:20251026T030000
TZOFFSETFROM:+0200
TZOFFSETTO:+0100
END:STANDARD
END:VTIMEZONE
BEGIN:VTIMEZONE
TZID:UTC
BEGIN:STANDARD
DTSTART:20250727T115328
TZOFFSETFROM:+0000
TZOFFSETTO:+0000
END:STANDARD
END:VTIMEZONE
BEGIN:VEVENT
UID:69ea0838d42ba
DTSTAMP:20260423T115328Z
SUMMARY:KONKURADO: Gesamtsanierung Gemeindehaus Fällanden\, Frist Eingabe 
 Bewerbungen 26.11.2024 - 14.02.2025
DESCRIPTION:Link zum Verfahren: https://konkurado.ch/en/gesamtsanierung-gem
 eindehaus-fallanden
X-MICROSOFT-CDO-ALLDAYEVENT:TRUE
DTSTART;TZID=Europe/Zurich;VALUE=DATE:20241126
END:VEVENT
BEGIN:VEVENT
UID:69ea0838d4374
DTSTAMP:20260423T115328Z
SUMMARY:KONKURADO: Gesamtsanierung Gemeindehaus Fällanden\, Frist Eingabe 
 Bewerbungen 26.11.2024 - 14.02.2025
DESCRIPTION:Link zum Verfahren: https://konkurado.ch/en/gesamtsanierung-gem
 eindehaus-fallanden
X-MICROSOFT-CDO-ALLDAYEVENT:TRUE
DTSTART;TZID=Europe/Zurich;VALUE=DATE:20250214
END:VEVENT
BEGIN:VEVENT
UID:69ea0838d452c
DTSTAMP:20260423T115328Z
SUMMARY:KONKURADO: Gesamtsanierung Gemeindehaus Fällanden\, Fragebeantwort
 ung Präqualifikation 09.01.2025 - 22.01.2025
DESCRIPTION:Link zum Verfahren: https://konkurado.ch/en/gesamtsanierung-gem
 eindehaus-fallanden
X-MICROSOFT-CDO-ALLDAYEVENT:TRUE
DTSTART;TZID=Europe/Zurich;VALUE=DATE:20250109
END:VEVENT
BEGIN:VEVENT
UID:69ea0838d4571
DTSTAMP:20260423T115328Z
SUMMARY:KONKURADO: Gesamtsanierung Gemeindehaus Fällanden\, Fragebeantwort
 ung Präqualifikation 09.01.2025 - 22.01.2025
DESCRIPTION:Link zum Verfahren: https://konkurado.ch/en/gesamtsanierung-gem
 eindehaus-fallanden
X-MICROSOFT-CDO-ALLDAYEVENT:TRUE
DTSTART;TZID=Europe/Zurich;VALUE=DATE:20250122
END:VEVENT
BEGIN:VEVENT
UID:69ea0838d45c9
DTSTAMP:20260423T115328Z
SUMMARY:KONKURADO: Gesamtsanierung Gemeindehaus Fällanden\, Eingabe Fragen
  26.11.2024 - 08.01.2025
DESCRIPTION:Link zum Verfahren: https://konkurado.ch/en/gesamtsanierung-gem
 eindehaus-fallanden
X-MICROSOFT-CDO-ALLDAYEVENT:TRUE
DTSTART;TZID=Europe/Zurich;VALUE=DATE:20241126
END:VEVENT
BEGIN:VEVENT
UID:69ea0838d4606
DTSTAMP:20260423T115328Z
SUMMARY:KONKURADO: Gesamtsanierung Gemeindehaus Fällanden\, Eingabe Fragen
  26.11.2024 - 08.01.2025
DESCRIPTION:Link zum Verfahren: https://konkurado.ch/en/gesamtsanierung-gem
 eindehaus-fallanden
X-MICROSOFT-CDO-ALLDAYEVENT:TRUE
DTSTART;TZID=Europe/Zurich;VALUE=DATE:20250108
END:VEVENT
BEGIN:VEVENT
UID:69ea0838d463d
DTSTAMP:20260423T115328Z
SUMMARY:KONKURADO: Gesamtsanierung Gemeindehaus Fällanden\, Schlussabgabe 
 09.04.2025 - 10.06.2025
DESCRIPTION:Link zum Verfahren: https://konkurado.ch/en/gesamtsanierung-gem
 eindehaus-fallanden
X-MICROSOFT-CDO-ALLDAYEVENT:TRUE
DTSTART;TZID=Europe/Zurich;VALUE=DATE:20250409
END:VEVENT
BEGIN:VEVENT
UID:69ea0838d4663
DTSTAMP:20260423T115328Z
SUMMARY:KONKURADO: Gesamtsanierung Gemeindehaus Fällanden\, Schlussabgabe 
 09.04.2025 - 10.06.2025
DESCRIPTION:Link zum Verfahren: https://konkurado.ch/en/gesamtsanierung-gem
 eindehaus-fallanden
X-MICROSOFT-CDO-ALLDAYEVENT:TRUE
DTSTART;TZID=Europe/Zurich;VALUE=DATE:20250610
END:VEVENT
BEGIN:VEVENT
UID:69ea0838d46a2
DTSTAMP:20260423T115328Z
SUMMARY:KONKURADO: Gesamtsanierung Gemeindehaus Fällanden\, Präsentatione
 n der Teams\; Beurteilung und Zuschlagsentscheid 25.06.2025 - 25.06.2025
DESCRIPTION:Link zum Verfahren: https://konkurado.ch/en/gesamtsanierung-gem
 eindehaus-fallanden
X-MICROSOFT-CDO-ALLDAYEVENT:TRUE
DTSTART;TZID=Europe/Zurich;VALUE=DATE:20250625
END:VEVENT
BEGIN:VEVENT
UID:69ea0838d46c8
DTSTAMP:20260423T115328Z
SUMMARY:KONKURADO: Gesamtsanierung Gemeindehaus Fällanden\, Präsentatione
 n der Teams\; Beurteilung und Zuschlagsentscheid 25.06.2025 - 25.06.2025
DESCRIPTION:Link zum Verfahren: https://konkurado.ch/en/gesamtsanierung-gem
 eindehaus-fallanden
X-MICROSOFT-CDO-ALLDAYEVENT:TRUE
DTSTART;TZID=Europe/Zurich;VALUE=DATE:20250625
END:VEVENT
BEGIN:VEVENT
UID:69ea0838d472b
DTSTAMP:20260423T115328Z
SUMMARY:KONKURADO: Gesamtsanierung Gemeindehaus Fällanden\, Publikation Se
 lektion Teams 17.03.2025 - 17.03.2025
DESCRIPTION:Link zum Verfahren: https://konkurado.ch/en/gesamtsanierung-gem
 eindehaus-fallanden
X-MICROSOFT-CDO-ALLDAYEVENT:TRUE
DTSTART;TZID=Europe/Zurich;VALUE=DATE:20250317
END:VEVENT
BEGIN:VEVENT
UID:69ea0838d4752
DTSTAMP:20260423T115328Z
SUMMARY:KONKURADO: Gesamtsanierung Gemeindehaus Fällanden\, Publikation Se
 lektion Teams 17.03.2025 - 17.03.2025
DESCRIPTION:Link zum Verfahren: https://konkurado.ch/en/gesamtsanierung-gem
 eindehaus-fallanden
X-MICROSOFT-CDO-ALLDAYEVENT:TRUE
DTSTART;TZID=Europe/Zurich;VALUE=DATE:20250317
END:VEVENT
BEGIN:VEVENT
UID:69ea0838d47a7
DTSTAMP:20260423T115328Z
SUMMARY:KONKURADO: Gesamtsanierung Gemeindehaus Fällanden\, Beschwerdefris
 t 06.04.2025 - 06.04.2025
DESCRIPTION:Link zum Verfahren: https://konkurado.ch/en/gesamtsanierung-gem
 eindehaus-fallanden
X-MICROSOFT-CDO-ALLDAYEVENT:TRUE
DTSTART;TZID=Europe/Zurich;VALUE=DATE:20250406
END:VEVENT
BEGIN:VEVENT
UID:69ea0838d47ce
DTSTAMP:20260423T115328Z
SUMMARY:KONKURADO: Gesamtsanierung Gemeindehaus Fällanden\, Beschwerdefris
 t 06.04.2025 - 06.04.2025
DESCRIPTION:Link zum Verfahren: https://konkurado.ch/en/gesamtsanierung-gem
 eindehaus-fallanden
X-MICROSOFT-CDO-ALLDAYEVENT:TRUE
DTSTART;TZID=Europe/Zurich;VALUE=DATE:20250406
END:VEVENT
BEGIN:VEVENT
UID:69ea0838d4821
DTSTAMP:20260423T115328Z
SUMMARY:KONKURADO: Gesamtsanierung Gemeindehaus Fällanden\, Start Stufe 2 
 (Versand Unterlagen) 09.04.2025 - 09.04.2025
DESCRIPTION:Link zum Verfahren: https://konkurado.ch/en/gesamtsanierung-gem
 eindehaus-fallanden
X-MICROSOFT-CDO-ALLDAYEVENT:TRUE
DTSTART;TZID=Europe/Zurich;VALUE=DATE:20250409
END:VEVENT
BEGIN:VEVENT
UID:69ea0838d485b
DTSTAMP:20260423T115328Z
SUMMARY:KONKURADO: Gesamtsanierung Gemeindehaus Fällanden\, Start Stufe 2 
 (Versand Unterlagen) 09.04.2025 - 09.04.2025
DESCRIPTION:Link zum Verfahren: https://konkurado.ch/en/gesamtsanierung-gem
 eindehaus-fallanden
X-MICROSOFT-CDO-ALLDAYEVENT:TRUE
DTSTART;TZID=Europe/Zurich;VALUE=DATE:20250409
END:VEVENT
BEGIN:VEVENT
UID:69ea0838d48a3
DTSTAMP:20260423T115328Z
SUMMARY:KONKURADO: Gesamtsanierung Gemeindehaus Fällanden\, Eingabe Fragen
  09.04.2025 - 21.04.2025
DESCRIPTION:Link zum Verfahren: https://konkurado.ch/en/gesamtsanierung-gem
 eindehaus-fallanden
X-MICROSOFT-CDO-ALLDAYEVENT:TRUE
DTSTART;TZID=Europe/Zurich;VALUE=DATE:20250409
END:VEVENT
BEGIN:VEVENT
UID:69ea0838d48da
DTSTAMP:20260423T115328Z
SUMMARY:KONKURADO: Gesamtsanierung Gemeindehaus Fällanden\, Eingabe Fragen
  09.04.2025 - 21.04.2025
DESCRIPTION:Link zum Verfahren: https://konkurado.ch/en/gesamtsanierung-gem
 eindehaus-fallanden
X-MICROSOFT-CDO-ALLDAYEVENT:TRUE
DTSTART;TZID=Europe/Zurich;VALUE=DATE:20250421
END:VEVENT
BEGIN:VEVENT
UID:69ea0838d4982
DTSTAMP:20260423T115328Z
SUMMARY:KONKURADO: Gesamtsanierung Gemeindehaus Fällanden\, Fragebeantwort
 ung 22.04.2025 - 30.04.2025
DESCRIPTION:Link zum Verfahren: https://konkurado.ch/en/gesamtsanierung-gem
 eindehaus-fallanden
X-MICROSOFT-CDO-ALLDAYEVENT:TRUE
DTSTART;TZID=Europe/Zurich;VALUE=DATE:20250422
END:VEVENT
BEGIN:VEVENT
UID:69ea0838d49c4
DTSTAMP:20260423T115328Z
SUMMARY:KONKURADO: Gesamtsanierung Gemeindehaus Fällanden\, Fragebeantwort
 ung 22.04.2025 - 30.04.2025
DESCRIPTION:Link zum Verfahren: https://konkurado.ch/en/gesamtsanierung-gem
 eindehaus-fallanden
X-MICROSOFT-CDO-ALLDAYEVENT:TRUE
DTSTART;TZID=Europe/Zurich;VALUE=DATE:20250430
END:VEVENT
END:VCALENDAR