BEGIN:VCALENDAR
VERSION:2.0
PRODID:spatie/icalendar-generator
NAME:Gesamtleistungswettbewerb - Primarschulhaus Steinmaur
X-WR-CALNAME:Gesamtleistungswettbewerb - Primarschulhaus Steinmaur
BEGIN:VTIMEZONE
TZID:Europe/Zurich
BEGIN:STANDARD
DTSTART:20251026T030000
TZOFFSETFROM:+0200
TZOFFSETTO:+0100
END:STANDARD
BEGIN:DAYLIGHT
DTSTART:20260329T010000
TZOFFSETFROM:+0100
TZOFFSETTO:+0200
END:DAYLIGHT
BEGIN:STANDARD
DTSTART:20261025T030000
TZOFFSETFROM:+0200
TZOFFSETTO:+0100
END:STANDARD
BEGIN:DAYLIGHT
DTSTART:20270328T010000
TZOFFSETFROM:+0100
TZOFFSETTO:+0200
END:DAYLIGHT
END:VTIMEZONE
BEGIN:VTIMEZONE
TZID:UTC
BEGIN:STANDARD
DTSTART:20250727T085245
TZOFFSETFROM:+0000
TZOFFSETTO:+0000
END:STANDARD
END:VTIMEZONE
BEGIN:VEVENT
UID:69e9dddd893ca
DTSTAMP:20260423T085245Z
SUMMARY:KONKURADO: Gesamtleistungswettbewerb - Primarschulhaus Steinmaur\, 
 Fragerunde\, einreichen bis 30.04.2026 - 30.04.2026
DESCRIPTION:Link zum Verfahren: https://konkurado.ch/en/gesamtleistungswett
 bewerb-primarschulhaus-steinmaur
X-MICROSOFT-CDO-ALLDAYEVENT:TRUE
DTSTART;TZID=Europe/Zurich;VALUE=DATE:20260430
END:VEVENT
BEGIN:VEVENT
UID:69e9dddd894ab
DTSTAMP:20260423T085245Z
SUMMARY:KONKURADO: Gesamtleistungswettbewerb - Primarschulhaus Steinmaur\, 
 Fragerunde\, einreichen bis 30.04.2026 - 30.04.2026
DESCRIPTION:Link zum Verfahren: https://konkurado.ch/en/gesamtleistungswett
 bewerb-primarschulhaus-steinmaur
X-MICROSOFT-CDO-ALLDAYEVENT:TRUE
DTSTART;TZID=Europe/Zurich;VALUE=DATE:20260430
END:VEVENT
BEGIN:VEVENT
UID:69e9dddd89540
DTSTAMP:20260423T085245Z
SUMMARY:KONKURADO: Gesamtleistungswettbewerb - Primarschulhaus Steinmaur\, 
 Einreichen des Teilnahmeantrags 11.05.2026 - 11.05.2026
DESCRIPTION:Link zum Verfahren: https://konkurado.ch/en/gesamtleistungswett
 bewerb-primarschulhaus-steinmaur
X-MICROSOFT-CDO-ALLDAYEVENT:TRUE
DTSTART;TZID=Europe/Zurich;VALUE=DATE:20260511
END:VEVENT
BEGIN:VEVENT
UID:69e9dddd8957c
DTSTAMP:20260423T085245Z
SUMMARY:KONKURADO: Gesamtleistungswettbewerb - Primarschulhaus Steinmaur\, 
 Einreichen des Teilnahmeantrags 11.05.2026 - 11.05.2026
DESCRIPTION:Link zum Verfahren: https://konkurado.ch/en/gesamtleistungswett
 bewerb-primarschulhaus-steinmaur
X-MICROSOFT-CDO-ALLDAYEVENT:TRUE
DTSTART;TZID=Europe/Zurich;VALUE=DATE:20260511
END:VEVENT
BEGIN:VEVENT
UID:69e9dddd895ec
DTSTAMP:20260423T085245Z
SUMMARY:KONKURADO: Gesamtleistungswettbewerb - Primarschulhaus Steinmaur\, 
 Vorgesehene Frist für die Einreichung des Angebots 21.08.2026 - 21.08.202
 6
DESCRIPTION:Link zum Verfahren: https://konkurado.ch/en/gesamtleistungswett
 bewerb-primarschulhaus-steinmaur
X-MICROSOFT-CDO-ALLDAYEVENT:TRUE
DTSTART;TZID=Europe/Zurich;VALUE=DATE:20260821
END:VEVENT
BEGIN:VEVENT
UID:69e9dddd89620
DTSTAMP:20260423T085245Z
SUMMARY:KONKURADO: Gesamtleistungswettbewerb - Primarschulhaus Steinmaur\, 
 Vorgesehene Frist für die Einreichung des Angebots 21.08.2026 - 21.08.202
 6
DESCRIPTION:Link zum Verfahren: https://konkurado.ch/en/gesamtleistungswett
 bewerb-primarschulhaus-steinmaur
X-MICROSOFT-CDO-ALLDAYEVENT:TRUE
DTSTART;TZID=Europe/Zurich;VALUE=DATE:20260821
END:VEVENT
BEGIN:VEVENT
UID:69e9dddd8967d
DTSTAMP:20260423T085245Z
SUMMARY:KONKURADO: Gesamtleistungswettbewerb - Primarschulhaus Steinmaur\, 
 Verfügbarkeit der Ausschreibungsunterlagen 03.04.2026 - 10.05.2026
DESCRIPTION:Link zum Verfahren: https://konkurado.ch/en/gesamtleistungswett
 bewerb-primarschulhaus-steinmaur
X-MICROSOFT-CDO-ALLDAYEVENT:TRUE
DTSTART;TZID=Europe/Zurich;VALUE=DATE:20260403
END:VEVENT
BEGIN:VEVENT
UID:69e9dddd896a8
DTSTAMP:20260423T085245Z
SUMMARY:KONKURADO: Gesamtleistungswettbewerb - Primarschulhaus Steinmaur\, 
 Verfügbarkeit der Ausschreibungsunterlagen 03.04.2026 - 10.05.2026
DESCRIPTION:Link zum Verfahren: https://konkurado.ch/en/gesamtleistungswett
 bewerb-primarschulhaus-steinmaur
X-MICROSOFT-CDO-ALLDAYEVENT:TRUE
DTSTART;TZID=Europe/Zurich;VALUE=DATE:20260510
END:VEVENT
BEGIN:VEVENT
UID:69e9dddd896ff
DTSTAMP:20260423T085245Z
SUMMARY:KONKURADO: Gesamtleistungswettbewerb - Primarschulhaus Steinmaur\, 
 Bestimmung der Teilnehmer 29.05.2026 - 29.05.2026
DESCRIPTION:Link zum Verfahren: https://konkurado.ch/en/gesamtleistungswett
 bewerb-primarschulhaus-steinmaur
X-MICROSOFT-CDO-ALLDAYEVENT:TRUE
DTSTART;TZID=Europe/Zurich;VALUE=DATE:20260529
END:VEVENT
BEGIN:VEVENT
UID:69e9dddd89728
DTSTAMP:20260423T085245Z
SUMMARY:KONKURADO: Gesamtleistungswettbewerb - Primarschulhaus Steinmaur\, 
 Bestimmung der Teilnehmer 29.05.2026 - 29.05.2026
DESCRIPTION:Link zum Verfahren: https://konkurado.ch/en/gesamtleistungswett
 bewerb-primarschulhaus-steinmaur
X-MICROSOFT-CDO-ALLDAYEVENT:TRUE
DTSTART;TZID=Europe/Zurich;VALUE=DATE:20260529
END:VEVENT
BEGIN:VEVENT
UID:69e9dddd89799
DTSTAMP:20260423T085245Z
SUMMARY:KONKURADO: Gesamtleistungswettbewerb - Primarschulhaus Steinmaur\, 
 Abgabe Modell Stufe 1 28.08.2026 - 28.08.2026
DESCRIPTION:Link zum Verfahren: https://konkurado.ch/en/gesamtleistungswett
 bewerb-primarschulhaus-steinmaur
X-MICROSOFT-CDO-ALLDAYEVENT:TRUE
DTSTART;TZID=Europe/Zurich;VALUE=DATE:20260828
END:VEVENT
BEGIN:VEVENT
UID:69e9dddd897c3
DTSTAMP:20260423T085245Z
SUMMARY:KONKURADO: Gesamtleistungswettbewerb - Primarschulhaus Steinmaur\, 
 Abgabe Modell Stufe 1 28.08.2026 - 28.08.2026
DESCRIPTION:Link zum Verfahren: https://konkurado.ch/en/gesamtleistungswett
 bewerb-primarschulhaus-steinmaur
X-MICROSOFT-CDO-ALLDAYEVENT:TRUE
DTSTART;TZID=Europe/Zurich;VALUE=DATE:20260828
END:VEVENT
BEGIN:VEVENT
UID:69e9dddd8981f
DTSTAMP:20260423T085245Z
SUMMARY:KONKURADO: Gesamtleistungswettbewerb - Primarschulhaus Steinmaur\, 
 Abgabe Stufe 2 17.12.2026 - 17.12.2026
DESCRIPTION:Link zum Verfahren: https://konkurado.ch/en/gesamtleistungswett
 bewerb-primarschulhaus-steinmaur
X-MICROSOFT-CDO-ALLDAYEVENT:TRUE
DTSTART;TZID=Europe/Zurich;VALUE=DATE:20261217
END:VEVENT
BEGIN:VEVENT
UID:69e9dddd8984a
DTSTAMP:20260423T085245Z
SUMMARY:KONKURADO: Gesamtleistungswettbewerb - Primarschulhaus Steinmaur\, 
 Abgabe Stufe 2 17.12.2026 - 17.12.2026
DESCRIPTION:Link zum Verfahren: https://konkurado.ch/en/gesamtleistungswett
 bewerb-primarschulhaus-steinmaur
X-MICROSOFT-CDO-ALLDAYEVENT:TRUE
DTSTART;TZID=Europe/Zurich;VALUE=DATE:20261217
END:VEVENT
BEGIN:VEVENT
UID:69e9dddd8989f
DTSTAMP:20260423T085245Z
SUMMARY:KONKURADO: Gesamtleistungswettbewerb - Primarschulhaus Steinmaur\, 
 Abgabe Modell 08.01.2027 - 08.01.2027
DESCRIPTION:Link zum Verfahren: https://konkurado.ch/en/gesamtleistungswett
 bewerb-primarschulhaus-steinmaur
X-MICROSOFT-CDO-ALLDAYEVENT:TRUE
DTSTART;TZID=Europe/Zurich;VALUE=DATE:20270108
END:VEVENT
BEGIN:VEVENT
UID:69e9dddd898c8
DTSTAMP:20260423T085245Z
SUMMARY:KONKURADO: Gesamtleistungswettbewerb - Primarschulhaus Steinmaur\, 
 Abgabe Modell 08.01.2027 - 08.01.2027
DESCRIPTION:Link zum Verfahren: https://konkurado.ch/en/gesamtleistungswett
 bewerb-primarschulhaus-steinmaur
X-MICROSOFT-CDO-ALLDAYEVENT:TRUE
DTSTART;TZID=Europe/Zurich;VALUE=DATE:20270108
END:VEVENT
END:VCALENDAR