BEGIN:VCALENDAR
VERSION:2.0
PRODID:spatie/icalendar-generator
NAME:FV Kt ZH\, BKP 294 (594)
X-WR-CALNAME:FV Kt ZH\, BKP 294 (594)
BEGIN:VTIMEZONE
TZID:Europe/Zurich
BEGIN:STANDARD
DTSTART:20251026T030000
TZOFFSETFROM:+0200
TZOFFSETTO:+0100
END:STANDARD
BEGIN:DAYLIGHT
DTSTART:20260329T010000
TZOFFSETFROM:+0100
TZOFFSETTO:+0200
END:DAYLIGHT
BEGIN:STANDARD
DTSTART:20261025T030000
TZOFFSETFROM:+0200
TZOFFSETTO:+0100
END:STANDARD
END:VTIMEZONE
BEGIN:VTIMEZONE
TZID:UTC
BEGIN:STANDARD
DTSTART:20250727T101614
TZOFFSETFROM:+0000
TZOFFSETTO:+0000
END:STANDARD
END:VTIMEZONE
BEGIN:VEVENT
UID:69e9f16e7ca93
DTSTAMP:20260423T101614Z
SUMMARY:KONKURADO: FV Kt ZH\, BKP 294 (594)\, Fragerunde\, einreichen bis 0
 4.05.2026 - 04.05.2026
DESCRIPTION:Link zum Verfahren: https://konkurado.ch/en/fv-kt-zh-bkp-294-59
 4
X-MICROSOFT-CDO-ALLDAYEVENT:TRUE
DTSTART;TZID=Europe/Zurich;VALUE=DATE:20260504
END:VEVENT
BEGIN:VEVENT
UID:69e9f16e7cb23
DTSTAMP:20260423T101614Z
SUMMARY:KONKURADO: FV Kt ZH\, BKP 294 (594)\, Fragerunde\, einreichen bis 0
 4.05.2026 - 04.05.2026
DESCRIPTION:Link zum Verfahren: https://konkurado.ch/en/fv-kt-zh-bkp-294-59
 4
X-MICROSOFT-CDO-ALLDAYEVENT:TRUE
DTSTART;TZID=Europe/Zurich;VALUE=DATE:20260504
END:VEVENT
BEGIN:VEVENT
UID:69e9f16e7cb9b
DTSTAMP:20260423T101614Z
SUMMARY:KONKURADO: FV Kt ZH\, BKP 294 (594)\, Einreichen von Angeboten bis 
 01.06.2026 - 01.06.2026
DESCRIPTION:Link zum Verfahren: https://konkurado.ch/en/fv-kt-zh-bkp-294-59
 4
X-MICROSOFT-CDO-ALLDAYEVENT:TRUE
DTSTART;TZID=Europe/Zurich;VALUE=DATE:20260601
END:VEVENT
BEGIN:VEVENT
UID:69e9f16e7cbc3
DTSTAMP:20260423T101614Z
SUMMARY:KONKURADO: FV Kt ZH\, BKP 294 (594)\, Einreichen von Angeboten bis 
 01.06.2026 - 01.06.2026
DESCRIPTION:Link zum Verfahren: https://konkurado.ch/en/fv-kt-zh-bkp-294-59
 4
X-MICROSOFT-CDO-ALLDAYEVENT:TRUE
DTSTART;TZID=Europe/Zurich;VALUE=DATE:20260601
END:VEVENT
BEGIN:VEVENT
UID:69e9f16e7cc38
DTSTAMP:20260423T101614Z
SUMMARY:KONKURADO: FV Kt ZH\, BKP 294 (594)\, Verfügbarkeit der Ausschreib
 ungsunterlagen 13.04.2026 - 29.05.2026
DESCRIPTION:Link zum Verfahren: https://konkurado.ch/en/fv-kt-zh-bkp-294-59
 4
X-MICROSOFT-CDO-ALLDAYEVENT:TRUE
DTSTART;TZID=Europe/Zurich;VALUE=DATE:20260413
END:VEVENT
BEGIN:VEVENT
UID:69e9f16e7cc5f
DTSTAMP:20260423T101614Z
SUMMARY:KONKURADO: FV Kt ZH\, BKP 294 (594)\, Verfügbarkeit der Ausschreib
 ungsunterlagen 13.04.2026 - 29.05.2026
DESCRIPTION:Link zum Verfahren: https://konkurado.ch/en/fv-kt-zh-bkp-294-59
 4
X-MICROSOFT-CDO-ALLDAYEVENT:TRUE
DTSTART;TZID=Europe/Zurich;VALUE=DATE:20260529
END:VEVENT
END:VCALENDAR