BEGIN:VCALENDAR
VERSION:2.0
PRODID:spatie/icalendar-generator
NAME:Futur Musée d’histoire naturelle de Fribourg
X-WR-CALNAME:Futur Musée d’histoire naturelle de Fribourg
BEGIN:VTIMEZONE
TZID:Europe/Zurich
BEGIN:STANDARD
DTSTART:20241027T030000
TZOFFSETFROM:+0200
TZOFFSETTO:+0100
END:STANDARD
BEGIN:DAYLIGHT
DTSTART:20250330T010000
TZOFFSETFROM:+0100
TZOFFSETTO:+0200
END:DAYLIGHT
BEGIN:STANDARD
DTSTART:20251026T030000
TZOFFSETFROM:+0200
TZOFFSETTO:+0100
END:STANDARD
BEGIN:DAYLIGHT
DTSTART:20260329T010000
TZOFFSETFROM:+0100
TZOFFSETTO:+0200
END:DAYLIGHT
END:VTIMEZONE
BEGIN:VTIMEZONE
TZID:UTC
BEGIN:STANDARD
DTSTART:20250727T120231
TZOFFSETFROM:+0000
TZOFFSETTO:+0000
END:STANDARD
END:VTIMEZONE
BEGIN:VEVENT
UID:69ea0a5748820
DTSTAMP:20260423T120231Z
SUMMARY:KONKURADO: Futur Musée d’histoire naturelle de Fribourg\, Délai
  pour les questions 06.06.2025 - 23.06.2025
DESCRIPTION:Link zum Verfahren: https://konkurado.ch/en/futur-musee-dhistoi
 re-naturelle-de-fribourg
X-MICROSOFT-CDO-ALLDAYEVENT:TRUE
DTSTART;TZID=Europe/Zurich;VALUE=DATE:20250606
END:VEVENT
BEGIN:VEVENT
UID:69ea0a574889c
DTSTAMP:20260423T120231Z
SUMMARY:KONKURADO: Futur Musée d’histoire naturelle de Fribourg\, Délai
  pour les questions 06.06.2025 - 23.06.2025
DESCRIPTION:Link zum Verfahren: https://konkurado.ch/en/futur-musee-dhistoi
 re-naturelle-de-fribourg
X-MICROSOFT-CDO-ALLDAYEVENT:TRUE
DTSTART;TZID=Europe/Zurich;VALUE=DATE:20250623
END:VEVENT
BEGIN:VEVENT
UID:69ea0a57488d9
DTSTAMP:20260423T120231Z
SUMMARY:KONKURADO: Futur Musée d’histoire naturelle de Fribourg\, Rendu 
 des dossiers d’idées 06.06.2025 - 15.09.2025
DESCRIPTION:Link zum Verfahren: https://konkurado.ch/en/futur-musee-dhistoi
 re-naturelle-de-fribourg
X-MICROSOFT-CDO-ALLDAYEVENT:TRUE
DTSTART;TZID=Europe/Zurich;VALUE=DATE:20250606
END:VEVENT
BEGIN:VEVENT
UID:69ea0a5748909
DTSTAMP:20260423T120231Z
SUMMARY:KONKURADO: Futur Musée d’histoire naturelle de Fribourg\, Rendu 
 des dossiers d’idées 06.06.2025 - 15.09.2025
DESCRIPTION:Link zum Verfahren: https://konkurado.ch/en/futur-musee-dhistoi
 re-naturelle-de-fribourg
X-MICROSOFT-CDO-ALLDAYEVENT:TRUE
DTSTART;TZID=Europe/Zurich;VALUE=DATE:20250915
END:VEVENT
BEGIN:VEVENT
UID:69ea0a5748953
DTSTAMP:20260423T120231Z
SUMMARY:KONKURADO: Futur Musée d’histoire naturelle de Fribourg\, Séanc
 e du jury 21.06.2025 - 23.09.2025
DESCRIPTION:Link zum Verfahren: https://konkurado.ch/en/futur-musee-dhistoi
 re-naturelle-de-fribourg
X-MICROSOFT-CDO-ALLDAYEVENT:TRUE
DTSTART;TZID=Europe/Zurich;VALUE=DATE:20250621
END:VEVENT
BEGIN:VEVENT
UID:69ea0a5748978
DTSTAMP:20260423T120231Z
SUMMARY:KONKURADO: Futur Musée d’histoire naturelle de Fribourg\, Séanc
 e du jury 21.06.2025 - 23.09.2025
DESCRIPTION:Link zum Verfahren: https://konkurado.ch/en/futur-musee-dhistoi
 re-naturelle-de-fribourg
X-MICROSOFT-CDO-ALLDAYEVENT:TRUE
DTSTART;TZID=Europe/Zurich;VALUE=DATE:20250923
END:VEVENT
BEGIN:VEVENT
UID:69ea0a5748ae5
DTSTAMP:20260423T120231Z
SUMMARY:KONKURADO: Futur Musée d’histoire naturelle de Fribourg\, Délai
  pour les réponses aux candidat-e-s 09.07.2025 - 15.09.2025
DESCRIPTION:Link zum Verfahren: https://konkurado.ch/en/futur-musee-dhistoi
 re-naturelle-de-fribourg
X-MICROSOFT-CDO-ALLDAYEVENT:TRUE
DTSTART;TZID=Europe/Zurich;VALUE=DATE:20250709
END:VEVENT
BEGIN:VEVENT
UID:69ea0a5748b12
DTSTAMP:20260423T120231Z
SUMMARY:KONKURADO: Futur Musée d’histoire naturelle de Fribourg\, Délai
  pour les réponses aux candidat-e-s 09.07.2025 - 15.09.2025
DESCRIPTION:Link zum Verfahren: https://konkurado.ch/en/futur-musee-dhistoi
 re-naturelle-de-fribourg
X-MICROSOFT-CDO-ALLDAYEVENT:TRUE
DTSTART;TZID=Europe/Zurich;VALUE=DATE:20250915
END:VEVENT
BEGIN:VEVENT
UID:69ea0a5748b55
DTSTAMP:20260423T120231Z
SUMMARY:KONKURADO: Futur Musée d’histoire naturelle de Fribourg\, Délai
  pour les questions des candidat-e-s sélectionné-e-s 10.10.2025 - 10.10.
 2025
DESCRIPTION:Link zum Verfahren: https://konkurado.ch/en/futur-musee-dhistoi
 re-naturelle-de-fribourg
X-MICROSOFT-CDO-ALLDAYEVENT:TRUE
DTSTART;TZID=Europe/Zurich;VALUE=DATE:20251010
END:VEVENT
BEGIN:VEVENT
UID:69ea0a5748b7a
DTSTAMP:20260423T120231Z
SUMMARY:KONKURADO: Futur Musée d’histoire naturelle de Fribourg\, Délai
  pour les questions des candidat-e-s sélectionné-e-s 10.10.2025 - 10.10.
 2025
DESCRIPTION:Link zum Verfahren: https://konkurado.ch/en/futur-musee-dhistoi
 re-naturelle-de-fribourg
X-MICROSOFT-CDO-ALLDAYEVENT:TRUE
DTSTART;TZID=Europe/Zurich;VALUE=DATE:20251010
END:VEVENT
BEGIN:VEVENT
UID:69ea0a5748bdc
DTSTAMP:20260423T120231Z
SUMMARY:KONKURADO: Futur Musée d’histoire naturelle de Fribourg\, Délai
  pour les réponses aux candidat-e-s sélectionné-e-s 20.10.2025 - 20.10.
 2025
DESCRIPTION:Link zum Verfahren: https://konkurado.ch/en/futur-musee-dhistoi
 re-naturelle-de-fribourg
X-MICROSOFT-CDO-ALLDAYEVENT:TRUE
DTSTART;TZID=Europe/Zurich;VALUE=DATE:20251020
END:VEVENT
BEGIN:VEVENT
UID:69ea0a5748c03
DTSTAMP:20260423T120231Z
SUMMARY:KONKURADO: Futur Musée d’histoire naturelle de Fribourg\, Délai
  pour les réponses aux candidat-e-s sélectionné-e-s 20.10.2025 - 20.10.
 2025
DESCRIPTION:Link zum Verfahren: https://konkurado.ch/en/futur-musee-dhistoi
 re-naturelle-de-fribourg
X-MICROSOFT-CDO-ALLDAYEVENT:TRUE
DTSTART;TZID=Europe/Zurich;VALUE=DATE:20251020
END:VEVENT
BEGIN:VEVENT
UID:69ea0a5748c32
DTSTAMP:20260423T120231Z
SUMMARY:KONKURADO: Futur Musée d’histoire naturelle de Fribourg\, Rendu 
 des projets sélectionnés 23.01.2026 - 23.01.2026
DESCRIPTION:Link zum Verfahren: https://konkurado.ch/en/futur-musee-dhistoi
 re-naturelle-de-fribourg
X-MICROSOFT-CDO-ALLDAYEVENT:TRUE
DTSTART;TZID=Europe/Zurich;VALUE=DATE:20260123
END:VEVENT
BEGIN:VEVENT
UID:69ea0a5748c56
DTSTAMP:20260423T120231Z
SUMMARY:KONKURADO: Futur Musée d’histoire naturelle de Fribourg\, Rendu 
 des projets sélectionnés 23.01.2026 - 23.01.2026
DESCRIPTION:Link zum Verfahren: https://konkurado.ch/en/futur-musee-dhistoi
 re-naturelle-de-fribourg
X-MICROSOFT-CDO-ALLDAYEVENT:TRUE
DTSTART;TZID=Europe/Zurich;VALUE=DATE:20260123
END:VEVENT
BEGIN:VEVENT
UID:69ea0a5748cac
DTSTAMP:20260423T120231Z
SUMMARY:KONKURADO: Futur Musée d’histoire naturelle de Fribourg\, Séanc
 e de présentation au jury 09.02.2026 - 09.02.2026
DESCRIPTION:Link zum Verfahren: https://konkurado.ch/en/futur-musee-dhistoi
 re-naturelle-de-fribourg
X-MICROSOFT-CDO-ALLDAYEVENT:TRUE
DTSTART;TZID=Europe/Zurich;VALUE=DATE:20260209
END:VEVENT
BEGIN:VEVENT
UID:69ea0a5748cd1
DTSTAMP:20260423T120231Z
SUMMARY:KONKURADO: Futur Musée d’histoire naturelle de Fribourg\, Séanc
 e de présentation au jury 09.02.2026 - 09.02.2026
DESCRIPTION:Link zum Verfahren: https://konkurado.ch/en/futur-musee-dhistoi
 re-naturelle-de-fribourg
X-MICROSOFT-CDO-ALLDAYEVENT:TRUE
DTSTART;TZID=Europe/Zurich;VALUE=DATE:20260209
END:VEVENT
END:VCALENDAR