BEGIN:VCALENDAR
VERSION:2.0
PRODID:spatie/icalendar-generator
NAME:Fondation Echaud - Nouvelle construction d'accueil des unités de vie 
 et rénovation d'un bâtiment existant
X-WR-CALNAME:Fondation Echaud - Nouvelle construction d'accueil des unités
  de vie et rénovation d'un bâtiment existant
BEGIN:VTIMEZONE
TZID:Europe/Zurich
BEGIN:STANDARD
DTSTART:20251026T030000
TZOFFSETFROM:+0200
TZOFFSETTO:+0100
END:STANDARD
BEGIN:DAYLIGHT
DTSTART:20260329T010000
TZOFFSETFROM:+0100
TZOFFSETTO:+0200
END:DAYLIGHT
BEGIN:STANDARD
DTSTART:20261025T030000
TZOFFSETFROM:+0200
TZOFFSETTO:+0100
END:STANDARD
END:VTIMEZONE
BEGIN:VTIMEZONE
TZID:UTC
BEGIN:STANDARD
DTSTART:20250727T101712
TZOFFSETFROM:+0000
TZOFFSETTO:+0000
END:STANDARD
END:VTIMEZONE
BEGIN:VEVENT
UID:69e9f1a845632
DTSTAMP:20260423T101712Z
SUMMARY:KONKURADO: Fondation Echaud - Nouvelle construction d'accueil des u
 nités de vie et rénovation d'un bâtiment existant\, Soumission de quest
 ions jusqu’au 17.04.2026 - 17.04.2026
DESCRIPTION:Link zum Verfahren: https://konkurado.ch/en/fondation-echaud-no
 uvelle-construction-daccueil-des-unites-de-vie-et-renovation-dun-batiment-
 existant
X-MICROSOFT-CDO-ALLDAYEVENT:TRUE
DTSTART;TZID=Europe/Zurich;VALUE=DATE:20260417
END:VEVENT
BEGIN:VEVENT
UID:69e9f1a84570d
DTSTAMP:20260423T101712Z
SUMMARY:KONKURADO: Fondation Echaud - Nouvelle construction d'accueil des u
 nités de vie et rénovation d'un bâtiment existant\, Soumission de quest
 ions jusqu’au 17.04.2026 - 17.04.2026
DESCRIPTION:Link zum Verfahren: https://konkurado.ch/en/fondation-echaud-no
 uvelle-construction-daccueil-des-unites-de-vie-et-renovation-dun-batiment-
 existant
X-MICROSOFT-CDO-ALLDAYEVENT:TRUE
DTSTART;TZID=Europe/Zurich;VALUE=DATE:20260417
END:VEVENT
BEGIN:VEVENT
UID:69e9f1a8457b8
DTSTAMP:20260423T101712Z
SUMMARY:KONKURADO: Fondation Echaud - Nouvelle construction d'accueil des u
 nités de vie et rénovation d'un bâtiment existant\, Soumission des offr
 es jusqu’au 18.05.2026 - 18.05.2026
DESCRIPTION:Link zum Verfahren: https://konkurado.ch/en/fondation-echaud-no
 uvelle-construction-daccueil-des-unites-de-vie-et-renovation-dun-batiment-
 existant
X-MICROSOFT-CDO-ALLDAYEVENT:TRUE
DTSTART;TZID=Europe/Zurich;VALUE=DATE:20260518
END:VEVENT
BEGIN:VEVENT
UID:69e9f1a8457fb
DTSTAMP:20260423T101712Z
SUMMARY:KONKURADO: Fondation Echaud - Nouvelle construction d'accueil des u
 nités de vie et rénovation d'un bâtiment existant\, Soumission des offr
 es jusqu’au 18.05.2026 - 18.05.2026
DESCRIPTION:Link zum Verfahren: https://konkurado.ch/en/fondation-echaud-no
 uvelle-construction-daccueil-des-unites-de-vie-et-renovation-dun-batiment-
 existant
X-MICROSOFT-CDO-ALLDAYEVENT:TRUE
DTSTART;TZID=Europe/Zurich;VALUE=DATE:20260518
END:VEVENT
BEGIN:VEVENT
UID:69e9f1a845887
DTSTAMP:20260423T101712Z
SUMMARY:KONKURADO: Fondation Echaud - Nouvelle construction d'accueil des u
 nités de vie et rénovation d'un bâtiment existant\, Ouverture des offre
 s 18.05.2026 - 18.05.2026
DESCRIPTION:Link zum Verfahren: https://konkurado.ch/en/fondation-echaud-no
 uvelle-construction-daccueil-des-unites-de-vie-et-renovation-dun-batiment-
 existant
X-MICROSOFT-CDO-ALLDAYEVENT:TRUE
DTSTART;TZID=Europe/Zurich;VALUE=DATE:20260518
END:VEVENT
BEGIN:VEVENT
UID:69e9f1a8458c3
DTSTAMP:20260423T101712Z
SUMMARY:KONKURADO: Fondation Echaud - Nouvelle construction d'accueil des u
 nités de vie et rénovation d'un bâtiment existant\, Ouverture des offre
 s 18.05.2026 - 18.05.2026
DESCRIPTION:Link zum Verfahren: https://konkurado.ch/en/fondation-echaud-no
 uvelle-construction-daccueil-des-unites-de-vie-et-renovation-dun-batiment-
 existant
X-MICROSOFT-CDO-ALLDAYEVENT:TRUE
DTSTART;TZID=Europe/Zurich;VALUE=DATE:20260518
END:VEVENT
END:VCALENDAR