BEGIN:VCALENDAR
VERSION:2.0
PRODID:spatie/icalendar-generator
NAME:FIPOI - CICG 2028 - Mandat de prestations d’ingénieur électricien 
 - CFC293
X-WR-CALNAME:FIPOI - CICG 2028 - Mandat de prestations d’ingénieur élec
 tricien - CFC293
BEGIN:VTIMEZONE
TZID:Europe/Zurich
BEGIN:STANDARD
DTSTART:20251026T030000
TZOFFSETFROM:+0200
TZOFFSETTO:+0100
END:STANDARD
BEGIN:DAYLIGHT
DTSTART:20260329T010000
TZOFFSETFROM:+0100
TZOFFSETTO:+0200
END:DAYLIGHT
BEGIN:STANDARD
DTSTART:20261025T030000
TZOFFSETFROM:+0200
TZOFFSETTO:+0100
END:STANDARD
END:VTIMEZONE
BEGIN:VTIMEZONE
TZID:UTC
BEGIN:STANDARD
DTSTART:20250727T110949
TZOFFSETFROM:+0000
TZOFFSETTO:+0000
END:STANDARD
END:VTIMEZONE
BEGIN:VEVENT
UID:69e9fdfdba2e3
DTSTAMP:20260423T110949Z
SUMMARY:KONKURADO: FIPOI - CICG 2028 - Mandat de prestations d’ingénieur
  électricien - CFC293\, Session de questions\, soumettre avant 24.04.2026
  - 24.04.2026
DESCRIPTION:Link zum Verfahren: https://konkurado.ch/en/fipoi-cicg-2028-man
 dat-de-prestations-dingenieur-electricien-cfc293
X-MICROSOFT-CDO-ALLDAYEVENT:TRUE
DTSTART;TZID=Europe/Zurich;VALUE=DATE:20260424
END:VEVENT
BEGIN:VEVENT
UID:69e9fdfdba396
DTSTAMP:20260423T110949Z
SUMMARY:KONKURADO: FIPOI - CICG 2028 - Mandat de prestations d’ingénieur
  électricien - CFC293\, Session de questions\, soumettre avant 24.04.2026
  - 24.04.2026
DESCRIPTION:Link zum Verfahren: https://konkurado.ch/en/fipoi-cicg-2028-man
 dat-de-prestations-dingenieur-electricien-cfc293
X-MICROSOFT-CDO-ALLDAYEVENT:TRUE
DTSTART;TZID=Europe/Zurich;VALUE=DATE:20260424
END:VEVENT
BEGIN:VEVENT
UID:69e9fdfdba445
DTSTAMP:20260423T110949Z
SUMMARY:KONKURADO: FIPOI - CICG 2028 - Mandat de prestations d’ingénieur
  électricien - CFC293\, Soumission de la demande de participation 08.05.2
 026 - 08.05.2026
DESCRIPTION:Link zum Verfahren: https://konkurado.ch/en/fipoi-cicg-2028-man
 dat-de-prestations-dingenieur-electricien-cfc293
X-MICROSOFT-CDO-ALLDAYEVENT:TRUE
DTSTART;TZID=Europe/Zurich;VALUE=DATE:20260508
END:VEVENT
BEGIN:VEVENT
UID:69e9fdfdba485
DTSTAMP:20260423T110949Z
SUMMARY:KONKURADO: FIPOI - CICG 2028 - Mandat de prestations d’ingénieur
  électricien - CFC293\, Soumission de la demande de participation 08.05.2
 026 - 08.05.2026
DESCRIPTION:Link zum Verfahren: https://konkurado.ch/en/fipoi-cicg-2028-man
 dat-de-prestations-dingenieur-electricien-cfc293
X-MICROSOFT-CDO-ALLDAYEVENT:TRUE
DTSTART;TZID=Europe/Zurich;VALUE=DATE:20260508
END:VEVENT
BEGIN:VEVENT
UID:69e9fdfdba506
DTSTAMP:20260423T110949Z
SUMMARY:KONKURADO: FIPOI - CICG 2028 - Mandat de prestations d’ingénieur
  électricien - CFC293\, Disponibilité des documents d’appel d’offres
  13.04.2026 - 08.05.2026
DESCRIPTION:Link zum Verfahren: https://konkurado.ch/en/fipoi-cicg-2028-man
 dat-de-prestations-dingenieur-electricien-cfc293
X-MICROSOFT-CDO-ALLDAYEVENT:TRUE
DTSTART;TZID=Europe/Zurich;VALUE=DATE:20260413
END:VEVENT
BEGIN:VEVENT
UID:69e9fdfdba546
DTSTAMP:20260423T110949Z
SUMMARY:KONKURADO: FIPOI - CICG 2028 - Mandat de prestations d’ingénieur
  électricien - CFC293\, Disponibilité des documents d’appel d’offres
  13.04.2026 - 08.05.2026
DESCRIPTION:Link zum Verfahren: https://konkurado.ch/en/fipoi-cicg-2028-man
 dat-de-prestations-dingenieur-electricien-cfc293
X-MICROSOFT-CDO-ALLDAYEVENT:TRUE
DTSTART;TZID=Europe/Zurich;VALUE=DATE:20260508
END:VEVENT
END:VCALENDAR