BEGIN:VCALENDAR
VERSION:2.0
PRODID:spatie/icalendar-generator
NAME:FIPOI - CICG 2028 - Mandat de prestations d’ingénieur CVC - CFC294
X-WR-CALNAME:FIPOI - CICG 2028 - Mandat de prestations d’ingénieur CVC -
  CFC294
BEGIN:VTIMEZONE
TZID:Europe/Zurich
BEGIN:STANDARD
DTSTART:20251026T030000
TZOFFSETFROM:+0200
TZOFFSETTO:+0100
END:STANDARD
BEGIN:DAYLIGHT
DTSTART:20260329T010000
TZOFFSETFROM:+0100
TZOFFSETTO:+0200
END:DAYLIGHT
BEGIN:STANDARD
DTSTART:20261025T030000
TZOFFSETFROM:+0200
TZOFFSETTO:+0100
END:STANDARD
END:VTIMEZONE
BEGIN:VTIMEZONE
TZID:UTC
BEGIN:STANDARD
DTSTART:20250727T101658
TZOFFSETFROM:+0000
TZOFFSETTO:+0000
END:STANDARD
END:VTIMEZONE
BEGIN:VEVENT
UID:69e9f19a626ae
DTSTAMP:20260423T101658Z
SUMMARY:KONKURADO: FIPOI - CICG 2028 - Mandat de prestations d’ingénieur
  CVC - CFC294\, Session de questions\, soumettre avant 30.04.2026 - 30.04.
 2026
DESCRIPTION:Link zum Verfahren: https://konkurado.ch/en/fipoi-cicg-2028-man
 dat-de-prestations-dingenieur-cvc-cfc294
X-MICROSOFT-CDO-ALLDAYEVENT:TRUE
DTSTART;TZID=Europe/Zurich;VALUE=DATE:20260430
END:VEVENT
BEGIN:VEVENT
UID:69e9f19a6272e
DTSTAMP:20260423T101658Z
SUMMARY:KONKURADO: FIPOI - CICG 2028 - Mandat de prestations d’ingénieur
  CVC - CFC294\, Session de questions\, soumettre avant 30.04.2026 - 30.04.
 2026
DESCRIPTION:Link zum Verfahren: https://konkurado.ch/en/fipoi-cicg-2028-man
 dat-de-prestations-dingenieur-cvc-cfc294
X-MICROSOFT-CDO-ALLDAYEVENT:TRUE
DTSTART;TZID=Europe/Zurich;VALUE=DATE:20260430
END:VEVENT
BEGIN:VEVENT
UID:69e9f19a6279d
DTSTAMP:20260423T101658Z
SUMMARY:KONKURADO: FIPOI - CICG 2028 - Mandat de prestations d’ingénieur
  CVC - CFC294\, Soumission de la demande de participation 18.05.2026 - 18.
 05.2026
DESCRIPTION:Link zum Verfahren: https://konkurado.ch/en/fipoi-cicg-2028-man
 dat-de-prestations-dingenieur-cvc-cfc294
X-MICROSOFT-CDO-ALLDAYEVENT:TRUE
DTSTART;TZID=Europe/Zurich;VALUE=DATE:20260518
END:VEVENT
BEGIN:VEVENT
UID:69e9f19a627c9
DTSTAMP:20260423T101658Z
SUMMARY:KONKURADO: FIPOI - CICG 2028 - Mandat de prestations d’ingénieur
  CVC - CFC294\, Soumission de la demande de participation 18.05.2026 - 18.
 05.2026
DESCRIPTION:Link zum Verfahren: https://konkurado.ch/en/fipoi-cicg-2028-man
 dat-de-prestations-dingenieur-cvc-cfc294
X-MICROSOFT-CDO-ALLDAYEVENT:TRUE
DTSTART;TZID=Europe/Zurich;VALUE=DATE:20260518
END:VEVENT
BEGIN:VEVENT
UID:69e9f19a62820
DTSTAMP:20260423T101658Z
SUMMARY:KONKURADO: FIPOI - CICG 2028 - Mandat de prestations d’ingénieur
  CVC - CFC294\, Ouverture des offres 18.05.2026 - 18.05.2026
DESCRIPTION:Link zum Verfahren: https://konkurado.ch/en/fipoi-cicg-2028-man
 dat-de-prestations-dingenieur-cvc-cfc294
X-MICROSOFT-CDO-ALLDAYEVENT:TRUE
DTSTART;TZID=Europe/Zurich;VALUE=DATE:20260518
END:VEVENT
BEGIN:VEVENT
UID:69e9f19a62846
DTSTAMP:20260423T101658Z
SUMMARY:KONKURADO: FIPOI - CICG 2028 - Mandat de prestations d’ingénieur
  CVC - CFC294\, Ouverture des offres 18.05.2026 - 18.05.2026
DESCRIPTION:Link zum Verfahren: https://konkurado.ch/en/fipoi-cicg-2028-man
 dat-de-prestations-dingenieur-cvc-cfc294
X-MICROSOFT-CDO-ALLDAYEVENT:TRUE
DTSTART;TZID=Europe/Zurich;VALUE=DATE:20260518
END:VEVENT
BEGIN:VEVENT
UID:69e9f19a62898
DTSTAMP:20260423T101658Z
SUMMARY:KONKURADO: FIPOI - CICG 2028 - Mandat de prestations d’ingénieur
  CVC - CFC294\, Disponibilité des documents d’appel d’offres 20.04.20
 26 - 18.05.2026
DESCRIPTION:Link zum Verfahren: https://konkurado.ch/en/fipoi-cicg-2028-man
 dat-de-prestations-dingenieur-cvc-cfc294
X-MICROSOFT-CDO-ALLDAYEVENT:TRUE
DTSTART;TZID=Europe/Zurich;VALUE=DATE:20260420
END:VEVENT
BEGIN:VEVENT
UID:69e9f19a628be
DTSTAMP:20260423T101658Z
SUMMARY:KONKURADO: FIPOI - CICG 2028 - Mandat de prestations d’ingénieur
  CVC - CFC294\, Disponibilité des documents d’appel d’offres 20.04.20
 26 - 18.05.2026
DESCRIPTION:Link zum Verfahren: https://konkurado.ch/en/fipoi-cicg-2028-man
 dat-de-prestations-dingenieur-cvc-cfc294
X-MICROSOFT-CDO-ALLDAYEVENT:TRUE
DTSTART;TZID=Europe/Zurich;VALUE=DATE:20260518
END:VEVENT
END:VCALENDAR